{"text_format":"1","workbook":"xlsx","n_sheets":6,"sheets":["Diárias-2020","RELATÓRIO","CARGA - RUBRICAS","Banco de Matriculas ","REFERÊNCIA","temp"],"not_rendered":{"charts":0,"images":1,"macros":1,"external_links":0,"defined_names":1,"comments":2,"pivot_tables":0},"unopened":[],"bounds":{"document_bytes":16777216,"sheet_cells":100000,"rows_first":2000,"rows_last":500,"rows_between":2000,"halvings":0,"cell_chars":16384,"cell_head_chars":4096},"cells_cut":0,"cells_raw":0,"read":"whole","date_system":"1900"}

{"sheet":"Diárias-2020","index":0,"n_rows":513,"n_cols":25,"rows_kept":513,"cut":false,"hidden":false,"merged":[[6,4,6,23],[7,4,7,23],[8,4,8,23],[10,4,10,23]]}
[]
[]
[]
[]
[]
[]
[null,null,null,null,"TRIBUNAL REGIONAL FEDERAL "]
[null,null,null,null,"JUSTIÇA FEDERAL DO ESTADO DE MATO GROSSO "]
[null,null,null,null,"SEÇÃO DE EXECUÇÃO ORÇAMENTÁRIA E FINANCEIRA - SEOFI"]
[]
[null,null,null,null,"RELAÇÃO DE DIÁRIAS PAGAS NO PERÍODO DE 16/01/2020 ATÉ 31/01/2020 "]
[]
["Nº","MÊS","DATA","PAG/REST.","Unidade Requisitante","Matrícula","Nome do favorecido","CPF","DOC. SIAFI","PAE","Finalidade do serviço ou atividade a ser desenvolvida","Roteiro","Início do Período","Fim do Período","Meio de transporte a ser utilizado","Valor unitário","Quantidade de diárias ","Valor correspondente à eventual dedução de auxílio-alimentação, indenização de transporte e auxílio-transporte","Outras Deduções ","Valor total das diárias","Nome do ordenador de despesas","Hipóteses elencadas no § 1º do art. 10 da Resolução 340/2015 do Conselho da Justiça Federal.\n(Equipe de Trabalho)","Hipóteses elencadas no § 3º do art. 10 da Resolução 340/2015 do Conselho da Justiça Federal.\n(Servidor acompanhamento Magistrado)","Hipóteses elencadas no § 5º do art. 10 da Resolução 340/2015 do Conselho da Justiça Federal.\n(Agente de segurança acompanhando magistrado ou Desembargador Federal)","OBSERVAÇÃO"]
[1,"JANEIRO","2020-01-22","PAG.","SECAD","MT36360",{"$f":"VLOOKUP(F14,'Banco de Matriculas '!A:C,2,FALSE)","v":"RODRIGO GUSMAO ABDO"},{"$f":"VLOOKUP(F14,'Banco de Matriculas '!A:C,3,FALSE)","v":"929.607.661-72"},"AV 01","7009.13.2019","Vistoriar telhado da UAA de Tangará da Serra-MT,","Cuiabá/Tangará da Serra/Cuiabá","2020-01-15","2020-01-15","Veículo oficial",506.44,0.5,41.36,null,211.86,"Pedro Francisco da Silva","Não","Não","Não"]
[2,"JANEIRO","2020-01-28","PAG.","SECAD","MT36178",{"$f":"VLOOKUP(F15,'Banco de Matriculas '!A:C,2,FALSE)","v":"ROBSON ALBERTO OLIVEIRA DA CRUZ"},{"$f":"VLOOKUP(F15,'Banco de Matriculas '!A:C,3,FALSE)","v":"545.166.331-91"},"AV 02","329.75.2020","Vistoriar obra em Sinop-MT e fazer levantamento de reforma no prédio onde atualmente funciona a Justiça Federal","Cuiabá/Sinop/Cuiabá","2020-01-27","2020-01-31","Rodoviario",506.44,4.5,206.8,null,2445.2399999999998,"Pedro Francisco da Silva","Não","Não","Não"]
[3,"JANEIRO","2020-01-28","PAG.","SSJ DIAMANTINO","JU651",{"$f":"VLOOKUP(F16,'Banco de Matriculas '!A:C,2,FALSE)","v":"RODRIGO GASIGLIA DE SOUZA"},{"$f":"VLOOKUP(F16,'Banco de Matriculas '!A:C,3,FALSE)","v":"897.828.951-72"},"AV 03","337.52.2020","Responder pela subseção de Diamantino-MT realizando audiências presenciais","Rondonópolis/Diamantino/Rondonópolis","2020-01-29","2020-01-31","Veículo próprio",700,2.5,124.08,null,1750,"Pedro Francisco da Silva","Não","Não","Não"]
[4,"FEVEREIRO","2020-02-05","PAG.","SECAD-MT","DF1277703",{"$f":"VLOOKUP(F17,'Banco de Matriculas '!A:C,2,FALSE)","v":"JOSÉ AFONSO PIRES FERREIRA JÚNIOR"},{"$f":"VLOOKUP(F17,'Banco de Matriculas '!A:C,3,FALSE)","v":"444.020.311-68"},"AV 04","690.92.2020","Ministrar o Curso de Aposentadorias e Pensões - A Nova Previdência - EC 103/2019","Brasília/Cuiabá/Brasília","2020-02-11","2020-02-15","Aéreo",700,4.5,165.44,null,1782.89,"Pedro Francisco da Silva","Não","Não","Não"]
[5,null,null,null,null,null,{"$f":"VLOOKUP(F18,'Banco de Matriculas '!A:C,2,FALSE)","v":0},{"$f":"VLOOKUP(F18,'Banco de Matriculas '!A:C,3,FALSE)","v":0}]
[6,null,null,null,null,null,{"$f":"VLOOKUP(F19,'Banco de Matriculas '!A:C,2,FALSE)","v":0},{"$f":"VLOOKUP(F19,'Banco de Matriculas '!A:C,3,FALSE)","v":0},null,null,null,null,null,null,null,null,null,null,null,null,null,null,null,null,"Tipo de AVS - Prorrogação"]
[7,null,null,null,null,null,{"$f":"VLOOKUP(F20,'Banco de Matriculas '!A:C,2,FALSE)","v":0},{"$f":"VLOOKUP(F20,'Banco de Matriculas '!A:C,3,FALSE)","v":0},null,null,null,null,null,null,null,null,null,null,null,null,null,null,null,null,"Tipo de AVS - Prorrogação"]
[8,null,null,null,null,null,{"$f":"VLOOKUP(F21,'Banco de Matriculas '!A:C,2,FALSE)","v":0},{"$f":"VLOOKUP(F21,'Banco de Matriculas '!A:C,3,FALSE)","v":0}]
[9,null,null,null,null,null,{"$f":"VLOOKUP(F22,'Banco de Matriculas '!A:C,2,FALSE)","v":0},{"$f":"VLOOKUP(F22,'Banco de Matriculas '!A:C,3,FALSE)","v":0},null,null,null,null,null,null,null,null,null,null,null,null,null,null,null,null,"Tipo de AVS - Prorrogação"]
[10,null,null,null,null,null,{"$f":"VLOOKUP(F23,'Banco de Matriculas '!A:C,2,FALSE)","v":0},{"$f":"VLOOKUP(F23,'Banco de Matriculas '!A:C,3,FALSE)","v":0}]
[11,null,null,null,null,null,{"$f":"VLOOKUP(F24,'Banco de Matriculas '!A:C,2,FALSE)","v":0},{"$f":"VLOOKUP(F24,'Banco de Matriculas '!A:C,3,FALSE)","v":0}]
[12,null,null,null,null,null,{"$f":"VLOOKUP(F25,'Banco de Matriculas '!A:C,2,FALSE)","v":0},{"$f":"VLOOKUP(F25,'Banco de Matriculas '!A:C,3,FALSE)","v":0}]
[13,null,null,null,null,null,{"$f":"VLOOKUP(F26,'Banco de Matriculas '!A:C,2,FALSE)","v":0},{"$f":"VLOOKUP(F26,'Banco de Matriculas '!A:C,3,FALSE)","v":0}]
[14,null,null,null,null,null,{"$f":"VLOOKUP(F27,'Banco de Matriculas '!A:C,2,FALSE)","v":0},{"$f":"VLOOKUP(F27,'Banco de Matriculas '!A:C,3,FALSE)","v":0}]
[15,null,null,null,null,null,{"$f":"VLOOKUP(F28,'Banco de Matriculas '!A:C,2,FALSE)","v":0},{"$f":"VLOOKUP(F28,'Banco de Matriculas '!A:C,3,FALSE)","v":0}]
[16,null,null,null,null,null,{"$f":"VLOOKUP(F29,'Banco de Matriculas '!A:C,2,FALSE)","v":0},{"$f":"VLOOKUP(F29,'Banco de Matriculas '!A:C,3,FALSE)","v":0}]
[17,null,null,null,null,null,{"$f":"VLOOKUP(F30,'Banco de Matriculas '!A:C,2,FALSE)","v":0},{"$f":"VLOOKUP(F30,'Banco de Matriculas '!A:C,3,FALSE)","v":0},null,null,null,null,null,null,null,null,null,null,null,null,null,null,null,null,"Pagamento a menor ao favorecido de R$ 41,36 e não foi justificado a viagem no sábado"]
[18,null,null,null,null,null,{"$f":"VLOOKUP(F31,'Banco de Matriculas '!A:C,2,FALSE)","v":0},{"$f":"VLOOKUP(F31,'Banco de Matriculas '!A:C,3,FALSE)","v":0}]
[19,null,null,null,null,null,{"$f":"VLOOKUP(F32,'Banco de Matriculas '!A:C,2,FALSE)","v":0},{"$f":"VLOOKUP(F32,'Banco de Matriculas '!A:C,3,FALSE)","v":0}]
[20,null,null,null,null,null,{"$f":"VLOOKUP(F33,'Banco de Matriculas '!A:C,2,FALSE)","v":0},{"$f":"VLOOKUP(F33,'Banco de Matriculas '!A:C,3,FALSE)","v":0}]
[21,null,null,null,null,null,{"$f":"VLOOKUP(F34,'Banco de Matriculas '!A:C,2,FALSE)","v":0},{"$f":"VLOOKUP(F34,'Banco de Matriculas '!A:C,3,FALSE)","v":0},null,null,null,null,null,null,null,null,null,null,null,null,null,null,null,null,"Tipo de AVS - Prorrogação"]
[22,null,null,null,null,null,{"$f":"VLOOKUP(F35,'Banco de Matriculas '!A:C,2,FALSE)","v":0},{"$f":"VLOOKUP(F35,'Banco de Matriculas '!A:C,3,FALSE)","v":0},null,null,null,null,null,null,null,null,null,null,null,null,null,null,null,null,"Tipo de AVS - Prorrogação"]
[23,null,null,null,null,null,{"$f":"VLOOKUP(F36,'Banco de Matriculas '!A:C,2,FALSE)","v":0},{"$f":"VLOOKUP(F36,'Banco de Matriculas '!A:C,3,FALSE)","v":0},null,null,null,null,null,null,null,null,null,null,null,null,null,null,null,null,"Tipo de AVS - Prorrogação"]
[24,null,null,null,null,null,{"$f":"VLOOKUP(F37,'Banco de Matriculas '!A:C,2,FALSE)","v":0},{"$f":"VLOOKUP(F37,'Banco de Matriculas '!A:C,3,FALSE)","v":0},null,null,null,null,null,null,null,null,null,null,null,null,null,null,null,null,"Tipo de AVS - Prorrogação"]
[25,null,null,null,null,null,{"$f":"VLOOKUP(F38,'Banco de Matriculas '!A:C,2,FALSE)","v":0},{"$f":"VLOOKUP(F38,'Banco de Matriculas '!A:C,3,FALSE)","v":0},null,null,null,null,null,null,null,null,null,null,null,null,null,null,null,null,"Tipo de AVS - Prorrogação"]
[26,null,null,null,null,null,{"$f":"VLOOKUP(F39,'Banco de Matriculas '!A:C,2,FALSE)","v":0},{"$f":"VLOOKUP(F39,'Banco de Matriculas '!A:C,3,FALSE)","v":0},null,null,null,null,null,null,null,null,null,null,null,null,null,null,null,null,"Tipo de AVS - Prorrogação"]
[27,null,null,null,null,null,{"$f":"VLOOKUP(F40,'Banco de Matriculas '!A:C,2,FALSE)","v":0},{"$f":"VLOOKUP(F40,'Banco de Matriculas '!A:C,3,FALSE)","v":0}]
[28,null,null,null,null,null,{"$f":"VLOOKUP(F41,'Banco de Matriculas '!A:C,2,FALSE)","v":0},{"$f":"VLOOKUP(F41,'Banco de Matriculas '!A:C,3,FALSE)","v":0}]
[29,null,null,null,null,null,{"$f":"VLOOKUP(F42,'Banco de Matriculas '!A:C,2,FALSE)","v":0},{"$f":"VLOOKUP(F42,'Banco de Matriculas '!A:C,3,FALSE)","v":0}]
[30,null,null,null,null,null,{"$f":"VLOOKUP(F43,'Banco de Matriculas '!A:C,2,FALSE)","v":0},{"$f":"VLOOKUP(F43,'Banco de Matriculas '!A:C,3,FALSE)","v":0},null,null,null,null,null,null,null,null,null,null,null,null,null,null,null,null,"Tipo de AVS - Prorrogação"]
[31,null,null,null,null,null,{"$f":"VLOOKUP(F44,'Banco de Matriculas '!A:C,2,FALSE)","v":0},{"$f":"VLOOKUP(F44,'Banco de Matriculas '!A:C,3,FALSE)","v":0},null,null,null,null,null,null,null,null,null,null,null,null,null,null,null,null,"Viagem realizada em 31/05/2019"]
[32,null,null,null,null,null,{"$f":"VLOOKUP(F45,'Banco de Matriculas '!A:C,2,FALSE)","v":0},{"$f":"VLOOKUP(F45,'Banco de Matriculas '!A:C,3,FALSE)","v":0}]
[33,null,null,null,null,null,{"$f":"VLOOKUP(F46,'Banco de Matriculas '!A:C,2,FALSE)","v":0},{"$f":"VLOOKUP(F46,'Banco de Matriculas '!A:C,3,FALSE)","v":0},null,null,null,null,null,null,null,null,null,null,null,null,null,null,null,null,"Devolução de diárias - não comprovou que se hospedou no mesmo hotel que o magistrado"]
[34,null,null,null,null,null,{"$f":"VLOOKUP(F47,'Banco de Matriculas '!A:C,2,FALSE)","v":0},{"$f":"VLOOKUP(F47,'Banco de Matriculas '!A:C,3,FALSE)","v":0},null,null,null,null,null,null,null,null,null,null,null,null,null,null,null,null,"Devolução de diárias"]
[35,null,null,null,null,null,{"$f":"VLOOKUP(F48,'Banco de Matriculas '!A:C,2,FALSE)","v":0},{"$f":"VLOOKUP(F48,'Banco de Matriculas '!A:C,3,FALSE)","v":0}]
[36,null,null,null,null,null,{"$f":"VLOOKUP(F49,'Banco de Matriculas '!A:C,2,FALSE)","v":0},{"$f":"VLOOKUP(F49,'Banco de Matriculas '!A:C,3,FALSE)","v":0}]
[37,null,null,null,null,null,{"$f":"VLOOKUP(F50,'Banco de Matriculas '!A:C,2,FALSE)","v":0},{"$f":"VLOOKUP(F50,'Banco de Matriculas '!A:C,3,FALSE)","v":0}]
[38,null,null,null,null,null,{"$f":"VLOOKUP(F51,'Banco de Matriculas '!A:C,2,FALSE)","v":0},{"$f":"VLOOKUP(F51,'Banco de Matriculas '!A:C,3,FALSE)","v":0}]
[39,null,null,null,null,null,{"$f":"VLOOKUP(F52,'Banco de Matriculas '!A:C,2,FALSE)","v":0},{"$f":"VLOOKUP(F52,'Banco de Matriculas '!A:C,3,FALSE)","v":0}]
[40,null,null,null,null,null,{"$f":"VLOOKUP(F53,'Banco de Matriculas '!A:C,2,FALSE)","v":0},{"$f":"VLOOKUP(F53,'Banco de Matriculas '!A:C,3,FALSE)","v":0}]
[41,null,null,null,null,null,{"$f":"VLOOKUP(F54,'Banco de Matriculas '!A:C,2,FALSE)","v":0},{"$f":"VLOOKUP(F54,'Banco de Matriculas '!A:C,3,FALSE)","v":0}]
[42,null,null,null,null,null,{"$f":"VLOOKUP(F55,'Banco de Matriculas '!A:C,2,FALSE)","v":0},{"$f":"VLOOKUP(F55,'Banco de Matriculas '!A:C,3,FALSE)","v":0}]
[43,null,null,null,null,null,{"$f":"VLOOKUP(F56,'Banco de Matriculas '!A:C,2,FALSE)","v":0},{"$f":"VLOOKUP(F56,'Banco de Matriculas '!A:C,3,FALSE)","v":0}]
[44,null,null,null,null,null,{"$f":"VLOOKUP(F57,'Banco de Matriculas '!A:C,2,FALSE)","v":0},{"$f":"VLOOKUP(F57,'Banco de Matriculas '!A:C,3,FALSE)","v":0}]
[45,null,null,null,null,null,{"$f":"VLOOKUP(F58,'Banco de Matriculas '!A:C,2,FALSE)","v":0},{"$f":"VLOOKUP(F58,'Banco de Matriculas '!A:C,3,FALSE)","v":0}]
[46,null,null,null,null,null,{"$f":"VLOOKUP(F59,'Banco de Matriculas '!A:C,2,FALSE)","v":0},{"$f":"VLOOKUP(F59,'Banco de Matriculas '!A:C,3,FALSE)","v":0}]
[47,null,null,null,null,null,{"$f":"VLOOKUP(F60,'Banco de Matriculas '!A:C,2,FALSE)","v":0},{"$f":"VLOOKUP(F60,'Banco de Matriculas '!A:C,3,FALSE)","v":0}]
[48,null,null,null,null,null,{"$f":"VLOOKUP(F61,'Banco de Matriculas '!A:C,2,FALSE)","v":0},{"$f":"VLOOKUP(F61,'Banco de Matriculas '!A:C,3,FALSE)","v":0}]
[49,null,null,null,null,null,{"$f":"VLOOKUP(F62,'Banco de Matriculas '!A:C,2,FALSE)","v":0},{"$f":"VLOOKUP(F62,'Banco de Matriculas '!A:C,3,FALSE)","v":0}]
[50,null,null,null,null,null,{"$f":"VLOOKUP(F63,'Banco de Matriculas '!A:C,2,FALSE)","v":0},{"$f":"VLOOKUP(F63,'Banco de Matriculas '!A:C,3,FALSE)","v":0}]
[51,null,null,null,null,null,{"$f":"VLOOKUP(F64,'Banco de Matriculas '!A:C,2,FALSE)","v":0},{"$f":"VLOOKUP(F64,'Banco de Matriculas '!A:C,3,FALSE)","v":0},null,null,null,null,null,null,null,null,null,null,null,null,null,null,null,null,"Ordenador de despesas deverá ratificar pagamento da diária"]
[52,null,null,null,null,null,{"$f":"VLOOKUP(F65,'Banco de Matriculas '!A:C,2,FALSE)","v":0},{"$f":"VLOOKUP(F65,'Banco de Matriculas '!A:C,3,FALSE)","v":0}]
[53,null,null,null,null,null,{"$f":"VLOOKUP(F66,'Banco de Matriculas '!A:C,2,FALSE)","v":0},{"$f":"VLOOKUP(F66,'Banco de Matriculas '!A:C,3,FALSE)","v":0}]
[54,null,null,null,null,null,{"$f":"VLOOKUP(F67,'Banco de Matriculas '!A:C,2,FALSE)","v":0},{"$f":"VLOOKUP(F67,'Banco de Matriculas '!A:C,3,FALSE)","v":0}]
[55,null,null,null,null,null,{"$f":"VLOOKUP(F68,'Banco de Matriculas '!A:C,2,FALSE)","v":0},{"$f":"VLOOKUP(F68,'Banco de Matriculas '!A:C,3,FALSE)","v":0}]
[56,null,null,null,null,null,{"$f":"VLOOKUP(F69,'Banco de Matriculas '!A:C,2,FALSE)","v":0},{"$f":"VLOOKUP(F69,'Banco de Matriculas '!A:C,3,FALSE)","v":0}]
[57,null,null,null,null,null,{"$f":"VLOOKUP(F70,'Banco de Matriculas '!A:C,2,FALSE)","v":0},{"$f":"VLOOKUP(F70,'Banco de Matriculas '!A:C,3,FALSE)","v":0}]
[58,null,null,null,null,null,{"$f":"VLOOKUP(F71,'Banco de Matriculas '!A:C,2,FALSE)","v":0},{"$f":"VLOOKUP(F71,'Banco de Matriculas '!A:C,3,FALSE)","v":0}]
[59,null,null,null,null,null,{"$f":"VLOOKUP(F72,'Banco de Matriculas '!A:C,2,FALSE)","v":0},{"$f":"VLOOKUP(F72,'Banco de Matriculas '!A:C,3,FALSE)","v":0}]
[60,null,null,null,null,null,{"$f":"VLOOKUP(F73,'Banco de Matriculas '!A:C,2,FALSE)","v":0},{"$f":"VLOOKUP(F73,'Banco de Matriculas '!A:C,3,FALSE)","v":0}]
[61,null,null,null,null,null,{"$f":"VLOOKUP(F74,'Banco de Matriculas '!A:C,2,FALSE)","v":0},{"$f":"VLOOKUP(F74,'Banco de Matriculas '!A:C,3,FALSE)","v":0}]
[62,null,null,null,null,null,{"$f":"VLOOKUP(F75,'Banco de Matriculas '!A:C,2,FALSE)","v":0},{"$f":"VLOOKUP(F75,'Banco de Matriculas '!A:C,3,FALSE)","v":0}]
[63,null,null,null,null,null,{"$f":"VLOOKUP(F76,'Banco de Matriculas '!A:C,2,FALSE)","v":0},{"$f":"VLOOKUP(F76,'Banco de Matriculas '!A:C,3,FALSE)","v":0}]
[64,null,null,null,null,null,{"$f":"VLOOKUP(F77,'Banco de Matriculas '!A:C,2,FALSE)","v":0},{"$f":"VLOOKUP(F77,'Banco de Matriculas '!A:C,3,FALSE)","v":0}]
[65,null,null,null,null,null,{"$f":"VLOOKUP(F78,'Banco de Matriculas '!A:C,2,FALSE)","v":0},{"$f":"VLOOKUP(F78,'Banco de Matriculas '!A:C,3,FALSE)","v":0}]
[66,null,null,null,null,null,{"$f":"VLOOKUP(F79,'Banco de Matriculas '!A:C,2,FALSE)","v":0},{"$f":"VLOOKUP(F79,'Banco de Matriculas '!A:C,3,FALSE)","v":0}]
[67,null,null,null,null,null,{"$f":"VLOOKUP(F80,'Banco de Matriculas '!A:C,2,FALSE)","v":0},{"$f":"VLOOKUP(F80,'Banco de Matriculas '!A:C,3,FALSE)","v":0}]
[68,null,null,null,null,null,{"$f":"VLOOKUP(F81,'Banco de Matriculas '!A:C,2,FALSE)","v":0},{"$f":"VLOOKUP(F81,'Banco de Matriculas '!A:C,3,FALSE)","v":0}]
[69,null,null,null,null,null,{"$f":"VLOOKUP(F82,'Banco de Matriculas '!A:C,2,FALSE)","v":0},{"$f":"VLOOKUP(F82,'Banco de Matriculas '!A:C,3,FALSE)","v":0}]
[70,null,null,null,null,null,{"$f":"VLOOKUP(F83,'Banco de Matriculas '!A:C,2,FALSE)","v":0},{"$f":"VLOOKUP(F83,'Banco de Matriculas '!A:C,3,FALSE)","v":0}]
[71,null,null,null,null,null,{"$f":"VLOOKUP(F84,'Banco de Matriculas '!A:C,2,FALSE)","v":0},{"$f":"VLOOKUP(F84,'Banco de Matriculas '!A:C,3,FALSE)","v":0}]
[72,null,null,null,null,null,{"$f":"VLOOKUP(F85,'Banco de Matriculas '!A:C,2,FALSE)","v":0},{"$f":"VLOOKUP(F85,'Banco de Matriculas '!A:C,3,FALSE)","v":0}]
[73,null,null,null,null,null,{"$f":"VLOOKUP(F86,'Banco de Matriculas '!A:C,2,FALSE)","v":0},{"$f":"VLOOKUP(F86,'Banco de Matriculas '!A:C,3,FALSE)","v":0}]
[74,null,null,null,null,null,{"$f":"VLOOKUP(F87,'Banco de Matriculas '!A:C,2,FALSE)","v":0},{"$f":"VLOOKUP(F87,'Banco de Matriculas '!A:C,3,FALSE)","v":0}]
[75,null,null,null,null,null,{"$f":"VLOOKUP(F88,'Banco de Matriculas '!A:C,2,FALSE)","v":0},{"$f":"VLOOKUP(F88,'Banco de Matriculas '!A:C,3,FALSE)","v":0}]
[76,null,null,null,null,null,{"$f":"VLOOKUP(F89,'Banco de Matriculas '!A:C,2,FALSE)","v":0},{"$f":"VLOOKUP(F89,'Banco de Matriculas '!A:C,3,FALSE)","v":0}]
[77,null,null,null,null,null,{"$f":"VLOOKUP(F90,'Banco de Matriculas '!A:C,2,FALSE)","v":0},{"$f":"VLOOKUP(F90,'Banco de Matriculas '!A:C,3,FALSE)","v":0}]
[78,null,null,null,null,null,{"$f":"VLOOKUP(F91,'Banco de Matriculas '!A:C,2,FALSE)","v":0},{"$f":"VLOOKUP(F91,'Banco de Matriculas '!A:C,3,FALSE)","v":0},null,null,null,null,null,null,null,null,null,null,null,null,null,null,null,null,"Diferença de diárias ref. auxílio-alimentação"]
[79,null,null,null,null,null,{"$f":"VLOOKUP(F92,'Banco de Matriculas '!A:C,2,FALSE)","v":0},{"$f":"VLOOKUP(F92,'Banco de Matriculas '!A:C,3,FALSE)","v":0},null,null,null,null,null,null,null,null,null,null,null,null,null,null,null,null,"Hospedagem fornecida pelo Centrejufe"]
[80,null,null,null,null,null,{"$f":"VLOOKUP(F93,'Banco de Matriculas '!A:C,2,FALSE)","v":0},{"$f":"VLOOKUP(F93,'Banco de Matriculas '!A:C,3,FALSE)","v":0},null,null,null,null,null,null,null,null,null,null,null,null,null,null,null,null,"Hospedagem fornecida pelo Centrejufe"]
[81,null,null,null,null,null,{"$f":"VLOOKUP(F94,'Banco de Matriculas '!A:C,2,FALSE)","v":0},{"$f":"VLOOKUP(F94,'Banco de Matriculas '!A:C,3,FALSE)","v":0}]
[82,null,null,null,null,null,{"$f":"VLOOKUP(F95,'Banco de Matriculas '!A:C,2,FALSE)","v":0},{"$f":"VLOOKUP(F95,'Banco de Matriculas '!A:C,3,FALSE)","v":0}]
[83,null,null,null,null,null,{"$f":"VLOOKUP(F96,'Banco de Matriculas '!A:C,2,FALSE)","v":0},{"$f":"VLOOKUP(F96,'Banco de Matriculas '!A:C,3,FALSE)","v":0}]
[84,null,null,null,null,null,{"$f":"VLOOKUP(F97,'Banco de Matriculas '!A:C,2,FALSE)","v":0},{"$f":"VLOOKUP(F97,'Banco de Matriculas '!A:C,3,FALSE)","v":0}]
[85,null,null,null,null,null,{"$f":"VLOOKUP(F98,'Banco de Matriculas '!A:C,2,FALSE)","v":0},{"$f":"VLOOKUP(F98,'Banco de Matriculas '!A:C,3,FALSE)","v":0}]
[86,null,null,null,null,null,{"$f":"VLOOKUP(F99,'Banco de Matriculas '!A:C,2,FALSE)","v":0},{"$f":"VLOOKUP(F99,'Banco de Matriculas '!A:C,3,FALSE)","v":0}]
[87,null,null,null,null,null,{"$f":"VLOOKUP(F100,'Banco de Matriculas '!A:C,2,FALSE)","v":0},{"$f":"VLOOKUP(F100,'Banco de Matriculas '!A:C,3,FALSE)","v":0}]
[88,null,null,null,null,null,{"$f":"VLOOKUP(F101,'Banco de Matriculas '!A:C,2,FALSE)","v":0},{"$f":"VLOOKUP(F101,'Banco de Matriculas '!A:C,3,FALSE)","v":0}]
[89,null,null,null,null,null,{"$f":"VLOOKUP(F102,'Banco de Matriculas '!A:C,2,FALSE)","v":0},{"$f":"VLOOKUP(F102,'Banco de Matriculas '!A:C,3,FALSE)","v":0}]
[90,null,null,null,null,null,{"$f":"VLOOKUP(F103,'Banco de Matriculas '!A:C,2,FALSE)","v":0},{"$f":"VLOOKUP(F103,'Banco de Matriculas '!A:C,3,FALSE)","v":0}]
[91,null,null,null,null,null,{"$f":"VLOOKUP(F104,'Banco de Matriculas '!A:C,2,FALSE)","v":0},{"$f":"VLOOKUP(F104,'Banco de Matriculas '!A:C,3,FALSE)","v":0}]
[92,null,null,null,null,null,{"$f":"VLOOKUP(F105,'Banco de Matriculas '!A:C,2,FALSE)","v":0},{"$f":"VLOOKUP(F105,'Banco de Matriculas '!A:C,3,FALSE)","v":0}]
[93,null,null,null,null,null,{"$f":"VLOOKUP(F106,'Banco de Matriculas '!A:C,2,FALSE)","v":0},{"$f":"VLOOKUP(F106,'Banco de Matriculas '!A:C,3,FALSE)","v":0}]
[94,null,null,null,null,null,{"$f":"VLOOKUP(F107,'Banco de Matriculas '!A:C,2,FALSE)","v":0},{"$f":"VLOOKUP(F107,'Banco de Matriculas '!A:C,3,FALSE)","v":0}]
[95,null,null,null,null,null,{"$f":"VLOOKUP(F108,'Banco de Matriculas '!A:C,2,FALSE)","v":0},{"$f":"VLOOKUP(F108,'Banco de Matriculas '!A:C,3,FALSE)","v":0}]
[96,null,null,null,null,null,{"$f":"VLOOKUP(F109,'Banco de Matriculas '!A:C,2,FALSE)","v":0},{"$f":"VLOOKUP(F109,'Banco de Matriculas '!A:C,3,FALSE)","v":0}]
[97,null,null,null,null,null,{"$f":"VLOOKUP(F110,'Banco de Matriculas '!A:C,2,FALSE)","v":0},{"$f":"VLOOKUP(F110,'Banco de Matriculas '!A:C,3,FALSE)","v":0}]
[98,null,null,null,null,null,{"$f":"VLOOKUP(F111,'Banco de Matriculas '!A:C,2,FALSE)","v":0},{"$f":"VLOOKUP(F111,'Banco de Matriculas '!A:C,3,FALSE)","v":0}]
[99,null,null,null,null,null,{"$f":"VLOOKUP(F112,'Banco de Matriculas '!A:C,2,FALSE)","v":0},{"$f":"VLOOKUP(F112,'Banco de Matriculas '!A:C,3,FALSE)","v":0}]
[100,null,null,null,null,null,{"$f":"VLOOKUP(F113,'Banco de Matriculas '!A:C,2,FALSE)","v":0},{"$f":"VLOOKUP(F113,'Banco de Matriculas '!A:C,3,FALSE)","v":0}]
[101,null,null,null,null,null,{"$f":"VLOOKUP(F114,'Banco de Matriculas '!A:C,2,FALSE)","v":0},{"$f":"VLOOKUP(F114,'Banco de Matriculas '!A:C,3,FALSE)","v":0}]
[102,null,null,null,null,null,{"$f":"VLOOKUP(F115,'Banco de Matriculas '!A:C,2,FALSE)","v":0},{"$f":"VLOOKUP(F115,'Banco de Matriculas '!A:C,3,FALSE)","v":0}]
[103,null,null,null,null,null,{"$f":"VLOOKUP(F116,'Banco de Matriculas '!A:C,2,FALSE)","v":0},{"$f":"VLOOKUP(F116,'Banco de Matriculas '!A:C,3,FALSE)","v":0}]
[104,null,null,null,null,null,{"$f":"VLOOKUP(F117,'Banco de Matriculas '!A:C,2,FALSE)","v":0},{"$f":"VLOOKUP(F117,'Banco de Matriculas '!A:C,3,FALSE)","v":0}]
[105,null,null,null,null,null,{"$f":"VLOOKUP(F118,'Banco de Matriculas '!A:C,2,FALSE)","v":0},{"$f":"VLOOKUP(F118,'Banco de Matriculas '!A:C,3,FALSE)","v":0}]
[106,null,null,null,null,null,{"$f":"VLOOKUP(F119,'Banco de Matriculas '!A:C,2,FALSE)","v":0},{"$f":"VLOOKUP(F119,'Banco de Matriculas '!A:C,3,FALSE)","v":0}]
[107,null,null,null,null,null,{"$f":"VLOOKUP(F120,'Banco de Matriculas '!A:C,2,FALSE)","v":0},{"$f":"VLOOKUP(F120,'Banco de Matriculas '!A:C,3,FALSE)","v":0}]
[108,null,null,null,null,null,{"$f":"VLOOKUP(F121,'Banco de Matriculas '!A:C,2,FALSE)","v":0},{"$f":"VLOOKUP(F121,'Banco de Matriculas '!A:C,3,FALSE)","v":0}]
[109,null,null,null,null,null,{"$f":"VLOOKUP(F122,'Banco de Matriculas '!A:C,2,FALSE)","v":0},{"$f":"VLOOKUP(F122,'Banco de Matriculas '!A:C,3,FALSE)","v":0},null,null,null,null,null,null,null,null,null,null,null,null,null,null,null,null,"Devolução de diária-veículo oficial com problemas mecânicos"]
[110,null,null,null,null,null,{"$f":"VLOOKUP(F123,'Banco de Matriculas '!A:C,2,FALSE)","v":0},{"$f":"VLOOKUP(F123,'Banco de Matriculas '!A:C,3,FALSE)","v":0}]
[111,null,null,null,null,null,{"$f":"VLOOKUP(F124,'Banco de Matriculas '!A:C,2,FALSE)","v":0},{"$f":"VLOOKUP(F124,'Banco de Matriculas '!A:C,3,FALSE)","v":0}]
[112,null,null,null,null,null,{"$f":"VLOOKUP(F125,'Banco de Matriculas '!A:C,2,FALSE)","v":0},{"$f":"VLOOKUP(F125,'Banco de Matriculas '!A:C,3,FALSE)","v":0}]
[113,null,null,null,null,null,{"$f":"VLOOKUP(F126,'Banco de Matriculas '!A:C,2,FALSE)","v":0},{"$f":"VLOOKUP(F126,'Banco de Matriculas '!A:C,3,FALSE)","v":0}]
[114,null,null,null,null,null,{"$f":"VLOOKUP(F127,'Banco de Matriculas '!A:C,2,FALSE)","v":0},{"$f":"VLOOKUP(F127,'Banco de Matriculas '!A:C,3,FALSE)","v":0}]
[115,null,null,null,null,null,{"$f":"VLOOKUP(F128,'Banco de Matriculas '!A:C,2,FALSE)","v":0},{"$f":"VLOOKUP(F128,'Banco de Matriculas '!A:C,3,FALSE)","v":0}]
[116,null,null,null,null,null,{"$f":"VLOOKUP(F129,'Banco de Matriculas '!A:C,2,FALSE)","v":0},{"$f":"VLOOKUP(F129,'Banco de Matriculas '!A:C,3,FALSE)","v":0}]
[117,null,null,null,null,null,{"$f":"VLOOKUP(F130,'Banco de Matriculas '!A:C,2,FALSE)","v":0},{"$f":"VLOOKUP(F130,'Banco de Matriculas '!A:C,3,FALSE)","v":0}]
[118,null,null,null,null,null,{"$f":"VLOOKUP(F131,'Banco de Matriculas '!A:C,2,FALSE)","v":0},{"$f":"VLOOKUP(F131,'Banco de Matriculas '!A:C,3,FALSE)","v":0}]
[119,null,null,null,null,null,{"$f":"VLOOKUP(F132,'Banco de Matriculas '!A:C,2,FALSE)","v":0},{"$f":"VLOOKUP(F132,'Banco de Matriculas '!A:C,3,FALSE)","v":0}]
[120,null,null,null,null,null,{"$f":"VLOOKUP(F133,'Banco de Matriculas '!A:C,2,FALSE)","v":0},{"$f":"VLOOKUP(F133,'Banco de Matriculas '!A:C,3,FALSE)","v":0}]
[121,null,null,null,null,null,{"$f":"VLOOKUP(F134,'Banco de Matriculas '!A:C,2,FALSE)","v":0},{"$f":"VLOOKUP(F134,'Banco de Matriculas '!A:C,3,FALSE)","v":0}]
[122,null,null,null,null,null,{"$f":"VLOOKUP(F135,'Banco de Matriculas '!A:C,2,FALSE)","v":0},{"$f":"VLOOKUP(F135,'Banco de Matriculas '!A:C,3,FALSE)","v":0}]
[123,null,null,null,null,null,{"$f":"VLOOKUP(F136,'Banco de Matriculas '!A:C,2,FALSE)","v":0},{"$f":"VLOOKUP(F136,'Banco de Matriculas '!A:C,3,FALSE)","v":0}]
[124,null,null,null,null,null,{"$f":"VLOOKUP(F137,'Banco de Matriculas '!A:C,2,FALSE)","v":0},{"$f":"VLOOKUP(F137,'Banco de Matriculas '!A:C,3,FALSE)","v":0}]
[125,null,null,null,null,null,{"$f":"VLOOKUP(F138,'Banco de Matriculas '!A:C,2,FALSE)","v":0},{"$f":"VLOOKUP(F138,'Banco de Matriculas '!A:C,3,FALSE)","v":0}]
[126,null,null,null,null,null,{"$f":"VLOOKUP(F139,'Banco de Matriculas '!A:C,2,FALSE)","v":0},{"$f":"VLOOKUP(F139,'Banco de Matriculas '!A:C,3,FALSE)","v":0}]
[127,null,null,null,null,null,{"$f":"VLOOKUP(F140,'Banco de Matriculas '!A:C,2,FALSE)","v":0},{"$f":"VLOOKUP(F140,'Banco de Matriculas '!A:C,3,FALSE)","v":0}]
[128,null,null,null,null,null,{"$f":"VLOOKUP(F141,'Banco de Matriculas '!A:C,2,FALSE)","v":0},{"$f":"VLOOKUP(F141,'Banco de Matriculas '!A:C,3,FALSE)","v":0}]
[129,null,null,null,null,null,{"$f":"VLOOKUP(F142,'Banco de Matriculas '!A:C,2,FALSE)","v":0},{"$f":"VLOOKUP(F142,'Banco de Matriculas '!A:C,3,FALSE)","v":0}]
[130,null,null,null,null,null,{"$f":"VLOOKUP(F143,'Banco de Matriculas '!A:C,2,FALSE)","v":0},{"$f":"VLOOKUP(F143,'Banco de Matriculas '!A:C,3,FALSE)","v":0}]
[131,null,null,null,null,null,{"$f":"VLOOKUP(F144,'Banco de Matriculas '!A:C,2,FALSE)","v":0},{"$f":"VLOOKUP(F144,'Banco de Matriculas '!A:C,3,FALSE)","v":0}]
[132,null,null,null,null,null,{"$f":"VLOOKUP(F145,'Banco de Matriculas '!A:C,2,FALSE)","v":0},{"$f":"VLOOKUP(F145,'Banco de Matriculas '!A:C,3,FALSE)","v":0}]
[133,null,null,null,null,null,{"$f":"VLOOKUP(F146,'Banco de Matriculas '!A:C,2,FALSE)","v":0},{"$f":"VLOOKUP(F146,'Banco de Matriculas '!A:C,3,FALSE)","v":0}]
[134,null,null,null,null,null,{"$f":"VLOOKUP(F147,'Banco de Matriculas '!A:C,2,FALSE)","v":0},{"$f":"VLOOKUP(F147,'Banco de Matriculas '!A:C,3,FALSE)","v":0}]
[135,null,null,null,null,null,{"$f":"VLOOKUP(F148,'Banco de Matriculas '!A:C,2,FALSE)","v":0},{"$f":"VLOOKUP(F148,'Banco de Matriculas '!A:C,3,FALSE)","v":0}]
[136,null,null,null,null,null,{"$f":"VLOOKUP(F149,'Banco de Matriculas '!A:C,2,FALSE)","v":0},{"$f":"VLOOKUP(F149,'Banco de Matriculas '!A:C,3,FALSE)","v":0}]
[137,null,null,null,null,null,{"$f":"VLOOKUP(F150,'Banco de Matriculas '!A:C,2,FALSE)","v":0},{"$f":"VLOOKUP(F150,'Banco de Matriculas '!A:C,3,FALSE)","v":0}]
[138,null,null,null,null,null,{"$f":"VLOOKUP(F151,'Banco de Matriculas '!A:C,2,FALSE)","v":0},{"$f":"VLOOKUP(F151,'Banco de Matriculas '!A:C,3,FALSE)","v":0}]
[139,null,null,null,null,null,{"$f":"VLOOKUP(F152,'Banco de Matriculas '!A:C,2,FALSE)","v":0},{"$f":"VLOOKUP(F152,'Banco de Matriculas '!A:C,3,FALSE)","v":0}]
[140,null,null,null,null,null,{"$f":"VLOOKUP(F153,'Banco de Matriculas '!A:C,2,FALSE)","v":0},{"$f":"VLOOKUP(F153,'Banco de Matriculas '!A:C,3,FALSE)","v":0}]
[141,null,null,null,null,null,{"$f":"VLOOKUP(F154,'Banco de Matriculas '!A:C,2,FALSE)","v":0},{"$f":"VLOOKUP(F154,'Banco de Matriculas '!A:C,3,FALSE)","v":0}]
[142,null,null,null,null,null,{"$f":"VLOOKUP(F155,'Banco de Matriculas '!A:C,2,FALSE)","v":0},{"$f":"VLOOKUP(F155,'Banco de Matriculas '!A:C,3,FALSE)","v":0}]
[143,null,null,null,null,null,{"$f":"VLOOKUP(F156,'Banco de Matriculas '!A:C,2,FALSE)","v":0},{"$f":"VLOOKUP(F156,'Banco de Matriculas '!A:C,3,FALSE)","v":0}]
[144,null,null,null,null,null,{"$f":"VLOOKUP(F157,'Banco de Matriculas '!A:C,2,FALSE)","v":0},{"$f":"VLOOKUP(F157,'Banco de Matriculas '!A:C,3,FALSE)","v":0}]
[145,null,null,null,null,null,{"$f":"VLOOKUP(F158,'Banco de Matriculas '!A:C,2,FALSE)","v":0},{"$f":"VLOOKUP(F158,'Banco de Matriculas '!A:C,3,FALSE)","v":0}]
[146,null,null,null,null,null,{"$f":"VLOOKUP(F159,'Banco de Matriculas '!A:C,2,FALSE)","v":0},{"$f":"VLOOKUP(F159,'Banco de Matriculas '!A:C,3,FALSE)","v":0}]
[147,null,null,null,null,null,{"$f":"VLOOKUP(F160,'Banco de Matriculas '!A:C,2,FALSE)","v":0},{"$f":"VLOOKUP(F160,'Banco de Matriculas '!A:C,3,FALSE)","v":0}]
[148,null,null,null,null,null,{"$f":"VLOOKUP(F161,'Banco de Matriculas '!A:C,2,FALSE)","v":0},{"$f":"VLOOKUP(F161,'Banco de Matriculas '!A:C,3,FALSE)","v":0}]
[149,null,null,null,null,null,{"$f":"VLOOKUP(F162,'Banco de Matriculas '!A:C,2,FALSE)","v":0},{"$f":"VLOOKUP(F162,'Banco de Matriculas '!A:C,3,FALSE)","v":0}]
[150,null,null,null,null,null,{"$f":"VLOOKUP(F163,'Banco de Matriculas '!A:C,2,FALSE)","v":0},{"$f":"VLOOKUP(F163,'Banco de Matriculas '!A:C,3,FALSE)","v":0}]
[151,null,null,null,null,null,{"$f":"VLOOKUP(F164,'Banco de Matriculas '!A:C,2,FALSE)","v":0},{"$f":"VLOOKUP(F164,'Banco de Matriculas '!A:C,3,FALSE)","v":0}]
[152,null,null,null,null,null,{"$f":"VLOOKUP(F165,'Banco de Matriculas '!A:C,2,FALSE)","v":0},{"$f":"VLOOKUP(F165,'Banco de Matriculas '!A:C,3,FALSE)","v":0}]
[153,null,null,null,null,null,{"$f":"VLOOKUP(F166,'Banco de Matriculas '!A:C,2,FALSE)","v":0},{"$f":"VLOOKUP(F166,'Banco de Matriculas '!A:C,3,FALSE)","v":0}]
[154,null,null,null,null,null,{"$f":"VLOOKUP(F167,'Banco de Matriculas '!A:C,2,FALSE)","v":0},{"$f":"VLOOKUP(F167,'Banco de Matriculas '!A:C,3,FALSE)","v":0}]
[155,null,null,null,null,null,{"$f":"VLOOKUP(F168,'Banco de Matriculas '!A:C,2,FALSE)","v":0},{"$f":"VLOOKUP(F168,'Banco de Matriculas '!A:C,3,FALSE)","v":0}]
[156,null,null,null,null,null,{"$f":"VLOOKUP(F169,'Banco de Matriculas '!A:C,2,FALSE)","v":0},{"$f":"VLOOKUP(F169,'Banco de Matriculas '!A:C,3,FALSE)","v":0}]
[157,null,null,null,null,null,{"$f":"VLOOKUP(F170,'Banco de Matriculas '!A:C,2,FALSE)","v":0},{"$f":"VLOOKUP(F170,'Banco de Matriculas '!A:C,3,FALSE)","v":0}]
[158,null,null,null,null,null,{"$f":"VLOOKUP(F171,'Banco de Matriculas '!A:C,2,FALSE)","v":0},{"$f":"VLOOKUP(F171,'Banco de Matriculas '!A:C,3,FALSE)","v":0}]
[159,null,null,null,null,null,{"$f":"VLOOKUP(F172,'Banco de Matriculas '!A:C,2,FALSE)","v":0},{"$f":"VLOOKUP(F172,'Banco de Matriculas '!A:C,3,FALSE)","v":0}]
[160,null,null,null,null,null,{"$f":"VLOOKUP(F173,'Banco de Matriculas '!A:C,2,FALSE)","v":0},{"$f":"VLOOKUP(F173,'Banco de Matriculas '!A:C,3,FALSE)","v":0}]
[161,null,null,null,null,null,{"$f":"VLOOKUP(F174,'Banco de Matriculas '!A:C,2,FALSE)","v":0},{"$f":"VLOOKUP(F174,'Banco de Matriculas '!A:C,3,FALSE)","v":0}]
[162,null,null,null,null,null,{"$f":"VLOOKUP(F175,'Banco de Matriculas '!A:C,2,FALSE)","v":0},{"$f":"VLOOKUP(F175,'Banco de Matriculas '!A:C,3,FALSE)","v":0}]
[163,null,null,null,null,null,{"$f":"VLOOKUP(F176,'Banco de Matriculas '!A:C,2,FALSE)","v":0},{"$f":"VLOOKUP(F176,'Banco de Matriculas '!A:C,3,FALSE)","v":0}]
[164,null,null,null,null,null,{"$f":"VLOOKUP(F177,'Banco de Matriculas '!A:C,2,FALSE)","v":0},{"$f":"VLOOKUP(F177,'Banco de Matriculas '!A:C,3,FALSE)","v":0}]
[165,null,null,null,null,null,{"$f":"VLOOKUP(F178,'Banco de Matriculas '!A:C,2,FALSE)","v":0},{"$f":"VLOOKUP(F178,'Banco de Matriculas '!A:C,3,FALSE)","v":0}]
[166,null,null,null,null,null,{"$f":"VLOOKUP(F179,'Banco de Matriculas '!A:C,2,FALSE)","v":0},{"$f":"VLOOKUP(F179,'Banco de Matriculas '!A:C,3,FALSE)","v":0}]
[167,null,null,null,null,null,{"$f":"VLOOKUP(F180,'Banco de Matriculas '!A:C,2,FALSE)","v":0},{"$f":"VLOOKUP(F180,'Banco de Matriculas '!A:C,3,FALSE)","v":0}]
[168,null,null,null,null,null,{"$f":"VLOOKUP(F181,'Banco de Matriculas '!A:C,2,FALSE)","v":0},{"$f":"VLOOKUP(F181,'Banco de Matriculas '!A:C,3,FALSE)","v":0}]
[169,null,null,null,null,null,{"$f":"VLOOKUP(F182,'Banco de Matriculas '!A:C,2,FALSE)","v":0},{"$f":"VLOOKUP(F182,'Banco de Matriculas '!A:C,3,FALSE)","v":0}]
[170,null,null,null,null,null,{"$f":"VLOOKUP(F183,'Banco de Matriculas '!A:C,2,FALSE)","v":0},{"$f":"VLOOKUP(F183,'Banco de Matriculas '!A:C,3,FALSE)","v":0}]
[171,null,null,null,null,null,{"$f":"VLOOKUP(F184,'Banco de Matriculas '!A:C,2,FALSE)","v":0},{"$f":"VLOOKUP(F184,'Banco de Matriculas '!A:C,3,FALSE)","v":0}]
[172,null,null,null,null,null,{"$f":"VLOOKUP(F185,'Banco de Matriculas '!A:C,2,FALSE)","v":0},{"$f":"VLOOKUP(F185,'Banco de Matriculas '!A:C,3,FALSE)","v":0}]
[173,null,null,null,null,null,{"$f":"VLOOKUP(F186,'Banco de Matriculas '!A:C,2,FALSE)","v":0},{"$f":"VLOOKUP(F186,'Banco de Matriculas '!A:C,3,FALSE)","v":0}]
[174,null,null,null,null,null,{"$f":"VLOOKUP(F187,'Banco de Matriculas '!A:C,2,FALSE)","v":0},{"$f":"VLOOKUP(F187,'Banco de Matriculas '!A:C,3,FALSE)","v":0}]
[175,null,null,null,null,null,{"$f":"VLOOKUP(F188,'Banco de Matriculas '!A:C,2,FALSE)","v":0},{"$f":"VLOOKUP(F188,'Banco de Matriculas '!A:C,3,FALSE)","v":0}]
[176,null,null,null,null,null,{"$f":"VLOOKUP(F189,'Banco de Matriculas '!A:C,2,FALSE)","v":0},{"$f":"VLOOKUP(F189,'Banco de Matriculas '!A:C,3,FALSE)","v":0}]
[177,null,null,null,null,null,{"$f":"VLOOKUP(F190,'Banco de Matriculas '!A:C,2,FALSE)","v":0},{"$f":"VLOOKUP(F190,'Banco de Matriculas '!A:C,3,FALSE)","v":0}]
[178,null,null,null,null,null,{"$f":"VLOOKUP(F191,'Banco de Matriculas '!A:C,2,FALSE)","v":0},{"$f":"VLOOKUP(F191,'Banco de Matriculas '!A:C,3,FALSE)","v":0}]
[179,null,null,null,null,null,{"$f":"VLOOKUP(F192,'Banco de Matriculas '!A:C,2,FALSE)","v":0},{"$f":"VLOOKUP(F192,'Banco de Matriculas '!A:C,3,FALSE)","v":0}]
[180,null,null,null,null,null,{"$f":"VLOOKUP(F193,'Banco de Matriculas '!A:C,2,FALSE)","v":0},{"$f":"VLOOKUP(F193,'Banco de Matriculas '!A:C,3,FALSE)","v":0}]
[181,null,null,null,null,null,{"$f":"VLOOKUP(F194,'Banco de Matriculas '!A:C,2,FALSE)","v":0},{"$f":"VLOOKUP(F194,'Banco de Matriculas '!A:C,3,FALSE)","v":0}]
[182,null,null,null,null,null,{"$f":"VLOOKUP(F195,'Banco de Matriculas '!A:C,2,FALSE)","v":0},{"$f":"VLOOKUP(F195,'Banco de Matriculas '!A:C,3,FALSE)","v":0}]
[183,null,null,null,null,null,{"$f":"VLOOKUP(F196,'Banco de Matriculas '!A:C,2,FALSE)","v":0},{"$f":"VLOOKUP(F196,'Banco de Matriculas '!A:C,3,FALSE)","v":0}]
[184,null,null,null,null,null,{"$f":"VLOOKUP(F197,'Banco de Matriculas '!A:C,2,FALSE)","v":0},{"$f":"VLOOKUP(F197,'Banco de Matriculas '!A:C,3,FALSE)","v":0}]
[185,null,null,null,null,null,{"$f":"VLOOKUP(F198,'Banco de Matriculas '!A:C,2,FALSE)","v":0},{"$f":"VLOOKUP(F198,'Banco de Matriculas '!A:C,3,FALSE)","v":0}]
[186,null,null,null,null,null,{"$f":"VLOOKUP(F199,'Banco de Matriculas '!A:C,2,FALSE)","v":0},{"$f":"VLOOKUP(F199,'Banco de Matriculas '!A:C,3,FALSE)","v":0}]
[187,null,null,null,null,null,{"$f":"VLOOKUP(F200,'Banco de Matriculas '!A:C,2,FALSE)","v":0},{"$f":"VLOOKUP(F200,'Banco de Matriculas '!A:C,3,FALSE)","v":0}]
[188,null,null,null,null,null,{"$f":"VLOOKUP(F201,'Banco de Matriculas '!A:C,2,FALSE)","v":0},{"$f":"VLOOKUP(F201,'Banco de Matriculas '!A:C,3,FALSE)","v":0}]
[189,null,null,null,null,null,{"$f":"VLOOKUP(F202,'Banco de Matriculas '!A:C,2,FALSE)","v":0},{"$f":"VLOOKUP(F202,'Banco de Matriculas '!A:C,3,FALSE)","v":0}]
[190,null,null,null,null,null,{"$f":"VLOOKUP(F203,'Banco de Matriculas '!A:C,2,FALSE)","v":0},{"$f":"VLOOKUP(F203,'Banco de Matriculas '!A:C,3,FALSE)","v":0}]
[191,null,null,null,null,null,{"$f":"VLOOKUP(F204,'Banco de Matriculas '!A:C,2,FALSE)","v":0},{"$f":"VLOOKUP(F204,'Banco de Matriculas '!A:C,3,FALSE)","v":0}]
[192,null,null,null,null,null,{"$f":"VLOOKUP(F205,'Banco de Matriculas '!A:C,2,FALSE)","v":0},{"$f":"VLOOKUP(F205,'Banco de Matriculas '!A:C,3,FALSE)","v":0}]
[193,null,null,null,null,null,{"$f":"VLOOKUP(F206,'Banco de Matriculas '!A:C,2,FALSE)","v":0},{"$f":"VLOOKUP(F206,'Banco de Matriculas '!A:C,3,FALSE)","v":0}]
[194,null,null,null,null,null,{"$f":"VLOOKUP(F207,'Banco de Matriculas '!A:C,2,FALSE)","v":0},{"$f":"VLOOKUP(F207,'Banco de Matriculas '!A:C,3,FALSE)","v":0}]
[195,null,null,null,null,null,{"$f":"VLOOKUP(F208,'Banco de Matriculas '!A:C,2,FALSE)","v":0},{"$f":"VLOOKUP(F208,'Banco de Matriculas '!A:C,3,FALSE)","v":0}]
[196,null,null,null,null,null,{"$f":"VLOOKUP(F209,'Banco de Matriculas '!A:C,2,FALSE)","v":0},{"$f":"VLOOKUP(F209,'Banco de Matriculas '!A:C,3,FALSE)","v":0}]
[197,null,null,null,null,null,{"$f":"VLOOKUP(F210,'Banco de Matriculas '!A:C,2,FALSE)","v":0},{"$f":"VLOOKUP(F210,'Banco de Matriculas '!A:C,3,FALSE)","v":0}]
[198,null,null,null,null,null,{"$f":"VLOOKUP(F211,'Banco de Matriculas '!A:C,2,FALSE)","v":0},{"$f":"VLOOKUP(F211,'Banco de Matriculas '!A:C,3,FALSE)","v":0}]
[199,null,null,null,null,null,{"$f":"VLOOKUP(F212,'Banco de Matriculas '!A:C,2,FALSE)","v":0},{"$f":"VLOOKUP(F212,'Banco de Matriculas '!A:C,3,FALSE)","v":0}]
[200,null,null,null,null,null,{"$f":"VLOOKUP(F213,'Banco de Matriculas '!A:C,2,FALSE)","v":0},{"$f":"VLOOKUP(F213,'Banco de Matriculas '!A:C,3,FALSE)","v":0}]
[201,null,null,null,null,null,{"$f":"VLOOKUP(F214,'Banco de Matriculas '!A:C,2,FALSE)","v":0},{"$f":"VLOOKUP(F214,'Banco de Matriculas '!A:C,3,FALSE)","v":0}]
[202,null,null,null,null,null,{"$f":"VLOOKUP(F215,'Banco de Matriculas '!A:C,2,FALSE)","v":0},{"$f":"VLOOKUP(F215,'Banco de Matriculas '!A:C,3,FALSE)","v":0}]
[203,null,null,null,null,null,{"$f":"VLOOKUP(F216,'Banco de Matriculas '!A:C,2,FALSE)","v":0},{"$f":"VLOOKUP(F216,'Banco de Matriculas '!A:C,3,FALSE)","v":0}]
[204,null,null,null,null,null,{"$f":"VLOOKUP(F217,'Banco de Matriculas '!A:C,2,FALSE)","v":0},{"$f":"VLOOKUP(F217,'Banco de Matriculas '!A:C,3,FALSE)","v":0}]
[205,null,null,null,null,null,{"$f":"VLOOKUP(F218,'Banco de Matriculas '!A:C,2,FALSE)","v":0},{"$f":"VLOOKUP(F218,'Banco de Matriculas '!A:C,3,FALSE)","v":0}]
[206,null,null,null,null,null,{"$f":"VLOOKUP(F219,'Banco de Matriculas '!A:C,2,FALSE)","v":0},{"$f":"VLOOKUP(F219,'Banco de Matriculas '!A:C,3,FALSE)","v":0}]
[207,null,null,null,null,null,{"$f":"VLOOKUP(F220,'Banco de Matriculas '!A:C,2,FALSE)","v":0},{"$f":"VLOOKUP(F220,'Banco de Matriculas '!A:C,3,FALSE)","v":0}]
[208,null,null,null,null,null,{"$f":"VLOOKUP(F221,'Banco de Matriculas '!A:C,2,FALSE)","v":0},{"$f":"VLOOKUP(F221,'Banco de Matriculas '!A:C,3,FALSE)","v":0}]
[209,null,null,null,null,null,{"$f":"VLOOKUP(F222,'Banco de Matriculas '!A:C,2,FALSE)","v":0},{"$f":"VLOOKUP(F222,'Banco de Matriculas '!A:C,3,FALSE)","v":0}]
[210,null,null,null,null,null,{"$f":"VLOOKUP(F223,'Banco de Matriculas '!A:C,2,FALSE)","v":0},{"$f":"VLOOKUP(F223,'Banco de Matriculas '!A:C,3,FALSE)","v":0}]
[211,null,null,null,null,null,{"$f":"VLOOKUP(F224,'Banco de Matriculas '!A:C,2,FALSE)","v":0},{"$f":"VLOOKUP(F224,'Banco de Matriculas '!A:C,3,FALSE)","v":0}]
[212,null,null,null,null,null,{"$f":"VLOOKUP(F225,'Banco de Matriculas '!A:C,2,FALSE)","v":0},{"$f":"VLOOKUP(F225,'Banco de Matriculas '!A:C,3,FALSE)","v":0}]
[213,null,null,null,null,null,{"$f":"VLOOKUP(F226,'Banco de Matriculas '!A:C,2,FALSE)","v":0},{"$f":"VLOOKUP(F226,'Banco de Matriculas '!A:C,3,FALSE)","v":0}]
[214,null,null,null,null,null,{"$f":"VLOOKUP(F227,'Banco de Matriculas '!A:C,2,FALSE)","v":0},{"$f":"VLOOKUP(F227,'Banco de Matriculas '!A:C,3,FALSE)","v":0}]
[215,null,null,null,null,null,{"$f":"VLOOKUP(F228,'Banco de Matriculas '!A:C,2,FALSE)","v":0},{"$f":"VLOOKUP(F228,'Banco de Matriculas '!A:C,3,FALSE)","v":0}]
[216,null,null,null,null,null,{"$f":"VLOOKUP(F229,'Banco de Matriculas '!A:C,2,FALSE)","v":0},{"$f":"VLOOKUP(F229,'Banco de Matriculas '!A:C,3,FALSE)","v":0}]
[217,null,null,null,null,null,{"$f":"VLOOKUP(F230,'Banco de Matriculas '!A:C,2,FALSE)","v":0},{"$f":"VLOOKUP(F230,'Banco de Matriculas '!A:C,3,FALSE)","v":0}]
[218,null,null,null,null,null,{"$f":"VLOOKUP(F231,'Banco de Matriculas '!A:C,2,FALSE)","v":0},{"$f":"VLOOKUP(F231,'Banco de Matriculas '!A:C,3,FALSE)","v":0}]
[219,null,null,null,null,null,{"$f":"VLOOKUP(F232,'Banco de Matriculas '!A:C,2,FALSE)","v":0},{"$f":"VLOOKUP(F232,'Banco de Matriculas '!A:C,3,FALSE)","v":0}]
[220,null,null,null,null,null,{"$f":"VLOOKUP(F233,'Banco de Matriculas '!A:C,2,FALSE)","v":0},{"$f":"VLOOKUP(F233,'Banco de Matriculas '!A:C,3,FALSE)","v":0}]
[221,null,null,null,null,null,{"$f":"VLOOKUP(F234,'Banco de Matriculas '!A:C,2,FALSE)","v":0},{"$f":"VLOOKUP(F234,'Banco de Matriculas '!A:C,3,FALSE)","v":0}]
[222,null,null,null,null,null,{"$f":"VLOOKUP(F235,'Banco de Matriculas '!A:C,2,FALSE)","v":0},{"$f":"VLOOKUP(F235,'Banco de Matriculas '!A:C,3,FALSE)","v":0}]
[223,null,null,null,null,null,{"$f":"VLOOKUP(F236,'Banco de Matriculas '!A:C,2,FALSE)","v":0},{"$f":"VLOOKUP(F236,'Banco de Matriculas '!A:C,3,FALSE)","v":0}]
[224,null,null,null,null,null,{"$f":"VLOOKUP(F237,'Banco de Matriculas '!A:C,2,FALSE)","v":0},{"$f":"VLOOKUP(F237,'Banco de Matriculas '!A:C,3,FALSE)","v":0}]
[225,null,null,null,null,null,{"$f":"VLOOKUP(F238,'Banco de Matriculas '!A:C,2,FALSE)","v":0},{"$f":"VLOOKUP(F238,'Banco de Matriculas '!A:C,3,FALSE)","v":0}]
[226,null,null,null,null,null,{"$f":"VLOOKUP(F239,'Banco de Matriculas '!A:C,2,FALSE)","v":0},{"$f":"VLOOKUP(F239,'Banco de Matriculas '!A:C,3,FALSE)","v":0}]
[227,null,null,null,null,null,{"$f":"VLOOKUP(F240,'Banco de Matriculas '!A:C,2,FALSE)","v":0},{"$f":"VLOOKUP(F240,'Banco de Matriculas '!A:C,3,FALSE)","v":0}]
[228,null,null,null,null,null,{"$f":"VLOOKUP(F241,'Banco de Matriculas '!A:C,2,FALSE)","v":0},{"$f":"VLOOKUP(F241,'Banco de Matriculas '!A:C,3,FALSE)","v":0}]
[229,null,null,null,null,null,{"$f":"VLOOKUP(F242,'Banco de Matriculas '!A:C,2,FALSE)","v":0},{"$f":"VLOOKUP(F242,'Banco de Matriculas '!A:C,3,FALSE)","v":0}]
[230,null,null,null,null,null,{"$f":"VLOOKUP(F243,'Banco de Matriculas '!A:C,2,FALSE)","v":0},{"$f":"VLOOKUP(F243,'Banco de Matriculas '!A:C,3,FALSE)","v":0}]
[231,null,null,null,null,null,{"$f":"VLOOKUP(F244,'Banco de Matriculas '!A:C,2,FALSE)","v":0},{"$f":"VLOOKUP(F244,'Banco de Matriculas '!A:C,3,FALSE)","v":0}]
[232,null,null,null,null,null,{"$f":"VLOOKUP(F245,'Banco de Matriculas '!A:C,2,FALSE)","v":0},{"$f":"VLOOKUP(F245,'Banco de Matriculas '!A:C,3,FALSE)","v":0}]
[233,null,null,null,null,null,{"$f":"VLOOKUP(F246,'Banco de Matriculas '!A:C,2,FALSE)","v":0},{"$f":"VLOOKUP(F246,'Banco de Matriculas '!A:C,3,FALSE)","v":0}]
[234,null,null,null,null,null,{"$f":"VLOOKUP(F247,'Banco de Matriculas '!A:C,2,FALSE)","v":0},{"$f":"VLOOKUP(F247,'Banco de Matriculas '!A:C,3,FALSE)","v":0}]
[235,null,null,null,null,null,{"$f":"VLOOKUP(F248,'Banco de Matriculas '!A:C,2,FALSE)","v":0},{"$f":"VLOOKUP(F248,'Banco de Matriculas '!A:C,3,FALSE)","v":0}]
[236,null,null,null,null,null,{"$f":"VLOOKUP(F249,'Banco de Matriculas '!A:C,2,FALSE)","v":0},{"$f":"VLOOKUP(F249,'Banco de Matriculas '!A:C,3,FALSE)","v":0}]
[237,null,null,null,null,null,{"$f":"VLOOKUP(F250,'Banco de Matriculas '!A:C,2,FALSE)","v":0},{"$f":"VLOOKUP(F250,'Banco de Matriculas '!A:C,3,FALSE)","v":0}]
[238,null,null,null,null,null,{"$f":"VLOOKUP(F251,'Banco de Matriculas '!A:C,2,FALSE)","v":0},{"$f":"VLOOKUP(F251,'Banco de Matriculas '!A:C,3,FALSE)","v":0}]
[239,null,null,null,null,null,{"$f":"VLOOKUP(F252,'Banco de Matriculas '!A:C,2,FALSE)","v":0},{"$f":"VLOOKUP(F252,'Banco de Matriculas '!A:C,3,FALSE)","v":0}]
[240,null,null,null,null,null,{"$f":"VLOOKUP(F253,'Banco de Matriculas '!A:C,2,FALSE)","v":0},{"$f":"VLOOKUP(F253,'Banco de Matriculas '!A:C,3,FALSE)","v":0}]
[241,null,null,null,null,null,{"$f":"VLOOKUP(F254,'Banco de Matriculas '!A:C,2,FALSE)","v":0},{"$f":"VLOOKUP(F254,'Banco de Matriculas '!A:C,3,FALSE)","v":0}]
[242,null,null,null,null,null,{"$f":"VLOOKUP(F255,'Banco de Matriculas '!A:C,2,FALSE)","v":0},{"$f":"VLOOKUP(F255,'Banco de Matriculas '!A:C,3,FALSE)","v":0}]
[243,null,null,null,null,null,{"$f":"VLOOKUP(F256,'Banco de Matriculas '!A:C,2,FALSE)","v":0},{"$f":"VLOOKUP(F256,'Banco de Matriculas '!A:C,3,FALSE)","v":0}]
[244,null,null,null,null,null,{"$f":"VLOOKUP(F257,'Banco de Matriculas '!A:C,2,FALSE)","v":0},{"$f":"VLOOKUP(F257,'Banco de Matriculas '!A:C,3,FALSE)","v":0}]
[245,null,null,null,null,null,{"$f":"VLOOKUP(F258,'Banco de Matriculas '!A:C,2,FALSE)","v":0},{"$f":"VLOOKUP(F258,'Banco de Matriculas '!A:C,3,FALSE)","v":0}]
[246,null,null,null,null,null,{"$f":"VLOOKUP(F259,'Banco de Matriculas '!A:C,2,FALSE)","v":0},{"$f":"VLOOKUP(F259,'Banco de Matriculas '!A:C,3,FALSE)","v":0}]
[247,null,null,null,null,null,{"$f":"VLOOKUP(F260,'Banco de Matriculas '!A:C,2,FALSE)","v":0},{"$f":"VLOOKUP(F260,'Banco de Matriculas '!A:C,3,FALSE)","v":0}]
[248,null,null,null,null,null,{"$f":"VLOOKUP(F261,'Banco de Matriculas '!A:C,2,FALSE)","v":0},{"$f":"VLOOKUP(F261,'Banco de Matriculas '!A:C,3,FALSE)","v":0}]
[249,null,null,null,null,null,{"$f":"VLOOKUP(F262,'Banco de Matriculas '!A:C,2,FALSE)","v":0},{"$f":"VLOOKUP(F262,'Banco de Matriculas '!A:C,3,FALSE)","v":0}]
[250,null,null,null,null,null,{"$f":"VLOOKUP(F263,'Banco de Matriculas '!A:C,2,FALSE)","v":0},{"$f":"VLOOKUP(F263,'Banco de Matriculas '!A:C,3,FALSE)","v":0}]
[251,null,null,null,null,null,{"$f":"VLOOKUP(F264,'Banco de Matriculas '!A:C,2,FALSE)","v":0},{"$f":"VLOOKUP(F264,'Banco de Matriculas '!A:C,3,FALSE)","v":0}]
[252,null,null,null,null,null,{"$f":"VLOOKUP(F265,'Banco de Matriculas '!A:C,2,FALSE)","v":0},{"$f":"VLOOKUP(F265,'Banco de Matriculas '!A:C,3,FALSE)","v":0}]
[253,null,null,null,null,null,{"$f":"VLOOKUP(F266,'Banco de Matriculas '!A:C,2,FALSE)","v":0},{"$f":"VLOOKUP(F266,'Banco de Matriculas '!A:C,3,FALSE)","v":0}]
[254,null,null,null,null,null,{"$f":"VLOOKUP(F267,'Banco de Matriculas '!A:C,2,FALSE)","v":0},{"$f":"VLOOKUP(F267,'Banco de Matriculas '!A:C,3,FALSE)","v":0}]
[255,null,null,null,null,null,{"$f":"VLOOKUP(F268,'Banco de Matriculas '!A:C,2,FALSE)","v":0},{"$f":"VLOOKUP(F268,'Banco de Matriculas '!A:C,3,FALSE)","v":0}]
[256,null,null,null,null,null,{"$f":"VLOOKUP(F269,'Banco de Matriculas '!A:C,2,FALSE)","v":0},{"$f":"VLOOKUP(F269,'Banco de Matriculas '!A:C,3,FALSE)","v":0}]
[257,null,null,null,null,null,{"$f":"VLOOKUP(F270,'Banco de Matriculas '!A:C,2,FALSE)","v":0},{"$f":"VLOOKUP(F270,'Banco de Matriculas '!A:C,3,FALSE)","v":0}]
[258,null,null,null,null,null,{"$f":"VLOOKUP(F271,'Banco de Matriculas '!A:C,2,FALSE)","v":0},{"$f":"VLOOKUP(F271,'Banco de Matriculas '!A:C,3,FALSE)","v":0}]
[259,null,null,null,null,null,{"$f":"VLOOKUP(F272,'Banco de Matriculas '!A:C,2,FALSE)","v":0},{"$f":"VLOOKUP(F272,'Banco de Matriculas '!A:C,3,FALSE)","v":0}]
[260,null,null,null,null,null,{"$f":"VLOOKUP(F273,'Banco de Matriculas '!A:C,2,FALSE)","v":0},{"$f":"VLOOKUP(F273,'Banco de Matriculas '!A:C,3,FALSE)","v":0}]
[261,null,null,null,null,null,{"$f":"VLOOKUP(F274,'Banco de Matriculas '!A:C,2,FALSE)","v":0},{"$f":"VLOOKUP(F274,'Banco de Matriculas '!A:C,3,FALSE)","v":0}]
[262,null,null,null,null,null,{"$f":"VLOOKUP(F275,'Banco de Matriculas '!A:C,2,FALSE)","v":0},{"$f":"VLOOKUP(F275,'Banco de Matriculas '!A:C,3,FALSE)","v":0}]
[263,null,null,null,null,null,{"$f":"VLOOKUP(F276,'Banco de Matriculas '!A:C,2,FALSE)","v":0},{"$f":"VLOOKUP(F276,'Banco de Matriculas '!A:C,3,FALSE)","v":0}]
[264,null,null,null,null,null,{"$f":"VLOOKUP(F277,'Banco de Matriculas '!A:C,2,FALSE)","v":0},{"$f":"VLOOKUP(F277,'Banco de Matriculas '!A:C,3,FALSE)","v":0}]
[265,null,null,null,null,null,{"$f":"VLOOKUP(F278,'Banco de Matriculas '!A:C,2,FALSE)","v":0},{"$f":"VLOOKUP(F278,'Banco de Matriculas '!A:C,3,FALSE)","v":0}]
[266,null,null,null,null,null,{"$f":"VLOOKUP(F279,'Banco de Matriculas '!A:C,2,FALSE)","v":0},{"$f":"VLOOKUP(F279,'Banco de Matriculas '!A:C,3,FALSE)","v":0}]
[267,null,null,null,null,null,{"$f":"VLOOKUP(F280,'Banco de Matriculas '!A:C,2,FALSE)","v":0},{"$f":"VLOOKUP(F280,'Banco de Matriculas '!A:C,3,FALSE)","v":0}]
[268,null,null,null,null,null,{"$f":"VLOOKUP(F281,'Banco de Matriculas '!A:C,2,FALSE)","v":0},{"$f":"VLOOKUP(F281,'Banco de Matriculas '!A:C,3,FALSE)","v":0}]
[269,null,null,null,null,null,{"$f":"VLOOKUP(F282,'Banco de Matriculas '!A:C,2,FALSE)","v":0},{"$f":"VLOOKUP(F282,'Banco de Matriculas '!A:C,3,FALSE)","v":0}]
[270,null,null,null,null,null,{"$f":"VLOOKUP(F283,'Banco de Matriculas '!A:C,2,FALSE)","v":0},{"$f":"VLOOKUP(F283,'Banco de Matriculas '!A:C,3,FALSE)","v":0}]
[271,null,null,null,null,null,{"$f":"VLOOKUP(F284,'Banco de Matriculas '!A:C,2,FALSE)","v":0},{"$f":"VLOOKUP(F284,'Banco de Matriculas '!A:C,3,FALSE)","v":0}]
[272,null,null,null,null,null,{"$f":"VLOOKUP(F285,'Banco de Matriculas '!A:C,2,FALSE)","v":0},{"$f":"VLOOKUP(F285,'Banco de Matriculas '!A:C,3,FALSE)","v":0}]
[273,null,null,null,null,null,{"$f":"VLOOKUP(F286,'Banco de Matriculas '!A:C,2,FALSE)","v":0},{"$f":"VLOOKUP(F286,'Banco de Matriculas '!A:C,3,FALSE)","v":0}]
[274,null,null,null,null,null,{"$f":"VLOOKUP(F287,'Banco de Matriculas '!A:C,2,FALSE)","v":0},{"$f":"VLOOKUP(F287,'Banco de Matriculas '!A:C,3,FALSE)","v":0}]
[275,null,null,null,null,null,{"$f":"VLOOKUP(F288,'Banco de Matriculas '!A:C,2,FALSE)","v":0},{"$f":"VLOOKUP(F288,'Banco de Matriculas '!A:C,3,FALSE)","v":0}]
[276,null,null,null,null,null,{"$f":"VLOOKUP(F289,'Banco de Matriculas '!A:C,2,FALSE)","v":0},{"$f":"VLOOKUP(F289,'Banco de Matriculas '!A:C,3,FALSE)","v":0}]
[277,null,null,null,null,null,{"$f":"VLOOKUP(F290,'Banco de Matriculas '!A:C,2,FALSE)","v":0},{"$f":"VLOOKUP(F290,'Banco de Matriculas '!A:C,3,FALSE)","v":0}]
[278,null,null,null,null,null,{"$f":"VLOOKUP(F291,'Banco de Matriculas '!A:C,2,FALSE)","v":0},{"$f":"VLOOKUP(F291,'Banco de Matriculas '!A:C,3,FALSE)","v":0}]
[279,null,null,null,null,null,{"$f":"VLOOKUP(F292,'Banco de Matriculas '!A:C,2,FALSE)","v":0},{"$f":"VLOOKUP(F292,'Banco de Matriculas '!A:C,3,FALSE)","v":0}]
[280,null,null,null,null,null,{"$f":"VLOOKUP(F293,'Banco de Matriculas '!A:C,2,FALSE)","v":0},{"$f":"VLOOKUP(F293,'Banco de Matriculas '!A:C,3,FALSE)","v":0}]
[281,null,null,null,null,null,{"$f":"VLOOKUP(F294,'Banco de Matriculas '!A:C,2,FALSE)","v":0},{"$f":"VLOOKUP(F294,'Banco de Matriculas '!A:C,3,FALSE)","v":0}]
[282,null,null,null,null,null,{"$f":"VLOOKUP(F295,'Banco de Matriculas '!A:C,2,FALSE)","v":0},{"$f":"VLOOKUP(F295,'Banco de Matriculas '!A:C,3,FALSE)","v":0}]
[283,null,null,null,null,null,{"$f":"VLOOKUP(F296,'Banco de Matriculas '!A:C,2,FALSE)","v":0},{"$f":"VLOOKUP(F296,'Banco de Matriculas '!A:C,3,FALSE)","v":0}]
[284,null,null,null,null,null,{"$f":"VLOOKUP(F297,'Banco de Matriculas '!A:C,2,FALSE)","v":0},{"$f":"VLOOKUP(F297,'Banco de Matriculas '!A:C,3,FALSE)","v":0}]
[285,null,null,null,null,null,{"$f":"VLOOKUP(F298,'Banco de Matriculas '!A:C,2,FALSE)","v":0},{"$f":"VLOOKUP(F298,'Banco de Matriculas '!A:C,3,FALSE)","v":0}]
[286,null,null,null,null,null,{"$f":"VLOOKUP(F299,'Banco de Matriculas '!A:C,2,FALSE)","v":0},{"$f":"VLOOKUP(F299,'Banco de Matriculas '!A:C,3,FALSE)","v":0}]
[287,null,null,null,null,null,{"$f":"VLOOKUP(F300,'Banco de Matriculas '!A:C,2,FALSE)","v":0},{"$f":"VLOOKUP(F300,'Banco de Matriculas '!A:C,3,FALSE)","v":0}]
[288,null,null,null,null,null,{"$f":"VLOOKUP(F301,'Banco de Matriculas '!A:C,2,FALSE)","v":0},{"$f":"VLOOKUP(F301,'Banco de Matriculas '!A:C,3,FALSE)","v":0}]
[289,null,null,null,null,null,{"$f":"VLOOKUP(F302,'Banco de Matriculas '!A:C,2,FALSE)","v":0},{"$f":"VLOOKUP(F302,'Banco de Matriculas '!A:C,3,FALSE)","v":0}]
[290,null,null,null,null,null,{"$f":"VLOOKUP(F303,'Banco de Matriculas '!A:C,2,FALSE)","v":0},{"$f":"VLOOKUP(F303,'Banco de Matriculas '!A:C,3,FALSE)","v":0}]
[291,null,null,null,null,null,{"$f":"VLOOKUP(F304,'Banco de Matriculas '!A:C,2,FALSE)","v":0},{"$f":"VLOOKUP(F304,'Banco de Matriculas '!A:C,3,FALSE)","v":0}]
[292,null,null,null,null,null,{"$f":"VLOOKUP(F305,'Banco de Matriculas '!A:C,2,FALSE)","v":0},{"$f":"VLOOKUP(F305,'Banco de Matriculas '!A:C,3,FALSE)","v":0}]
[293,null,null,null,null,null,{"$f":"VLOOKUP(F306,'Banco de Matriculas '!A:C,2,FALSE)","v":0},{"$f":"VLOOKUP(F306,'Banco de Matriculas '!A:C,3,FALSE)","v":0}]
[294,null,null,null,null,null,{"$f":"VLOOKUP(F307,'Banco de Matriculas '!A:C,2,FALSE)","v":0},{"$f":"VLOOKUP(F307,'Banco de Matriculas '!A:C,3,FALSE)","v":0}]
[295,null,null,null,null,null,{"$f":"VLOOKUP(F308,'Banco de Matriculas '!A:C,2,FALSE)","v":0},{"$f":"VLOOKUP(F308,'Banco de Matriculas '!A:C,3,FALSE)","v":0}]
[296,null,null,null,null,null,{"$f":"VLOOKUP(F309,'Banco de Matriculas '!A:C,2,FALSE)","v":0},{"$f":"VLOOKUP(F309,'Banco de Matriculas '!A:C,3,FALSE)","v":0}]
[297,null,null,null,null,null,{"$f":"VLOOKUP(F310,'Banco de Matriculas '!A:C,2,FALSE)","v":0},{"$f":"VLOOKUP(F310,'Banco de Matriculas '!A:C,3,FALSE)","v":0}]
[298,null,null,null,null,null,{"$f":"VLOOKUP(F311,'Banco de Matriculas '!A:C,2,FALSE)","v":0},{"$f":"VLOOKUP(F311,'Banco de Matriculas '!A:C,3,FALSE)","v":0}]
[299,null,null,null,null,null,{"$f":"VLOOKUP(F312,'Banco de Matriculas '!A:C,2,FALSE)","v":0},{"$f":"VLOOKUP(F312,'Banco de Matriculas '!A:C,3,FALSE)","v":0}]
[300,null,null,null,null,null,{"$f":"VLOOKUP(F313,'Banco de Matriculas '!A:C,2,FALSE)","v":0},{"$f":"VLOOKUP(F313,'Banco de Matriculas '!A:C,3,FALSE)","v":0}]
[301,null,null,null,null,null,{"$f":"VLOOKUP(F314,'Banco de Matriculas '!A:C,2,FALSE)","v":0},{"$f":"VLOOKUP(F314,'Banco de Matriculas '!A:C,3,FALSE)","v":0}]
[302,null,null,null,null,null,{"$f":"VLOOKUP(F315,'Banco de Matriculas '!A:C,2,FALSE)","v":0},{"$f":"VLOOKUP(F315,'Banco de Matriculas '!A:C,3,FALSE)","v":0}]
[303,null,null,null,null,null,{"$f":"VLOOKUP(F316,'Banco de Matriculas '!A:C,2,FALSE)","v":0},{"$f":"VLOOKUP(F316,'Banco de Matriculas '!A:C,3,FALSE)","v":0}]
[304,null,null,null,null,null,{"$f":"VLOOKUP(F317,'Banco de Matriculas '!A:C,2,FALSE)","v":0},{"$f":"VLOOKUP(F317,'Banco de Matriculas '!A:C,3,FALSE)","v":0}]
[305,null,null,null,null,null,{"$f":"VLOOKUP(F318,'Banco de Matriculas '!A:C,2,FALSE)","v":0},{"$f":"VLOOKUP(F318,'Banco de Matriculas '!A:C,3,FALSE)","v":0}]
[306,null,null,null,null,null,{"$f":"VLOOKUP(F319,'Banco de Matriculas '!A:C,2,FALSE)","v":0},{"$f":"VLOOKUP(F319,'Banco de Matriculas '!A:C,3,FALSE)","v":0}]
[307,null,null,null,null,null,{"$f":"VLOOKUP(F320,'Banco de Matriculas '!A:C,2,FALSE)","v":0},{"$f":"VLOOKUP(F320,'Banco de Matriculas '!A:C,3,FALSE)","v":0}]
[308,null,null,null,null,null,{"$f":"VLOOKUP(F321,'Banco de Matriculas '!A:C,2,FALSE)","v":0},{"$f":"VLOOKUP(F321,'Banco de Matriculas '!A:C,3,FALSE)","v":0}]
[309,null,null,null,null,null,{"$f":"VLOOKUP(F322,'Banco de Matriculas '!A:C,2,FALSE)","v":0},{"$f":"VLOOKUP(F322,'Banco de Matriculas '!A:C,3,FALSE)","v":0}]
[310,null,null,null,null,null,{"$f":"VLOOKUP(F323,'Banco de Matriculas '!A:C,2,FALSE)","v":0},{"$f":"VLOOKUP(F323,'Banco de Matriculas '!A:C,3,FALSE)","v":0}]
[311,null,null,null,null,null,{"$f":"VLOOKUP(F324,'Banco de Matriculas '!A:C,2,FALSE)","v":0},{"$f":"VLOOKUP(F324,'Banco de Matriculas '!A:C,3,FALSE)","v":0}]
[312,null,null,null,null,null,{"$f":"VLOOKUP(F325,'Banco de Matriculas '!A:C,2,FALSE)","v":0},{"$f":"VLOOKUP(F325,'Banco de Matriculas '!A:C,3,FALSE)","v":0}]
[313,null,null,null,null,null,{"$f":"VLOOKUP(F326,'Banco de Matriculas '!A:C,2,FALSE)","v":0},{"$f":"VLOOKUP(F326,'Banco de Matriculas '!A:C,3,FALSE)","v":0}]
[314,null,null,null,null,null,{"$f":"VLOOKUP(F327,'Banco de Matriculas '!A:C,2,FALSE)","v":0},{"$f":"VLOOKUP(F327,'Banco de Matriculas '!A:C,3,FALSE)","v":0}]
[315,null,null,null,null,null,{"$f":"VLOOKUP(F328,'Banco de Matriculas '!A:C,2,FALSE)","v":0},{"$f":"VLOOKUP(F328,'Banco de Matriculas '!A:C,3,FALSE)","v":0}]
[316,null,null,null,null,null,{"$f":"VLOOKUP(F329,'Banco de Matriculas '!A:C,2,FALSE)","v":0},{"$f":"VLOOKUP(F329,'Banco de Matriculas '!A:C,3,FALSE)","v":0}]
[317,null,null,null,null,null,{"$f":"VLOOKUP(F330,'Banco de Matriculas '!A:C,2,FALSE)","v":0},{"$f":"VLOOKUP(F330,'Banco de Matriculas '!A:C,3,FALSE)","v":0}]
[318,null,null,null,null,null,{"$f":"VLOOKUP(F331,'Banco de Matriculas '!A:C,2,FALSE)","v":0},{"$f":"VLOOKUP(F331,'Banco de Matriculas '!A:C,3,FALSE)","v":0}]
[319,null,null,null,null,null,{"$f":"VLOOKUP(F332,'Banco de Matriculas '!A:C,2,FALSE)","v":0},{"$f":"VLOOKUP(F332,'Banco de Matriculas '!A:C,3,FALSE)","v":0}]
[320,null,null,null,null,null,{"$f":"VLOOKUP(F333,'Banco de Matriculas '!A:C,2,FALSE)","v":0},{"$f":"VLOOKUP(F333,'Banco de Matriculas '!A:C,3,FALSE)","v":0}]
[321,null,null,null,null,null,{"$f":"VLOOKUP(F334,'Banco de Matriculas '!A:C,2,FALSE)","v":0},{"$f":"VLOOKUP(F334,'Banco de Matriculas '!A:C,3,FALSE)","v":0}]
[322,null,null,null,null,null,{"$f":"VLOOKUP(F335,'Banco de Matriculas '!A:C,2,FALSE)","v":0},{"$f":"VLOOKUP(F335,'Banco de Matriculas '!A:C,3,FALSE)","v":0}]
[323,null,null,null,null,null,{"$f":"VLOOKUP(F336,'Banco de Matriculas '!A:C,2,FALSE)","v":0},{"$f":"VLOOKUP(F336,'Banco de Matriculas '!A:C,3,FALSE)","v":0}]
[324,null,null,null,null,null,{"$f":"VLOOKUP(F337,'Banco de Matriculas '!A:C,2,FALSE)","v":0},{"$f":"VLOOKUP(F337,'Banco de Matriculas '!A:C,3,FALSE)","v":0}]
[325,null,null,null,null,null,{"$f":"VLOOKUP(F338,'Banco de Matriculas '!A:C,2,FALSE)","v":0},{"$f":"VLOOKUP(F338,'Banco de Matriculas '!A:C,3,FALSE)","v":0}]
[326,null,null,null,null,null,{"$f":"VLOOKUP(F339,'Banco de Matriculas '!A:C,2,FALSE)","v":0},{"$f":"VLOOKUP(F339,'Banco de Matriculas '!A:C,3,FALSE)","v":0}]
[327,null,null,null,null,null,{"$f":"VLOOKUP(F340,'Banco de Matriculas '!A:C,2,FALSE)","v":0},{"$f":"VLOOKUP(F340,'Banco de Matriculas '!A:C,3,FALSE)","v":0}]
[328,null,null,null,null,null,{"$f":"VLOOKUP(F341,'Banco de Matriculas '!A:C,2,FALSE)","v":0},{"$f":"VLOOKUP(F341,'Banco de Matriculas '!A:C,3,FALSE)","v":0}]
[329,null,null,null,null,null,{"$f":"VLOOKUP(F342,'Banco de Matriculas '!A:C,2,FALSE)","v":0},{"$f":"VLOOKUP(F342,'Banco de Matriculas '!A:C,3,FALSE)","v":0}]
[330,null,null,null,null,null,{"$f":"VLOOKUP(F343,'Banco de Matriculas '!A:C,2,FALSE)","v":0},{"$f":"VLOOKUP(F343,'Banco de Matriculas '!A:C,3,FALSE)","v":0}]
[331,null,null,null,null,null,{"$f":"VLOOKUP(F344,'Banco de Matriculas '!A:C,2,FALSE)","v":0},{"$f":"VLOOKUP(F344,'Banco de Matriculas '!A:C,3,FALSE)","v":0}]
[332,null,null,null,null,null,{"$f":"VLOOKUP(F345,'Banco de Matriculas '!A:C,2,FALSE)","v":0},{"$f":"VLOOKUP(F345,'Banco de Matriculas '!A:C,3,FALSE)","v":0}]
[333,null,null,null,null,null,{"$f":"VLOOKUP(F346,'Banco de Matriculas '!A:C,2,FALSE)","v":0},{"$f":"VLOOKUP(F346,'Banco de Matriculas '!A:C,3,FALSE)","v":0}]
[334,null,null,null,null,null,{"$f":"VLOOKUP(F347,'Banco de Matriculas '!A:C,2,FALSE)","v":0},{"$f":"VLOOKUP(F347,'Banco de Matriculas '!A:C,3,FALSE)","v":0}]
[335,null,null,null,null,null,{"$f":"VLOOKUP(F348,'Banco de Matriculas '!A:C,2,FALSE)","v":0},{"$f":"VLOOKUP(F348,'Banco de Matriculas '!A:C,3,FALSE)","v":0}]
[336,null,null,null,null,null,{"$f":"VLOOKUP(F349,'Banco de Matriculas '!A:C,2,FALSE)","v":0},{"$f":"VLOOKUP(F349,'Banco de Matriculas '!A:C,3,FALSE)","v":0}]
[337,null,null,null,null,null,{"$f":"VLOOKUP(F350,'Banco de Matriculas '!A:C,2,FALSE)","v":0},{"$f":"VLOOKUP(F350,'Banco de Matriculas '!A:C,3,FALSE)","v":0}]
[338,null,null,null,null,null,{"$f":"VLOOKUP(F351,'Banco de Matriculas '!A:C,2,FALSE)","v":0},{"$f":"VLOOKUP(F351,'Banco de Matriculas '!A:C,3,FALSE)","v":0}]
[339,null,null,null,null,null,{"$f":"VLOOKUP(F352,'Banco de Matriculas '!A:C,2,FALSE)","v":0},{"$f":"VLOOKUP(F352,'Banco de Matriculas '!A:C,3,FALSE)","v":0}]
[340,null,null,null,null,null,{"$f":"VLOOKUP(F353,'Banco de Matriculas '!A:C,2,FALSE)","v":0},{"$f":"VLOOKUP(F353,'Banco de Matriculas '!A:C,3,FALSE)","v":0}]
[341,null,null,null,null,null,{"$f":"VLOOKUP(F354,'Banco de Matriculas '!A:C,2,FALSE)","v":0},{"$f":"VLOOKUP(F354,'Banco de Matriculas '!A:C,3,FALSE)","v":0}]
[342,null,null,null,null,null,{"$f":"VLOOKUP(F355,'Banco de Matriculas '!A:C,2,FALSE)","v":0},{"$f":"VLOOKUP(F355,'Banco de Matriculas '!A:C,3,FALSE)","v":0}]
[343,null,null,null,null,null,{"$f":"VLOOKUP(F356,'Banco de Matriculas '!A:C,2,FALSE)","v":0},{"$f":"VLOOKUP(F356,'Banco de Matriculas '!A:C,3,FALSE)","v":0}]
[344,null,null,null,null,null,{"$f":"VLOOKUP(F357,'Banco de Matriculas '!A:C,2,FALSE)","v":0},{"$f":"VLOOKUP(F357,'Banco de Matriculas '!A:C,3,FALSE)","v":0}]
[345,null,null,null,null,null,{"$f":"VLOOKUP(F358,'Banco de Matriculas '!A:C,2,FALSE)","v":0},{"$f":"VLOOKUP(F358,'Banco de Matriculas '!A:C,3,FALSE)","v":0}]
[346,null,null,null,null,null,{"$f":"VLOOKUP(F359,'Banco de Matriculas '!A:C,2,FALSE)","v":0},{"$f":"VLOOKUP(F359,'Banco de Matriculas '!A:C,3,FALSE)","v":0}]
[347,null,null,null,null,null,{"$f":"VLOOKUP(F360,'Banco de Matriculas '!A:C,2,FALSE)","v":0},{"$f":"VLOOKUP(F360,'Banco de Matriculas '!A:C,3,FALSE)","v":0}]
[348,null,null,null,null,null,{"$f":"VLOOKUP(F361,'Banco de Matriculas '!A:C,2,FALSE)","v":0},{"$f":"VLOOKUP(F361,'Banco de Matriculas '!A:C,3,FALSE)","v":0}]
[349,null,null,null,null,null,{"$f":"VLOOKUP(F362,'Banco de Matriculas '!A:C,2,FALSE)","v":0},{"$f":"VLOOKUP(F362,'Banco de Matriculas '!A:C,3,FALSE)","v":0}]
[350,null,null,null,null,null,{"$f":"VLOOKUP(F363,'Banco de Matriculas '!A:C,2,FALSE)","v":0},{"$f":"VLOOKUP(F363,'Banco de Matriculas '!A:C,3,FALSE)","v":0}]
[351,null,null,null,null,null,{"$f":"VLOOKUP(F364,'Banco de Matriculas '!A:C,2,FALSE)","v":0},{"$f":"VLOOKUP(F364,'Banco de Matriculas '!A:C,3,FALSE)","v":0}]
[352,null,null,null,null,null,{"$f":"VLOOKUP(F365,'Banco de Matriculas '!A:C,2,FALSE)","v":0},{"$f":"VLOOKUP(F365,'Banco de Matriculas '!A:C,3,FALSE)","v":0}]
[353,null,null,null,null,null,{"$f":"VLOOKUP(F366,'Banco de Matriculas '!A:C,2,FALSE)","v":0},{"$f":"VLOOKUP(F366,'Banco de Matriculas '!A:C,3,FALSE)","v":0}]
[354,null,null,null,null,null,{"$f":"VLOOKUP(F367,'Banco de Matriculas '!A:C,2,FALSE)","v":0},{"$f":"VLOOKUP(F367,'Banco de Matriculas '!A:C,3,FALSE)","v":0}]
[355,null,null,null,null,null,{"$f":"VLOOKUP(F368,'Banco de Matriculas '!A:C,2,FALSE)","v":0},{"$f":"VLOOKUP(F368,'Banco de Matriculas '!A:C,3,FALSE)","v":0}]
[356,null,null,null,null,null,{"$f":"VLOOKUP(F369,'Banco de Matriculas '!A:C,2,FALSE)","v":0},{"$f":"VLOOKUP(F369,'Banco de Matriculas '!A:C,3,FALSE)","v":0}]
[357,null,null,null,null,null,{"$f":"VLOOKUP(F370,'Banco de Matriculas '!A:C,2,FALSE)","v":0},{"$f":"VLOOKUP(F370,'Banco de Matriculas '!A:C,3,FALSE)","v":0}]
[358,null,null,null,null,null,{"$f":"VLOOKUP(F371,'Banco de Matriculas '!A:C,2,FALSE)","v":0},{"$f":"VLOOKUP(F371,'Banco de Matriculas '!A:C,3,FALSE)","v":0}]
[359,null,null,null,null,null,{"$f":"VLOOKUP(F372,'Banco de Matriculas '!A:C,2,FALSE)","v":0},{"$f":"VLOOKUP(F372,'Banco de Matriculas '!A:C,3,FALSE)","v":0}]
[360,null,null,null,null,null,{"$f":"VLOOKUP(F373,'Banco de Matriculas '!A:C,2,FALSE)","v":0},{"$f":"VLOOKUP(F373,'Banco de Matriculas '!A:C,3,FALSE)","v":0}]
[361,null,null,null,null,null,{"$f":"VLOOKUP(F374,'Banco de Matriculas '!A:C,2,FALSE)","v":0},{"$f":"VLOOKUP(F374,'Banco de Matriculas '!A:C,3,FALSE)","v":0}]
[362,null,null,null,null,null,{"$f":"VLOOKUP(F375,'Banco de Matriculas '!A:C,2,FALSE)","v":0},{"$f":"VLOOKUP(F375,'Banco de Matriculas '!A:C,3,FALSE)","v":0}]
[363,null,null,null,null,null,{"$f":"VLOOKUP(F376,'Banco de Matriculas '!A:C,2,FALSE)","v":0},{"$f":"VLOOKUP(F376,'Banco de Matriculas '!A:C,3,FALSE)","v":0}]
[364,null,null,null,null,null,{"$f":"VLOOKUP(F377,'Banco de Matriculas '!A:C,2,FALSE)","v":0},{"$f":"VLOOKUP(F377,'Banco de Matriculas '!A:C,3,FALSE)","v":0}]
[365,null,null,null,null,null,{"$f":"VLOOKUP(F378,'Banco de Matriculas '!A:C,2,FALSE)","v":0},{"$f":"VLOOKUP(F378,'Banco de Matriculas '!A:C,3,FALSE)","v":0}]
[366,null,null,null,null,null,{"$f":"VLOOKUP(F379,'Banco de Matriculas '!A:C,2,FALSE)","v":0},{"$f":"VLOOKUP(F379,'Banco de Matriculas '!A:C,3,FALSE)","v":0}]
[367,null,null,null,null,null,{"$f":"VLOOKUP(F380,'Banco de Matriculas '!A:C,2,FALSE)","v":0},{"$f":"VLOOKUP(F380,'Banco de Matriculas '!A:C,3,FALSE)","v":0}]
[368,null,null,null,null,null,{"$f":"VLOOKUP(F381,'Banco de Matriculas '!A:C,2,FALSE)","v":0},{"$f":"VLOOKUP(F381,'Banco de Matriculas '!A:C,3,FALSE)","v":0}]
[369,null,null,null,null,null,{"$f":"VLOOKUP(F382,'Banco de Matriculas '!A:C,2,FALSE)","v":0},{"$f":"VLOOKUP(F382,'Banco de Matriculas '!A:C,3,FALSE)","v":0}]
[370,null,null,null,null,null,{"$f":"VLOOKUP(F383,'Banco de Matriculas '!A:C,2,FALSE)","v":0},{"$f":"VLOOKUP(F383,'Banco de Matriculas '!A:C,3,FALSE)","v":0}]
[371,null,null,null,null,null,{"$f":"VLOOKUP(F384,'Banco de Matriculas '!A:C,2,FALSE)","v":0},{"$f":"VLOOKUP(F384,'Banco de Matriculas '!A:C,3,FALSE)","v":0}]
[372,null,null,null,null,null,{"$f":"VLOOKUP(F385,'Banco de Matriculas '!A:C,2,FALSE)","v":0},{"$f":"VLOOKUP(F385,'Banco de Matriculas '!A:C,3,FALSE)","v":0}]
[373,null,null,null,null,null,{"$f":"VLOOKUP(F386,'Banco de Matriculas '!A:C,2,FALSE)","v":0},{"$f":"VLOOKUP(F386,'Banco de Matriculas '!A:C,3,FALSE)","v":0}]
[374,null,null,null,null,null,{"$f":"VLOOKUP(F387,'Banco de Matriculas '!A:C,2,FALSE)","v":0},{"$f":"VLOOKUP(F387,'Banco de Matriculas '!A:C,3,FALSE)","v":0}]
[375,null,null,null,null,null,{"$f":"VLOOKUP(F388,'Banco de Matriculas '!A:C,2,FALSE)","v":0},{"$f":"VLOOKUP(F388,'Banco de Matriculas '!A:C,3,FALSE)","v":0}]
[376,null,null,null,null,null,{"$f":"VLOOKUP(F389,'Banco de Matriculas '!A:C,2,FALSE)","v":0},{"$f":"VLOOKUP(F389,'Banco de Matriculas '!A:C,3,FALSE)","v":0}]
[377,null,null,null,null,null,{"$f":"VLOOKUP(F390,'Banco de Matriculas '!A:C,2,FALSE)","v":0},{"$f":"VLOOKUP(F390,'Banco de Matriculas '!A:C,3,FALSE)","v":0}]
[378,null,null,null,null,null,{"$f":"VLOOKUP(F391,'Banco de Matriculas '!A:C,2,FALSE)","v":0},{"$f":"VLOOKUP(F391,'Banco de Matriculas '!A:C,3,FALSE)","v":0}]
[379,null,null,null,null,null,{"$f":"VLOOKUP(F392,'Banco de Matriculas '!A:C,2,FALSE)","v":0},{"$f":"VLOOKUP(F392,'Banco de Matriculas '!A:C,3,FALSE)","v":0}]
[380,null,null,null,null,null,{"$f":"VLOOKUP(F393,'Banco de Matriculas '!A:C,2,FALSE)","v":0},{"$f":"VLOOKUP(F393,'Banco de Matriculas '!A:C,3,FALSE)","v":0}]
[381,null,null,null,null,null,{"$f":"VLOOKUP(F394,'Banco de Matriculas '!A:C,2,FALSE)","v":0},{"$f":"VLOOKUP(F394,'Banco de Matriculas '!A:C,3,FALSE)","v":0}]
[382,null,null,null,null,null,{"$f":"VLOOKUP(F395,'Banco de Matriculas '!A:C,2,FALSE)","v":0},{"$f":"VLOOKUP(F395,'Banco de Matriculas '!A:C,3,FALSE)","v":0}]
[383,null,null,null,null,null,{"$f":"VLOOKUP(F396,'Banco de Matriculas '!A:C,2,FALSE)","v":0},{"$f":"VLOOKUP(F396,'Banco de Matriculas '!A:C,3,FALSE)","v":0}]
[384,null,null,null,null,null,{"$f":"VLOOKUP(F397,'Banco de Matriculas '!A:C,2,FALSE)","v":0},{"$f":"VLOOKUP(F397,'Banco de Matriculas '!A:C,3,FALSE)","v":0}]
[385,null,null,null,null,null,{"$f":"VLOOKUP(F398,'Banco de Matriculas '!A:C,2,FALSE)","v":0},{"$f":"VLOOKUP(F398,'Banco de Matriculas '!A:C,3,FALSE)","v":0}]
[386,null,null,null,null,null,{"$f":"VLOOKUP(F399,'Banco de Matriculas '!A:C,2,FALSE)","v":0},{"$f":"VLOOKUP(F399,'Banco de Matriculas '!A:C,3,FALSE)","v":0}]
[387,null,null,null,null,null,{"$f":"VLOOKUP(F400,'Banco de Matriculas '!A:C,2,FALSE)","v":0},{"$f":"VLOOKUP(F400,'Banco de Matriculas '!A:C,3,FALSE)","v":0}]
[388,null,null,null,null,null,{"$f":"VLOOKUP(F401,'Banco de Matriculas '!A:C,2,FALSE)","v":0},{"$f":"VLOOKUP(F401,'Banco de Matriculas '!A:C,3,FALSE)","v":0}]
[389,null,null,null,null,null,{"$f":"VLOOKUP(F402,'Banco de Matriculas '!A:C,2,FALSE)","v":0},{"$f":"VLOOKUP(F402,'Banco de Matriculas '!A:C,3,FALSE)","v":0}]
[390,null,null,null,null,null,{"$f":"VLOOKUP(F403,'Banco de Matriculas '!A:C,2,FALSE)","v":0},{"$f":"VLOOKUP(F403,'Banco de Matriculas '!A:C,3,FALSE)","v":0}]
[391,null,null,null,null,null,{"$f":"VLOOKUP(F404,'Banco de Matriculas '!A:C,2,FALSE)","v":0},{"$f":"VLOOKUP(F404,'Banco de Matriculas '!A:C,3,FALSE)","v":0}]
[392,null,null,null,null,null,{"$f":"VLOOKUP(F405,'Banco de Matriculas '!A:C,2,FALSE)","v":0},{"$f":"VLOOKUP(F405,'Banco de Matriculas '!A:C,3,FALSE)","v":0}]
[393,null,null,null,null,null,{"$f":"VLOOKUP(F406,'Banco de Matriculas '!A:C,2,FALSE)","v":0},{"$f":"VLOOKUP(F406,'Banco de Matriculas '!A:C,3,FALSE)","v":0}]
[394,null,null,null,null,null,{"$f":"VLOOKUP(F407,'Banco de Matriculas '!A:C,2,FALSE)","v":0},{"$f":"VLOOKUP(F407,'Banco de Matriculas '!A:C,3,FALSE)","v":0}]
[395,null,null,null,null,null,{"$f":"VLOOKUP(F408,'Banco de Matriculas '!A:C,2,FALSE)","v":0},{"$f":"VLOOKUP(F408,'Banco de Matriculas '!A:C,3,FALSE)","v":0}]
[396,null,null,null,null,null,{"$f":"VLOOKUP(F409,'Banco de Matriculas '!A:C,2,FALSE)","v":0},{"$f":"VLOOKUP(F409,'Banco de Matriculas '!A:C,3,FALSE)","v":0}]
[397,null,null,null,null,null,{"$f":"VLOOKUP(F410,'Banco de Matriculas '!A:C,2,FALSE)","v":0},{"$f":"VLOOKUP(F410,'Banco de Matriculas '!A:C,3,FALSE)","v":0}]
[398,null,null,null,null,null,{"$f":"VLOOKUP(F411,'Banco de Matriculas '!A:C,2,FALSE)","v":0},{"$f":"VLOOKUP(F411,'Banco de Matriculas '!A:C,3,FALSE)","v":0}]
[399,null,null,null,null,null,{"$f":"VLOOKUP(F412,'Banco de Matriculas '!A:C,2,FALSE)","v":0},{"$f":"VLOOKUP(F412,'Banco de Matriculas '!A:C,3,FALSE)","v":0}]
[400,null,null,null,null,null,{"$f":"VLOOKUP(F413,'Banco de Matriculas '!A:C,2,FALSE)","v":0},{"$f":"VLOOKUP(F413,'Banco de Matriculas '!A:C,3,FALSE)","v":0}]
[401,null,null,null,null,null,{"$f":"VLOOKUP(F414,'Banco de Matriculas '!A:C,2,FALSE)","v":0},{"$f":"VLOOKUP(F414,'Banco de Matriculas '!A:C,3,FALSE)","v":0}]
[402,null,null,null,null,null,{"$f":"VLOOKUP(F415,'Banco de Matriculas '!A:C,2,FALSE)","v":0},{"$f":"VLOOKUP(F415,'Banco de Matriculas '!A:C,3,FALSE)","v":0}]
[403,null,null,null,null,null,{"$f":"VLOOKUP(F416,'Banco de Matriculas '!A:C,2,FALSE)","v":0},{"$f":"VLOOKUP(F416,'Banco de Matriculas '!A:C,3,FALSE)","v":0}]
[404,null,null,null,null,null,{"$f":"VLOOKUP(F417,'Banco de Matriculas '!A:C,2,FALSE)","v":0},{"$f":"VLOOKUP(F417,'Banco de Matriculas '!A:C,3,FALSE)","v":0}]
[405,null,null,null,null,null,{"$f":"VLOOKUP(F418,'Banco de Matriculas '!A:C,2,FALSE)","v":0},{"$f":"VLOOKUP(F418,'Banco de Matriculas '!A:C,3,FALSE)","v":0}]
[406,null,null,null,null,null,{"$f":"VLOOKUP(F419,'Banco de Matriculas '!A:C,2,FALSE)","v":0},{"$f":"VLOOKUP(F419,'Banco de Matriculas '!A:C,3,FALSE)","v":0}]
[407,null,null,null,null,null,{"$f":"VLOOKUP(F420,'Banco de Matriculas '!A:C,2,FALSE)","v":0},{"$f":"VLOOKUP(F420,'Banco de Matriculas '!A:C,3,FALSE)","v":0}]
[408,null,null,null,null,null,{"$f":"VLOOKUP(F421,'Banco de Matriculas '!A:C,2,FALSE)","v":0},{"$f":"VLOOKUP(F421,'Banco de Matriculas '!A:C,3,FALSE)","v":0}]
[409,null,null,null,null,null,{"$f":"VLOOKUP(F422,'Banco de Matriculas '!A:C,2,FALSE)","v":0},{"$f":"VLOOKUP(F422,'Banco de Matriculas '!A:C,3,FALSE)","v":0}]
[410,null,null,null,null,null,{"$f":"VLOOKUP(F423,'Banco de Matriculas '!A:C,2,FALSE)","v":0},{"$f":"VLOOKUP(F423,'Banco de Matriculas '!A:C,3,FALSE)","v":0}]
[411,null,null,null,null,null,{"$f":"VLOOKUP(F424,'Banco de Matriculas '!A:C,2,FALSE)","v":0},{"$f":"VLOOKUP(F424,'Banco de Matriculas '!A:C,3,FALSE)","v":0}]
[412,null,null,null,null,null,{"$f":"VLOOKUP(F425,'Banco de Matriculas '!A:C,2,FALSE)","v":0},{"$f":"VLOOKUP(F425,'Banco de Matriculas '!A:C,3,FALSE)","v":0}]
[413,null,null,null,null,null,{"$f":"VLOOKUP(F426,'Banco de Matriculas '!A:C,2,FALSE)","v":0},{"$f":"VLOOKUP(F426,'Banco de Matriculas '!A:C,3,FALSE)","v":0}]
[414,null,null,null,null,null,{"$f":"VLOOKUP(F427,'Banco de Matriculas '!A:C,2,FALSE)","v":0},{"$f":"VLOOKUP(F427,'Banco de Matriculas '!A:C,3,FALSE)","v":0}]
[415,null,null,null,null,null,{"$f":"VLOOKUP(F428,'Banco de Matriculas '!A:C,2,FALSE)","v":0},{"$f":"VLOOKUP(F428,'Banco de Matriculas '!A:C,3,FALSE)","v":0}]
[416,null,null,null,null,null,{"$f":"VLOOKUP(F429,'Banco de Matriculas '!A:C,2,FALSE)","v":0},{"$f":"VLOOKUP(F429,'Banco de Matriculas '!A:C,3,FALSE)","v":0}]
[417,null,null,null,null,null,{"$f":"VLOOKUP(F430,'Banco de Matriculas '!A:C,2,FALSE)","v":0},{"$f":"VLOOKUP(F430,'Banco de Matriculas '!A:C,3,FALSE)","v":0}]
[418,null,null,null,null,null,{"$f":"VLOOKUP(F431,'Banco de Matriculas '!A:C,2,FALSE)","v":0},{"$f":"VLOOKUP(F431,'Banco de Matriculas '!A:C,3,FALSE)","v":0}]
[419,null,null,null,null,null,{"$f":"VLOOKUP(F432,'Banco de Matriculas '!A:C,2,FALSE)","v":0},{"$f":"VLOOKUP(F432,'Banco de Matriculas '!A:C,3,FALSE)","v":0}]
[420,null,null,null,null,null,{"$f":"VLOOKUP(F433,'Banco de Matriculas '!A:C,2,FALSE)","v":0},{"$f":"VLOOKUP(F433,'Banco de Matriculas '!A:C,3,FALSE)","v":0}]
[421,null,null,null,null,null,{"$f":"VLOOKUP(F434,'Banco de Matriculas '!A:C,2,FALSE)","v":0},{"$f":"VLOOKUP(F434,'Banco de Matriculas '!A:C,3,FALSE)","v":0}]
[422,null,null,null,null,null,{"$f":"VLOOKUP(F435,'Banco de Matriculas '!A:C,2,FALSE)","v":0},{"$f":"VLOOKUP(F435,'Banco de Matriculas '!A:C,3,FALSE)","v":0}]
[423,null,null,null,null,null,{"$f":"VLOOKUP(F436,'Banco de Matriculas '!A:C,2,FALSE)","v":0},{"$f":"VLOOKUP(F436,'Banco de Matriculas '!A:C,3,FALSE)","v":0}]
[424,null,null,null,null,null,{"$f":"VLOOKUP(F437,'Banco de Matriculas '!A:C,2,FALSE)","v":0},{"$f":"VLOOKUP(F437,'Banco de Matriculas '!A:C,3,FALSE)","v":0}]
[425,null,null,null,null,null,{"$f":"VLOOKUP(F438,'Banco de Matriculas '!A:C,2,FALSE)","v":0},{"$f":"VLOOKUP(F438,'Banco de Matriculas '!A:C,3,FALSE)","v":0}]
[426,null,null,null,null,null,{"$f":"VLOOKUP(F439,'Banco de Matriculas '!A:C,2,FALSE)","v":0},{"$f":"VLOOKUP(F439,'Banco de Matriculas '!A:C,3,FALSE)","v":0}]
[427,null,null,null,null,null,{"$f":"VLOOKUP(F440,'Banco de Matriculas '!A:C,2,FALSE)","v":0},{"$f":"VLOOKUP(F440,'Banco de Matriculas '!A:C,3,FALSE)","v":0}]
[428,null,null,null,null,null,{"$f":"VLOOKUP(F441,'Banco de Matriculas '!A:C,2,FALSE)","v":0},{"$f":"VLOOKUP(F441,'Banco de Matriculas '!A:C,3,FALSE)","v":0}]
[429,null,null,null,null,null,{"$f":"VLOOKUP(F442,'Banco de Matriculas '!A:C,2,FALSE)","v":0},{"$f":"VLOOKUP(F442,'Banco de Matriculas '!A:C,3,FALSE)","v":0}]
[430,null,null,null,null,null,{"$f":"VLOOKUP(F443,'Banco de Matriculas '!A:C,2,FALSE)","v":0},{"$f":"VLOOKUP(F443,'Banco de Matriculas '!A:C,3,FALSE)","v":0}]
[431,null,null,null,null,null,{"$f":"VLOOKUP(F444,'Banco de Matriculas '!A:C,2,FALSE)","v":0},{"$f":"VLOOKUP(F444,'Banco de Matriculas '!A:C,3,FALSE)","v":0}]
[432,null,null,null,null,null,{"$f":"VLOOKUP(F445,'Banco de Matriculas '!A:C,2,FALSE)","v":0},{"$f":"VLOOKUP(F445,'Banco de Matriculas '!A:C,3,FALSE)","v":0}]
[433,null,null,null,null,null,{"$f":"VLOOKUP(F446,'Banco de Matriculas '!A:C,2,FALSE)","v":0},{"$f":"VLOOKUP(F446,'Banco de Matriculas '!A:C,3,FALSE)","v":0}]
[434,null,null,null,null,null,{"$f":"VLOOKUP(F447,'Banco de Matriculas '!A:C,2,FALSE)","v":0},{"$f":"VLOOKUP(F447,'Banco de Matriculas '!A:C,3,FALSE)","v":0}]
[435,null,null,null,null,null,{"$f":"VLOOKUP(F448,'Banco de Matriculas '!A:C,2,FALSE)","v":0},{"$f":"VLOOKUP(F448,'Banco de Matriculas '!A:C,3,FALSE)","v":0}]
[436,null,null,null,null,null,{"$f":"VLOOKUP(F449,'Banco de Matriculas '!A:C,2,FALSE)","v":0},{"$f":"VLOOKUP(F449,'Banco de Matriculas '!A:C,3,FALSE)","v":0}]
[437,null,null,null,null,null,{"$f":"VLOOKUP(F450,'Banco de Matriculas '!A:C,2,FALSE)","v":0},{"$f":"VLOOKUP(F450,'Banco de Matriculas '!A:C,3,FALSE)","v":0}]
[438,null,null,null,null,null,{"$f":"VLOOKUP(F451,'Banco de Matriculas '!A:C,2,FALSE)","v":0},{"$f":"VLOOKUP(F451,'Banco de Matriculas '!A:C,3,FALSE)","v":0}]
[439,null,null,null,null,null,{"$f":"VLOOKUP(F452,'Banco de Matriculas '!A:C,2,FALSE)","v":0},{"$f":"VLOOKUP(F452,'Banco de Matriculas '!A:C,3,FALSE)","v":0}]
[440,null,null,null,null,null,{"$f":"VLOOKUP(F453,'Banco de Matriculas '!A:C,2,FALSE)","v":0},{"$f":"VLOOKUP(F453,'Banco de Matriculas '!A:C,3,FALSE)","v":0}]
[441,null,null,null,null,null,{"$f":"VLOOKUP(F454,'Banco de Matriculas '!A:C,2,FALSE)","v":0},{"$f":"VLOOKUP(F454,'Banco de Matriculas '!A:C,3,FALSE)","v":0}]
[442,null,null,null,null,null,{"$f":"VLOOKUP(F455,'Banco de Matriculas '!A:C,2,FALSE)","v":0},{"$f":"VLOOKUP(F455,'Banco de Matriculas '!A:C,3,FALSE)","v":0}]
[443,null,null,null,null,null,{"$f":"VLOOKUP(F456,'Banco de Matriculas '!A:C,2,FALSE)","v":0},{"$f":"VLOOKUP(F456,'Banco de Matriculas '!A:C,3,FALSE)","v":0}]
[444,null,null,null,null,null,{"$f":"VLOOKUP(F457,'Banco de Matriculas '!A:C,2,FALSE)","v":0},{"$f":"VLOOKUP(F457,'Banco de Matriculas '!A:C,3,FALSE)","v":0}]
[445,null,null,null,null,null,{"$f":"VLOOKUP(F458,'Banco de Matriculas '!A:C,2,FALSE)","v":0},{"$f":"VLOOKUP(F458,'Banco de Matriculas '!A:C,3,FALSE)","v":0}]
[446,null,null,null,null,null,{"$f":"VLOOKUP(F459,'Banco de Matriculas '!A:C,2,FALSE)","v":0},{"$f":"VLOOKUP(F459,'Banco de Matriculas '!A:C,3,FALSE)","v":0}]
[447,null,null,null,null,null,{"$f":"VLOOKUP(F460,'Banco de Matriculas '!A:C,2,FALSE)","v":0},{"$f":"VLOOKUP(F460,'Banco de Matriculas '!A:C,3,FALSE)","v":0}]
[448,null,null,null,null,null,{"$f":"VLOOKUP(F461,'Banco de Matriculas '!A:C,2,FALSE)","v":0},{"$f":"VLOOKUP(F461,'Banco de Matriculas '!A:C,3,FALSE)","v":0}]
[449,null,null,null,null,null,{"$f":"VLOOKUP(F462,'Banco de Matriculas '!A:C,2,FALSE)","v":0},{"$f":"VLOOKUP(F462,'Banco de Matriculas '!A:C,3,FALSE)","v":0}]
[450,null,null,null,null,null,{"$f":"VLOOKUP(F463,'Banco de Matriculas '!A:C,2,FALSE)","v":0},{"$f":"VLOOKUP(F463,'Banco de Matriculas '!A:C,3,FALSE)","v":0}]
[451,null,null,null,null,null,{"$f":"VLOOKUP(F464,'Banco de Matriculas '!A:C,2,FALSE)","v":0},{"$f":"VLOOKUP(F464,'Banco de Matriculas '!A:C,3,FALSE)","v":0}]
[452,null,null,null,null,null,{"$f":"VLOOKUP(F465,'Banco de Matriculas '!A:C,2,FALSE)","v":0},{"$f":"VLOOKUP(F465,'Banco de Matriculas '!A:C,3,FALSE)","v":0}]
[453,null,null,null,null,null,{"$f":"VLOOKUP(F466,'Banco de Matriculas '!A:C,2,FALSE)","v":0},{"$f":"VLOOKUP(F466,'Banco de Matriculas '!A:C,3,FALSE)","v":0}]
[454,null,null,null,null,null,{"$f":"VLOOKUP(F467,'Banco de Matriculas '!A:C,2,FALSE)","v":0},{"$f":"VLOOKUP(F467,'Banco de Matriculas '!A:C,3,FALSE)","v":0}]
[455,null,null,null,null,null,{"$f":"VLOOKUP(F468,'Banco de Matriculas '!A:C,2,FALSE)","v":0},{"$f":"VLOOKUP(F468,'Banco de Matriculas '!A:C,3,FALSE)","v":0}]
[456,null,null,null,null,null,{"$f":"VLOOKUP(F469,'Banco de Matriculas '!A:C,2,FALSE)","v":0},{"$f":"VLOOKUP(F469,'Banco de Matriculas '!A:C,3,FALSE)","v":0}]
[457,null,null,null,null,null,{"$f":"VLOOKUP(F470,'Banco de Matriculas '!A:C,2,FALSE)","v":0},{"$f":"VLOOKUP(F470,'Banco de Matriculas '!A:C,3,FALSE)","v":0}]
[458,null,null,null,null,null,{"$f":"VLOOKUP(F471,'Banco de Matriculas '!A:C,2,FALSE)","v":0},{"$f":"VLOOKUP(F471,'Banco de Matriculas '!A:C,3,FALSE)","v":0}]
[459,null,null,null,null,null,{"$f":"VLOOKUP(F472,'Banco de Matriculas '!A:C,2,FALSE)","v":0},{"$f":"VLOOKUP(F472,'Banco de Matriculas '!A:C,3,FALSE)","v":0}]
[460,null,null,null,null,null,{"$f":"VLOOKUP(F473,'Banco de Matriculas '!A:C,2,FALSE)","v":0},{"$f":"VLOOKUP(F473,'Banco de Matriculas '!A:C,3,FALSE)","v":0}]
[461,null,null,null,null,null,{"$f":"VLOOKUP(F474,'Banco de Matriculas '!A:C,2,FALSE)","v":0},{"$f":"VLOOKUP(F474,'Banco de Matriculas '!A:C,3,FALSE)","v":0}]
[462,null,null,null,null,null,{"$f":"VLOOKUP(F475,'Banco de Matriculas '!A:C,2,FALSE)","v":0},{"$f":"VLOOKUP(F475,'Banco de Matriculas '!A:C,3,FALSE)","v":0}]
[463,null,null,null,null,null,{"$f":"VLOOKUP(F476,'Banco de Matriculas '!A:C,2,FALSE)","v":0},{"$f":"VLOOKUP(F476,'Banco de Matriculas '!A:C,3,FALSE)","v":0}]
[464,null,null,null,null,null,{"$f":"VLOOKUP(F477,'Banco de Matriculas '!A:C,2,FALSE)","v":0},{"$f":"VLOOKUP(F477,'Banco de Matriculas '!A:C,3,FALSE)","v":0}]
[465,null,null,null,null,null,{"$f":"VLOOKUP(F478,'Banco de Matriculas '!A:C,2,FALSE)","v":0},{"$f":"VLOOKUP(F478,'Banco de Matriculas '!A:C,3,FALSE)","v":0}]
[466,null,null,null,null,null,{"$f":"VLOOKUP(F479,'Banco de Matriculas '!A:C,2,FALSE)","v":0},{"$f":"VLOOKUP(F479,'Banco de Matriculas '!A:C,3,FALSE)","v":0}]
[467,null,null,null,null,null,{"$f":"VLOOKUP(F480,'Banco de Matriculas '!A:C,2,FALSE)","v":0},{"$f":"VLOOKUP(F480,'Banco de Matriculas '!A:C,3,FALSE)","v":0}]
[468,null,null,null,null,null,{"$f":"VLOOKUP(F481,'Banco de Matriculas '!A:C,2,FALSE)","v":0},{"$f":"VLOOKUP(F481,'Banco de Matriculas '!A:C,3,FALSE)","v":0}]
[469,null,null,null,null,null,{"$f":"VLOOKUP(F482,'Banco de Matriculas '!A:C,2,FALSE)","v":0},{"$f":"VLOOKUP(F482,'Banco de Matriculas '!A:C,3,FALSE)","v":0}]
[470,null,null,null,null,null,{"$f":"VLOOKUP(F483,'Banco de Matriculas '!A:C,2,FALSE)","v":0},{"$f":"VLOOKUP(F483,'Banco de Matriculas '!A:C,3,FALSE)","v":0}]
[471,null,null,null,null,null,{"$f":"VLOOKUP(F484,'Banco de Matriculas '!A:C,2,FALSE)","v":0},{"$f":"VLOOKUP(F484,'Banco de Matriculas '!A:C,3,FALSE)","v":0}]
[472,null,null,null,null,null,{"$f":"VLOOKUP(F485,'Banco de Matriculas '!A:C,2,FALSE)","v":0},{"$f":"VLOOKUP(F485,'Banco de Matriculas '!A:C,3,FALSE)","v":0}]
[473,null,null,null,null,null,{"$f":"VLOOKUP(F486,'Banco de Matriculas '!A:C,2,FALSE)","v":0},{"$f":"VLOOKUP(F486,'Banco de Matriculas '!A:C,3,FALSE)","v":0}]
[474,null,null,null,null,null,{"$f":"VLOOKUP(F487,'Banco de Matriculas '!A:C,2,FALSE)","v":0},{"$f":"VLOOKUP(F487,'Banco de Matriculas '!A:C,3,FALSE)","v":0}]
[475,null,null,null,null,null,{"$f":"VLOOKUP(F488,'Banco de Matriculas '!A:C,2,FALSE)","v":0},{"$f":"VLOOKUP(F488,'Banco de Matriculas '!A:C,3,FALSE)","v":0}]
[476,null,null,null,null,null,{"$f":"VLOOKUP(F489,'Banco de Matriculas '!A:C,2,FALSE)","v":0},{"$f":"VLOOKUP(F489,'Banco de Matriculas '!A:C,3,FALSE)","v":0}]
[477,null,null,null,null,null,{"$f":"VLOOKUP(F490,'Banco de Matriculas '!A:C,2,FALSE)","v":0},{"$f":"VLOOKUP(F490,'Banco de Matriculas '!A:C,3,FALSE)","v":0}]
[478,null,null,null,null,null,{"$f":"VLOOKUP(F491,'Banco de Matriculas '!A:C,2,FALSE)","v":0},{"$f":"VLOOKUP(F491,'Banco de Matriculas '!A:C,3,FALSE)","v":0}]
[479,null,null,null,null,null,{"$f":"VLOOKUP(F492,'Banco de Matriculas '!A:C,2,FALSE)","v":0},{"$f":"VLOOKUP(F492,'Banco de Matriculas '!A:C,3,FALSE)","v":0}]
[480,null,null,null,null,null,{"$f":"VLOOKUP(F493,'Banco de Matriculas '!A:C,2,FALSE)","v":0},{"$f":"VLOOKUP(F493,'Banco de Matriculas '!A:C,3,FALSE)","v":0}]
[481,null,null,null,null,null,{"$f":"VLOOKUP(F494,'Banco de Matriculas '!A:C,2,FALSE)","v":0},{"$f":"VLOOKUP(F494,'Banco de Matriculas '!A:C,3,FALSE)","v":0}]
[482,null,null,null,null,null,{"$f":"VLOOKUP(F495,'Banco de Matriculas '!A:C,2,FALSE)","v":0},{"$f":"VLOOKUP(F495,'Banco de Matriculas '!A:C,3,FALSE)","v":0}]
[483,null,null,null,null,null,{"$f":"VLOOKUP(F496,'Banco de Matriculas '!A:C,2,FALSE)","v":0},{"$f":"VLOOKUP(F496,'Banco de Matriculas '!A:C,3,FALSE)","v":0}]
[484,null,null,null,null,null,{"$f":"VLOOKUP(F497,'Banco de Matriculas '!A:C,2,FALSE)","v":0},{"$f":"VLOOKUP(F497,'Banco de Matriculas '!A:C,3,FALSE)","v":0}]
[485,null,null,null,null,null,{"$f":"VLOOKUP(F498,'Banco de Matriculas '!A:C,2,FALSE)","v":0},{"$f":"VLOOKUP(F498,'Banco de Matriculas '!A:C,3,FALSE)","v":0}]
[486,null,null,null,null,null,{"$f":"VLOOKUP(F499,'Banco de Matriculas '!A:C,2,FALSE)","v":0},{"$f":"VLOOKUP(F499,'Banco de Matriculas '!A:C,3,FALSE)","v":0}]
[487,null,null,null,null,null,{"$f":"VLOOKUP(F500,'Banco de Matriculas '!A:C,2,FALSE)","v":0},{"$f":"VLOOKUP(F500,'Banco de Matriculas '!A:C,3,FALSE)","v":0}]
[488,null,null,null,null,null,{"$f":"VLOOKUP(F501,'Banco de Matriculas '!A:C,2,FALSE)","v":0},{"$f":"VLOOKUP(F501,'Banco de Matriculas '!A:C,3,FALSE)","v":0}]
[489,null,null,null,null,null,{"$f":"VLOOKUP(F502,'Banco de Matriculas '!A:C,2,FALSE)","v":0},{"$f":"VLOOKUP(F502,'Banco de Matriculas '!A:C,3,FALSE)","v":0}]
[490,null,null,null,null,null,{"$f":"VLOOKUP(F503,'Banco de Matriculas '!A:C,2,FALSE)","v":0},{"$f":"VLOOKUP(F503,'Banco de Matriculas '!A:C,3,FALSE)","v":0}]
[491,null,null,null,null,null,{"$f":"VLOOKUP(F504,'Banco de Matriculas '!A:C,2,FALSE)","v":0},{"$f":"VLOOKUP(F504,'Banco de Matriculas '!A:C,3,FALSE)","v":0}]
[492,null,null,null,null,null,{"$f":"VLOOKUP(F505,'Banco de Matriculas '!A:C,2,FALSE)","v":0},{"$f":"VLOOKUP(F505,'Banco de Matriculas '!A:C,3,FALSE)","v":0}]
[493,null,null,null,null,null,{"$f":"VLOOKUP(F506,'Banco de Matriculas '!A:C,2,FALSE)","v":0},{"$f":"VLOOKUP(F506,'Banco de Matriculas '!A:C,3,FALSE)","v":0}]
[494,null,null,null,null,null,{"$f":"VLOOKUP(F507,'Banco de Matriculas '!A:C,2,FALSE)","v":0},{"$f":"VLOOKUP(F507,'Banco de Matriculas '!A:C,3,FALSE)","v":0}]
[495,null,null,null,null,null,{"$f":"VLOOKUP(F508,'Banco de Matriculas '!A:C,2,FALSE)","v":0},{"$f":"VLOOKUP(F508,'Banco de Matriculas '!A:C,3,FALSE)","v":0}]
[496,null,null,null,null,null,{"$f":"VLOOKUP(F509,'Banco de Matriculas '!A:C,2,FALSE)","v":0},{"$f":"VLOOKUP(F509,'Banco de Matriculas '!A:C,3,FALSE)","v":0}]
[497,null,null,null,null,null,{"$f":"VLOOKUP(F510,'Banco de Matriculas '!A:C,2,FALSE)","v":0},{"$f":"VLOOKUP(F510,'Banco de Matriculas '!A:C,3,FALSE)","v":0}]
[498,null,null,null,null,null,{"$f":"VLOOKUP(F511,'Banco de Matriculas '!A:C,2,FALSE)","v":0},{"$f":"VLOOKUP(F511,'Banco de Matriculas '!A:C,3,FALSE)","v":0}]
[499,null,null,null,null,null,{"$f":"VLOOKUP(F512,'Banco de Matriculas '!A:C,2,FALSE)","v":0},{"$f":"VLOOKUP(F512,'Banco de Matriculas '!A:C,3,FALSE)","v":0}]
[500,null,null,null,null,null,{"$f":"VLOOKUP(F513,'Banco de Matriculas '!A:C,2,FALSE)","v":0},{"$f":"VLOOKUP(F513,'Banco de Matriculas '!A:C,3,FALSE)","v":0}]

{"sheet":"RELATÓRIO","index":1,"n_rows":1,"n_cols":23,"rows_kept":1,"cut":false,"hidden":false,"merged":[]}
["MÊS","DATA","PAG/REST.","Unidade Requisitante","Matrícula","Nome do favorecido","CPF","DOC. SIAFI","PAE","Finalidade do serviço ou atividade a ser desenvolvida","Roteiro","Início do Período","Fim do Período","Meio de transporte a ser utilizado","Valor unitário","Quantidade de diárias ","Valor correspondente à eventual dedução de auxílio-alimentação, indenização de transporte e auxílio-transporte","Outras Deduções ","Valor total das diárias","Nome do ordenador de despesas","Hipóteses elencadas no § 1º do art. 10 da Resolução 340/2015 do Conselho da Justiça Federal.\n(Equipe de Trabalho)","Hipóteses elencadas no § 3º do art. 10 da Resolução 340/2015 do Conselho da Justiça Federal.\n(Servidor acompanhamento Magistrado)","Hipóteses elencadas no § 5º do art. 10 da Resolução 340/2015 do Conselho da Justiça Federal.\n(Agente de segurança acompanhando magistrado ou Desembargador Federal)"]

{"sheet":"CARGA - RUBRICAS","index":2,"n_rows":354,"n_cols":4,"rows_kept":354,"cut":false,"hidden":false,"merged":[]}
["matricula","data_inicio","data_fim","valor"]
[{"$f":"IF(RELATÓRIO!E2=0,0,UPPER(RELATÓRIO!E2))","v":0},{"$f":"RELATÓRIO!L2","v":"00:00:00"},{"$f":"RELATÓRIO!M2","v":"00:00:00"},{"$f":"RELATÓRIO!S2","v":0}]
[{"$f":"IF(RELATÓRIO!E3=0,0,UPPER(RELATÓRIO!E3))","v":0},{"$f":"RELATÓRIO!L3","v":"00:00:00"},{"$f":"RELATÓRIO!M3","v":"00:00:00"},{"$f":"RELATÓRIO!S3","v":0}]
[{"$f":"IF(RELATÓRIO!E4=0,0,UPPER(RELATÓRIO!E4))","v":0},{"$f":"RELATÓRIO!L4","v":"00:00:00"},{"$f":"RELATÓRIO!M4","v":"00:00:00"},{"$f":"RELATÓRIO!S4","v":0}]
[{"$f":"IF(RELATÓRIO!E5=0,0,UPPER(RELATÓRIO!E5))","v":0},{"$f":"RELATÓRIO!L5","v":"00:00:00"},{"$f":"RELATÓRIO!M5","v":"00:00:00"},{"$f":"RELATÓRIO!S5","v":0}]
[{"$f":"IF(RELATÓRIO!E6=0,0,UPPER(RELATÓRIO!E6))","v":0},{"$f":"RELATÓRIO!L6","v":"00:00:00"},{"$f":"RELATÓRIO!M6","v":"00:00:00"},{"$f":"RELATÓRIO!S6","v":0}]
[{"$f":"IF(RELATÓRIO!E7=0,0,UPPER(RELATÓRIO!E7))","v":0},{"$f":"RELATÓRIO!L7","v":"00:00:00"},{"$f":"RELATÓRIO!M7","v":"00:00:00"},{"$f":"RELATÓRIO!S7","v":0}]
[{"$f":"IF(RELATÓRIO!E8=0,0,UPPER(RELATÓRIO!E8))","v":0},{"$f":"RELATÓRIO!L8","v":"00:00:00"},{"$f":"RELATÓRIO!M8","v":"00:00:00"},{"$f":"RELATÓRIO!S8","v":0}]
[{"$f":"IF(RELATÓRIO!E9=0,0,UPPER(RELATÓRIO!E9))","v":0},{"$f":"RELATÓRIO!L9","v":"00:00:00"},{"$f":"RELATÓRIO!M9","v":"00:00:00"},{"$f":"RELATÓRIO!S9","v":0}]
[{"$f":"IF(RELATÓRIO!E10=0,0,UPPER(RELATÓRIO!E10))","v":0},{"$f":"RELATÓRIO!L10","v":"00:00:00"},{"$f":"RELATÓRIO!M10","v":"00:00:00"},{"$f":"RELATÓRIO!S10","v":0}]
[{"$f":"IF(RELATÓRIO!E11=0,0,UPPER(RELATÓRIO!E11))","v":0},{"$f":"RELATÓRIO!L11","v":"00:00:00"},{"$f":"RELATÓRIO!M11","v":"00:00:00"},{"$f":"RELATÓRIO!S11","v":0}]
[{"$f":"IF(RELATÓRIO!E12=0,0,UPPER(RELATÓRIO!E12))","v":0},{"$f":"RELATÓRIO!L12","v":"00:00:00"},{"$f":"RELATÓRIO!M12","v":"00:00:00"},{"$f":"RELATÓRIO!S12","v":0}]
[{"$f":"IF(RELATÓRIO!E13=0,0,UPPER(RELATÓRIO!E13))","v":0},{"$f":"RELATÓRIO!L13","v":"00:00:00"},{"$f":"RELATÓRIO!M13","v":"00:00:00"},{"$f":"RELATÓRIO!S13","v":0}]
[{"$f":"IF(RELATÓRIO!E14=0,0,UPPER(RELATÓRIO!E14))","v":0},{"$f":"RELATÓRIO!L14","v":"00:00:00"},{"$f":"RELATÓRIO!M14","v":"00:00:00"},{"$f":"RELATÓRIO!S14","v":0}]
[{"$f":"IF(RELATÓRIO!E15=0,0,UPPER(RELATÓRIO!E15))","v":0},{"$f":"RELATÓRIO!L15","v":"00:00:00"},{"$f":"RELATÓRIO!M15","v":"00:00:00"},{"$f":"RELATÓRIO!S15","v":0}]
[{"$f":"IF(RELATÓRIO!E16=0,0,UPPER(RELATÓRIO!E16))","v":0},{"$f":"RELATÓRIO!L16","v":"00:00:00"},{"$f":"RELATÓRIO!M16","v":"00:00:00"},{"$f":"RELATÓRIO!S16","v":0}]
[{"$f":"IF(RELATÓRIO!E17=0,0,UPPER(RELATÓRIO!E17))","v":0},{"$f":"RELATÓRIO!L17","v":"00:00:00"},{"$f":"RELATÓRIO!M17","v":"00:00:00"},{"$f":"RELATÓRIO!S17","v":0}]
[{"$f":"IF(RELATÓRIO!E18=0,0,UPPER(RELATÓRIO!E18))","v":0},{"$f":"RELATÓRIO!L18","v":"00:00:00"},{"$f":"RELATÓRIO!M18","v":"00:00:00"},{"$f":"RELATÓRIO!S18","v":0}]
[{"$f":"IF(RELATÓRIO!E19=0,0,UPPER(RELATÓRIO!E19))","v":0},{"$f":"RELATÓRIO!L19","v":"00:00:00"},{"$f":"RELATÓRIO!M19","v":"00:00:00"},{"$f":"RELATÓRIO!S19","v":0}]
[{"$f":"IF(RELATÓRIO!E20=0,0,UPPER(RELATÓRIO!E20))","v":0},{"$f":"RELATÓRIO!L20","v":"00:00:00"},{"$f":"RELATÓRIO!M20","v":"00:00:00"},{"$f":"RELATÓRIO!S20","v":0}]
[{"$f":"IF(RELATÓRIO!E21=0,0,UPPER(RELATÓRIO!E21))","v":0},{"$f":"RELATÓRIO!L21","v":"00:00:00"},{"$f":"RELATÓRIO!M21","v":"00:00:00"},{"$f":"RELATÓRIO!S21","v":0}]
[{"$f":"IF(RELATÓRIO!E22=0,0,UPPER(RELATÓRIO!E22))","v":0},{"$f":"RELATÓRIO!L22","v":"00:00:00"},{"$f":"RELATÓRIO!M22","v":"00:00:00"},{"$f":"RELATÓRIO!S22","v":0}]
[{"$f":"IF(RELATÓRIO!E23=0,0,UPPER(RELATÓRIO!E23))","v":0},{"$f":"RELATÓRIO!L23","v":"00:00:00"},{"$f":"RELATÓRIO!M23","v":"00:00:00"},{"$f":"RELATÓRIO!S23","v":0}]
[{"$f":"IF(RELATÓRIO!E24=0,0,UPPER(RELATÓRIO!E24))","v":0},{"$f":"RELATÓRIO!L24","v":"00:00:00"},{"$f":"RELATÓRIO!M24","v":"00:00:00"},{"$f":"RELATÓRIO!S24","v":0}]
[{"$f":"IF(RELATÓRIO!E25=0,0,UPPER(RELATÓRIO!E25))","v":0},{"$f":"RELATÓRIO!L25","v":"00:00:00"},{"$f":"RELATÓRIO!M25","v":"00:00:00"},{"$f":"RELATÓRIO!S25","v":0}]
[{"$f":"IF(RELATÓRIO!E26=0,0,UPPER(RELATÓRIO!E26))","v":0},{"$f":"RELATÓRIO!L26","v":"00:00:00"},{"$f":"RELATÓRIO!M26","v":"00:00:00"},{"$f":"RELATÓRIO!S26","v":0}]
[{"$f":"IF(RELATÓRIO!E27=0,0,UPPER(RELATÓRIO!E27))","v":0},{"$f":"RELATÓRIO!L27","v":"00:00:00"},{"$f":"RELATÓRIO!M27","v":"00:00:00"},{"$f":"RELATÓRIO!S27","v":0}]
[{"$f":"IF(RELATÓRIO!E28=0,0,UPPER(RELATÓRIO!E28))","v":0},{"$f":"RELATÓRIO!L28","v":"00:00:00"},{"$f":"RELATÓRIO!M28","v":"00:00:00"},{"$f":"RELATÓRIO!S28","v":0}]
[{"$f":"IF(RELATÓRIO!E29=0,0,UPPER(RELATÓRIO!E29))","v":0},{"$f":"RELATÓRIO!L29","v":"00:00:00"},{"$f":"RELATÓRIO!M29","v":"00:00:00"},{"$f":"RELATÓRIO!S29","v":0}]
[{"$f":"IF(RELATÓRIO!E30=0,0,UPPER(RELATÓRIO!E30))","v":0},{"$f":"RELATÓRIO!L30","v":"00:00:00"},{"$f":"RELATÓRIO!M30","v":"00:00:00"},{"$f":"RELATÓRIO!S30","v":0}]
[{"$f":"IF(RELATÓRIO!E31=0,0,UPPER(RELATÓRIO!E31))","v":0},{"$f":"RELATÓRIO!L31","v":"00:00:00"},{"$f":"RELATÓRIO!M31","v":"00:00:00"},{"$f":"RELATÓRIO!S31","v":0}]
[{"$f":"IF(RELATÓRIO!E32=0,0,UPPER(RELATÓRIO!E32))","v":0},{"$f":"RELATÓRIO!L32","v":"00:00:00"},{"$f":"RELATÓRIO!M32","v":"00:00:00"},{"$f":"RELATÓRIO!S32","v":0}]
[{"$f":"IF(RELATÓRIO!E33=0,0,UPPER(RELATÓRIO!E33))","v":0},{"$f":"RELATÓRIO!L33","v":"00:00:00"},{"$f":"RELATÓRIO!M33","v":"00:00:00"},{"$f":"RELATÓRIO!S33","v":0}]
[{"$f":"IF(RELATÓRIO!E34=0,0,UPPER(RELATÓRIO!E34))","v":0},{"$f":"RELATÓRIO!L34","v":"00:00:00"},{"$f":"RELATÓRIO!M34","v":"00:00:00"},{"$f":"RELATÓRIO!S34","v":0}]
[{"$f":"IF(RELATÓRIO!E35=0,0,UPPER(RELATÓRIO!E35))","v":0},{"$f":"RELATÓRIO!L35","v":"00:00:00"},{"$f":"RELATÓRIO!M35","v":"00:00:00"},{"$f":"RELATÓRIO!S35","v":0}]
[{"$f":"IF(RELATÓRIO!E36=0,0,UPPER(RELATÓRIO!E36))","v":0},{"$f":"RELATÓRIO!L36","v":"00:00:00"},{"$f":"RELATÓRIO!M36","v":"00:00:00"},{"$f":"RELATÓRIO!S36","v":0}]
[{"$f":"IF(RELATÓRIO!E37=0,0,UPPER(RELATÓRIO!E37))","v":0},{"$f":"RELATÓRIO!L37","v":"00:00:00"},{"$f":"RELATÓRIO!M37","v":"00:00:00"},{"$f":"RELATÓRIO!S37","v":0}]
[{"$f":"IF(RELATÓRIO!E38=0,0,UPPER(RELATÓRIO!E38))","v":0},{"$f":"RELATÓRIO!L38","v":"00:00:00"},{"$f":"RELATÓRIO!M38","v":"00:00:00"},{"$f":"RELATÓRIO!S38","v":0}]
[{"$f":"IF(RELATÓRIO!E39=0,0,UPPER(RELATÓRIO!E39))","v":0},{"$f":"RELATÓRIO!L39","v":"00:00:00"},{"$f":"RELATÓRIO!M39","v":"00:00:00"},{"$f":"RELATÓRIO!S39","v":0}]
[{"$f":"IF(RELATÓRIO!E40=0,0,UPPER(RELATÓRIO!E40))","v":0},{"$f":"RELATÓRIO!L40","v":"00:00:00"},{"$f":"RELATÓRIO!M40","v":"00:00:00"},{"$f":"RELATÓRIO!S40","v":0}]
[{"$f":"IF(RELATÓRIO!E41=0,0,UPPER(RELATÓRIO!E41))","v":0},{"$f":"RELATÓRIO!L41","v":"00:00:00"},{"$f":"RELATÓRIO!M41","v":"00:00:00"},{"$f":"RELATÓRIO!S41","v":0}]
[{"$f":"IF(RELATÓRIO!E42=0,0,UPPER(RELATÓRIO!E42))","v":0},{"$f":"RELATÓRIO!L42","v":"00:00:00"},{"$f":"RELATÓRIO!M42","v":"00:00:00"},{"$f":"RELATÓRIO!S42","v":0}]
[{"$f":"IF(RELATÓRIO!E43=0,0,UPPER(RELATÓRIO!E43))","v":0},{"$f":"RELATÓRIO!L43","v":"00:00:00"},{"$f":"RELATÓRIO!M43","v":"00:00:00"},{"$f":"RELATÓRIO!S43","v":0}]
[{"$f":"IF(RELATÓRIO!E44=0,0,UPPER(RELATÓRIO!E44))","v":0},{"$f":"RELATÓRIO!L44","v":"00:00:00"},{"$f":"RELATÓRIO!M44","v":"00:00:00"},{"$f":"RELATÓRIO!S44","v":0}]
[{"$f":"IF(RELATÓRIO!E45=0,0,UPPER(RELATÓRIO!E45))","v":0},{"$f":"RELATÓRIO!L45","v":"00:00:00"},{"$f":"RELATÓRIO!M45","v":"00:00:00"},{"$f":"RELATÓRIO!S45","v":0}]
[{"$f":"IF(RELATÓRIO!E46=0,0,UPPER(RELATÓRIO!E46))","v":0},{"$f":"RELATÓRIO!L46","v":"00:00:00"},{"$f":"RELATÓRIO!M46","v":"00:00:00"},{"$f":"RELATÓRIO!S46","v":0}]
[{"$f":"IF(RELATÓRIO!E47=0,0,UPPER(RELATÓRIO!E47))","v":0},{"$f":"RELATÓRIO!L47","v":"00:00:00"},{"$f":"RELATÓRIO!M47","v":"00:00:00"},{"$f":"RELATÓRIO!S47","v":0}]
[{"$f":"IF(RELATÓRIO!E48=0,0,UPPER(RELATÓRIO!E48))","v":0},{"$f":"RELATÓRIO!L48","v":"00:00:00"},{"$f":"RELATÓRIO!M48","v":"00:00:00"},{"$f":"RELATÓRIO!S48","v":0}]
[{"$f":"IF(RELATÓRIO!E49=0,0,UPPER(RELATÓRIO!E49))","v":0},{"$f":"RELATÓRIO!L49","v":"00:00:00"},{"$f":"RELATÓRIO!M49","v":"00:00:00"},{"$f":"RELATÓRIO!S49","v":0}]
[{"$f":"IF(RELATÓRIO!E50=0,0,UPPER(RELATÓRIO!E50))","v":0},{"$f":"RELATÓRIO!L50","v":"00:00:00"},{"$f":"RELATÓRIO!M50","v":"00:00:00"},{"$f":"RELATÓRIO!S50","v":0}]
[{"$f":"IF(RELATÓRIO!E51=0,0,UPPER(RELATÓRIO!E51))","v":0},{"$f":"RELATÓRIO!L51","v":"00:00:00"},{"$f":"RELATÓRIO!M51","v":"00:00:00"},{"$f":"RELATÓRIO!S51","v":0}]
[{"$f":"IF(RELATÓRIO!E52=0,0,UPPER(RELATÓRIO!E52))","v":0},{"$f":"RELATÓRIO!L52","v":"00:00:00"},{"$f":"RELATÓRIO!M52","v":"00:00:00"},{"$f":"RELATÓRIO!S52","v":0}]
[{"$f":"IF(RELATÓRIO!E53=0,0,UPPER(RELATÓRIO!E53))","v":0},{"$f":"RELATÓRIO!L53","v":"00:00:00"},{"$f":"RELATÓRIO!M53","v":"00:00:00"},{"$f":"RELATÓRIO!S53","v":0}]
[{"$f":"IF(RELATÓRIO!E54=0,0,UPPER(RELATÓRIO!E54))","v":0},{"$f":"RELATÓRIO!L54","v":"00:00:00"},{"$f":"RELATÓRIO!M54","v":"00:00:00"},{"$f":"RELATÓRIO!S54","v":0}]
[{"$f":"IF(RELATÓRIO!E55=0,0,UPPER(RELATÓRIO!E55))","v":0},{"$f":"RELATÓRIO!L55","v":"00:00:00"},{"$f":"RELATÓRIO!M55","v":"00:00:00"},{"$f":"RELATÓRIO!S55","v":0}]
[{"$f":"IF(RELATÓRIO!E56=0,0,UPPER(RELATÓRIO!E56))","v":0},{"$f":"RELATÓRIO!L56","v":"00:00:00"},{"$f":"RELATÓRIO!M56","v":"00:00:00"},{"$f":"RELATÓRIO!S56","v":0}]
[{"$f":"IF(RELATÓRIO!E57=0,0,UPPER(RELATÓRIO!E57))","v":0},{"$f":"RELATÓRIO!L57","v":"00:00:00"},{"$f":"RELATÓRIO!M57","v":"00:00:00"},{"$f":"RELATÓRIO!S57","v":0}]
[{"$f":"IF(RELATÓRIO!E58=0,0,UPPER(RELATÓRIO!E58))","v":0},{"$f":"RELATÓRIO!L58","v":"00:00:00"},{"$f":"RELATÓRIO!M58","v":"00:00:00"},{"$f":"RELATÓRIO!S58","v":0}]
[{"$f":"IF(RELATÓRIO!E59=0,0,UPPER(RELATÓRIO!E59))","v":0},{"$f":"RELATÓRIO!L59","v":"00:00:00"},{"$f":"RELATÓRIO!M59","v":"00:00:00"},{"$f":"RELATÓRIO!S59","v":0}]
[{"$f":"IF(RELATÓRIO!E60=0,0,UPPER(RELATÓRIO!E60))","v":0},{"$f":"RELATÓRIO!L60","v":"00:00:00"},{"$f":"RELATÓRIO!M60","v":"00:00:00"},{"$f":"RELATÓRIO!S60","v":0}]
[{"$f":"IF(RELATÓRIO!E61=0,0,UPPER(RELATÓRIO!E61))","v":0},{"$f":"RELATÓRIO!L61","v":"00:00:00"},{"$f":"RELATÓRIO!M61","v":"00:00:00"},{"$f":"RELATÓRIO!S61","v":0}]
[{"$f":"IF(RELATÓRIO!E62=0,0,UPPER(RELATÓRIO!E62))","v":0},{"$f":"RELATÓRIO!L62","v":"00:00:00"},{"$f":"RELATÓRIO!M62","v":"00:00:00"},{"$f":"RELATÓRIO!S62","v":0}]
[{"$f":"IF(RELATÓRIO!E63=0,0,UPPER(RELATÓRIO!E63))","v":0},{"$f":"RELATÓRIO!L63","v":"00:00:00"},{"$f":"RELATÓRIO!M63","v":"00:00:00"},{"$f":"RELATÓRIO!S63","v":0}]
[{"$f":"IF(RELATÓRIO!E64=0,0,UPPER(RELATÓRIO!E64))","v":0},{"$f":"RELATÓRIO!L64","v":"00:00:00"},{"$f":"RELATÓRIO!M64","v":"00:00:00"},{"$f":"RELATÓRIO!S64","v":0}]
[{"$f":"IF(RELATÓRIO!E65=0,0,UPPER(RELATÓRIO!E65))","v":0},{"$f":"RELATÓRIO!L65","v":"00:00:00"},{"$f":"RELATÓRIO!M65","v":"00:00:00"},{"$f":"RELATÓRIO!S65","v":0}]
[{"$f":"IF(RELATÓRIO!E66=0,0,UPPER(RELATÓRIO!E66))","v":0},{"$f":"RELATÓRIO!L66","v":"00:00:00"},{"$f":"RELATÓRIO!M66","v":"00:00:00"},{"$f":"RELATÓRIO!S66","v":0}]
[{"$f":"IF(RELATÓRIO!E67=0,0,UPPER(RELATÓRIO!E67))","v":0},{"$f":"RELATÓRIO!L67","v":"00:00:00"},{"$f":"RELATÓRIO!M67","v":"00:00:00"},{"$f":"RELATÓRIO!S67","v":0}]
[{"$f":"IF(RELATÓRIO!E68=0,0,UPPER(RELATÓRIO!E68))","v":0},{"$f":"RELATÓRIO!L68","v":"00:00:00"},{"$f":"RELATÓRIO!M68","v":"00:00:00"},{"$f":"RELATÓRIO!S68","v":0}]
[{"$f":"IF(RELATÓRIO!E69=0,0,UPPER(RELATÓRIO!E69))","v":0},{"$f":"RELATÓRIO!L69","v":"00:00:00"},{"$f":"RELATÓRIO!M69","v":"00:00:00"},{"$f":"RELATÓRIO!S69","v":0}]
[{"$f":"IF(RELATÓRIO!E70=0,0,UPPER(RELATÓRIO!E70))","v":0},{"$f":"RELATÓRIO!L70","v":"00:00:00"},{"$f":"RELATÓRIO!M70","v":"00:00:00"},{"$f":"RELATÓRIO!S70","v":0}]
[{"$f":"IF(RELATÓRIO!E71=0,0,UPPER(RELATÓRIO!E71))","v":0},{"$f":"RELATÓRIO!L71","v":"00:00:00"},{"$f":"RELATÓRIO!M71","v":"00:00:00"},{"$f":"RELATÓRIO!S71","v":0}]
[{"$f":"IF(RELATÓRIO!E72=0,0,UPPER(RELATÓRIO!E72))","v":0},{"$f":"RELATÓRIO!L72","v":"00:00:00"},{"$f":"RELATÓRIO!M72","v":"00:00:00"},{"$f":"RELATÓRIO!S72","v":0}]
[{"$f":"IF(RELATÓRIO!E73=0,0,UPPER(RELATÓRIO!E73))","v":0},{"$f":"RELATÓRIO!L73","v":"00:00:00"},{"$f":"RELATÓRIO!M73","v":"00:00:00"},{"$f":"RELATÓRIO!S73","v":0}]
[{"$f":"IF(RELATÓRIO!E74=0,0,UPPER(RELATÓRIO!E74))","v":0},{"$f":"RELATÓRIO!L74","v":"00:00:00"},{"$f":"RELATÓRIO!M74","v":"00:00:00"},{"$f":"RELATÓRIO!S74","v":0}]
[{"$f":"IF(RELATÓRIO!E75=0,0,UPPER(RELATÓRIO!E75))","v":0},{"$f":"RELATÓRIO!L75","v":"00:00:00"},{"$f":"RELATÓRIO!M75","v":"00:00:00"},{"$f":"RELATÓRIO!S75","v":0}]
[{"$f":"IF(RELATÓRIO!E76=0,0,UPPER(RELATÓRIO!E76))","v":0},{"$f":"RELATÓRIO!L76","v":"00:00:00"},{"$f":"RELATÓRIO!M76","v":"00:00:00"},{"$f":"RELATÓRIO!S76","v":0}]
[{"$f":"IF(RELATÓRIO!E77=0,0,UPPER(RELATÓRIO!E77))","v":0},{"$f":"RELATÓRIO!L77","v":"00:00:00"},{"$f":"RELATÓRIO!M77","v":"00:00:00"},{"$f":"RELATÓRIO!S77","v":0}]
[{"$f":"IF(RELATÓRIO!E78=0,0,UPPER(RELATÓRIO!E78))","v":0},{"$f":"RELATÓRIO!L78","v":"00:00:00"},{"$f":"RELATÓRIO!M78","v":"00:00:00"},{"$f":"RELATÓRIO!S78","v":0}]
[{"$f":"IF(RELATÓRIO!E79=0,0,UPPER(RELATÓRIO!E79))","v":0},{"$f":"RELATÓRIO!L79","v":"00:00:00"},{"$f":"RELATÓRIO!M79","v":"00:00:00"},{"$f":"RELATÓRIO!S79","v":0}]
[{"$f":"IF(RELATÓRIO!E80=0,0,UPPER(RELATÓRIO!E80))","v":0},{"$f":"RELATÓRIO!L80","v":"00:00:00"},{"$f":"RELATÓRIO!M80","v":"00:00:00"},{"$f":"RELATÓRIO!S80","v":0}]
[{"$f":"IF(RELATÓRIO!E81=0,0,UPPER(RELATÓRIO!E81))","v":0},{"$f":"RELATÓRIO!L81","v":"00:00:00"},{"$f":"RELATÓRIO!M81","v":"00:00:00"},{"$f":"RELATÓRIO!S81","v":0}]
[{"$f":"IF(RELATÓRIO!E82=0,0,UPPER(RELATÓRIO!E82))","v":0},{"$f":"RELATÓRIO!L82","v":"00:00:00"},{"$f":"RELATÓRIO!M82","v":"00:00:00"},{"$f":"RELATÓRIO!S82","v":0}]
[{"$f":"IF(RELATÓRIO!E83=0,0,UPPER(RELATÓRIO!E83))","v":0},{"$f":"RELATÓRIO!L83","v":"00:00:00"},{"$f":"RELATÓRIO!M83","v":"00:00:00"},{"$f":"RELATÓRIO!S83","v":0}]
[{"$f":"IF(RELATÓRIO!E84=0,0,UPPER(RELATÓRIO!E84))","v":0},{"$f":"RELATÓRIO!L84","v":"00:00:00"},{"$f":"RELATÓRIO!M84","v":"00:00:00"},{"$f":"RELATÓRIO!S84","v":0}]
[{"$f":"IF(RELATÓRIO!E85=0,0,UPPER(RELATÓRIO!E85))","v":0},{"$f":"RELATÓRIO!L85","v":"00:00:00"},{"$f":"RELATÓRIO!M85","v":"00:00:00"},{"$f":"RELATÓRIO!S85","v":0}]
[{"$f":"IF(RELATÓRIO!E86=0,0,UPPER(RELATÓRIO!E86))","v":0},{"$f":"RELATÓRIO!L86","v":"00:00:00"},{"$f":"RELATÓRIO!M86","v":"00:00:00"},{"$f":"RELATÓRIO!S86","v":0}]
[{"$f":"IF(RELATÓRIO!E87=0,0,UPPER(RELATÓRIO!E87))","v":0},{"$f":"RELATÓRIO!L87","v":"00:00:00"},{"$f":"RELATÓRIO!M87","v":"00:00:00"},{"$f":"RELATÓRIO!S87","v":0}]
[{"$f":"IF(RELATÓRIO!E88=0,0,UPPER(RELATÓRIO!E88))","v":0},{"$f":"RELATÓRIO!L88","v":"00:00:00"},{"$f":"RELATÓRIO!M88","v":"00:00:00"},{"$f":"RELATÓRIO!S88","v":0}]
[{"$f":"IF(RELATÓRIO!E89=0,0,UPPER(RELATÓRIO!E89))","v":0},{"$f":"RELATÓRIO!L89","v":"00:00:00"},{"$f":"RELATÓRIO!M89","v":"00:00:00"},{"$f":"RELATÓRIO!S89","v":0}]
[{"$f":"IF(RELATÓRIO!E90=0,0,UPPER(RELATÓRIO!E90))","v":0},{"$f":"RELATÓRIO!L90","v":"00:00:00"},{"$f":"RELATÓRIO!M90","v":"00:00:00"},{"$f":"RELATÓRIO!S90","v":0}]
[{"$f":"IF(RELATÓRIO!E91=0,0,UPPER(RELATÓRIO!E91))","v":0},{"$f":"RELATÓRIO!L91","v":"00:00:00"},{"$f":"RELATÓRIO!M91","v":"00:00:00"},{"$f":"RELATÓRIO!S91","v":0}]
[{"$f":"IF(RELATÓRIO!E92=0,0,UPPER(RELATÓRIO!E92))","v":0},{"$f":"RELATÓRIO!L92","v":"00:00:00"},{"$f":"RELATÓRIO!M92","v":"00:00:00"},{"$f":"RELATÓRIO!S92","v":0}]
[{"$f":"IF(RELATÓRIO!E93=0,0,UPPER(RELATÓRIO!E93))","v":0},{"$f":"RELATÓRIO!L93","v":"00:00:00"},{"$f":"RELATÓRIO!M93","v":"00:00:00"},{"$f":"RELATÓRIO!S93","v":0}]
[{"$f":"IF(RELATÓRIO!E94=0,0,UPPER(RELATÓRIO!E94))","v":0},{"$f":"RELATÓRIO!L94","v":"00:00:00"},{"$f":"RELATÓRIO!M94","v":"00:00:00"},{"$f":"RELATÓRIO!S94","v":0}]
[{"$f":"IF(RELATÓRIO!E95=0,0,UPPER(RELATÓRIO!E95))","v":0},{"$f":"RELATÓRIO!L95","v":"00:00:00"},{"$f":"RELATÓRIO!M95","v":"00:00:00"},{"$f":"RELATÓRIO!S95","v":0}]
[{"$f":"IF(RELATÓRIO!E96=0,0,UPPER(RELATÓRIO!E96))","v":0},{"$f":"RELATÓRIO!L96","v":"00:00:00"},{"$f":"RELATÓRIO!M96","v":"00:00:00"},{"$f":"RELATÓRIO!S96","v":0}]
[{"$f":"IF(RELATÓRIO!E97=0,0,UPPER(RELATÓRIO!E97))","v":0},{"$f":"RELATÓRIO!L97","v":"00:00:00"},{"$f":"RELATÓRIO!M97","v":"00:00:00"},{"$f":"RELATÓRIO!S97","v":0}]
[{"$f":"IF(RELATÓRIO!E98=0,0,UPPER(RELATÓRIO!E98))","v":0},{"$f":"RELATÓRIO!L98","v":"00:00:00"},{"$f":"RELATÓRIO!M98","v":"00:00:00"},{"$f":"RELATÓRIO!S98","v":0}]
[{"$f":"IF(RELATÓRIO!E99=0,0,UPPER(RELATÓRIO!E99))","v":0},{"$f":"RELATÓRIO!L99","v":"00:00:00"},{"$f":"RELATÓRIO!M99","v":"00:00:00"},{"$f":"RELATÓRIO!S99","v":0}]
[{"$f":"IF(RELATÓRIO!E100=0,0,UPPER(RELATÓRIO!E100))","v":0},{"$f":"RELATÓRIO!L100","v":"00:00:00"},{"$f":"RELATÓRIO!M100","v":"00:00:00"},{"$f":"RELATÓRIO!S100","v":0}]
[{"$f":"IF(RELATÓRIO!E101=0,0,UPPER(RELATÓRIO!E101))","v":0},{"$f":"RELATÓRIO!L101","v":"00:00:00"},{"$f":"RELATÓRIO!M101","v":"00:00:00"},{"$f":"RELATÓRIO!S101","v":0}]
[{"$f":"IF(RELATÓRIO!E102=0,0,UPPER(RELATÓRIO!E102))","v":0},{"$f":"RELATÓRIO!L102","v":"00:00:00"},{"$f":"RELATÓRIO!M102","v":"00:00:00"},{"$f":"RELATÓRIO!S102","v":0}]
[{"$f":"IF(RELATÓRIO!E103=0,0,UPPER(RELATÓRIO!E103))","v":0},{"$f":"RELATÓRIO!L103","v":"00:00:00"},{"$f":"RELATÓRIO!M103","v":"00:00:00"},{"$f":"RELATÓRIO!S103","v":0}]
[{"$f":"IF(RELATÓRIO!E104=0,0,UPPER(RELATÓRIO!E104))","v":0},{"$f":"RELATÓRIO!L104","v":"00:00:00"},{"$f":"RELATÓRIO!M104","v":"00:00:00"},{"$f":"RELATÓRIO!S104","v":0}]
[{"$f":"IF(RELATÓRIO!E105=0,0,UPPER(RELATÓRIO!E105))","v":0},{"$f":"RELATÓRIO!L105","v":"00:00:00"},{"$f":"RELATÓRIO!M105","v":"00:00:00"},{"$f":"RELATÓRIO!S105","v":0}]
[{"$f":"IF(RELATÓRIO!E106=0,0,UPPER(RELATÓRIO!E106))","v":0},{"$f":"RELATÓRIO!L106","v":"00:00:00"},{"$f":"RELATÓRIO!M106","v":"00:00:00"},{"$f":"RELATÓRIO!S106","v":0}]
[{"$f":"IF(RELATÓRIO!E107=0,0,UPPER(RELATÓRIO!E107))","v":0},{"$f":"RELATÓRIO!L107","v":"00:00:00"},{"$f":"RELATÓRIO!M107","v":"00:00:00"},{"$f":"RELATÓRIO!S107","v":0}]
[{"$f":"IF(RELATÓRIO!E108=0,0,UPPER(RELATÓRIO!E108))","v":0},{"$f":"RELATÓRIO!L108","v":"00:00:00"},{"$f":"RELATÓRIO!M108","v":"00:00:00"},{"$f":"RELATÓRIO!S108","v":0}]
[{"$f":"IF(RELATÓRIO!E109=0,0,UPPER(RELATÓRIO!E109))","v":0},{"$f":"RELATÓRIO!L109","v":"00:00:00"},{"$f":"RELATÓRIO!M109","v":"00:00:00"},{"$f":"RELATÓRIO!S109","v":0}]
[{"$f":"IF(RELATÓRIO!E110=0,0,UPPER(RELATÓRIO!E110))","v":0},{"$f":"RELATÓRIO!L110","v":"00:00:00"},{"$f":"RELATÓRIO!M110","v":"00:00:00"},{"$f":"RELATÓRIO!S110","v":0}]
[{"$f":"IF(RELATÓRIO!E111=0,0,UPPER(RELATÓRIO!E111))","v":0},{"$f":"RELATÓRIO!L111","v":"00:00:00"},{"$f":"RELATÓRIO!M111","v":"00:00:00"},{"$f":"RELATÓRIO!S111","v":0}]
[{"$f":"IF(RELATÓRIO!E112=0,0,UPPER(RELATÓRIO!E112))","v":0},{"$f":"RELATÓRIO!L112","v":"00:00:00"},{"$f":"RELATÓRIO!M112","v":"00:00:00"},{"$f":"RELATÓRIO!S112","v":0}]
[{"$f":"IF(RELATÓRIO!E113=0,0,UPPER(RELATÓRIO!E113))","v":0},{"$f":"RELATÓRIO!L113","v":"00:00:00"},{"$f":"RELATÓRIO!M113","v":"00:00:00"},{"$f":"RELATÓRIO!S113","v":0}]
[{"$f":"IF(RELATÓRIO!E114=0,0,UPPER(RELATÓRIO!E114))","v":0},{"$f":"RELATÓRIO!L114","v":"00:00:00"},{"$f":"RELATÓRIO!M114","v":"00:00:00"},{"$f":"RELATÓRIO!S114","v":0}]
[{"$f":"IF(RELATÓRIO!E115=0,0,UPPER(RELATÓRIO!E115))","v":0},{"$f":"RELATÓRIO!L115","v":"00:00:00"},{"$f":"RELATÓRIO!M115","v":"00:00:00"},{"$f":"RELATÓRIO!S115","v":0}]
[{"$f":"IF(RELATÓRIO!E116=0,0,UPPER(RELATÓRIO!E116))","v":0},{"$f":"RELATÓRIO!L116","v":"00:00:00"},{"$f":"RELATÓRIO!M116","v":"00:00:00"},{"$f":"RELATÓRIO!S116","v":0}]
[{"$f":"IF(RELATÓRIO!E117=0,0,UPPER(RELATÓRIO!E117))","v":0},{"$f":"RELATÓRIO!L117","v":"00:00:00"},{"$f":"RELATÓRIO!M117","v":"00:00:00"},{"$f":"RELATÓRIO!S117","v":0}]
[{"$f":"IF(RELATÓRIO!E118=0,0,UPPER(RELATÓRIO!E118))","v":0},{"$f":"RELATÓRIO!L118","v":"00:00:00"},{"$f":"RELATÓRIO!M118","v":"00:00:00"},{"$f":"RELATÓRIO!S118","v":0}]
[{"$f":"IF(RELATÓRIO!E119=0,0,UPPER(RELATÓRIO!E119))","v":0},{"$f":"RELATÓRIO!L119","v":"00:00:00"},{"$f":"RELATÓRIO!M119","v":"00:00:00"},{"$f":"RELATÓRIO!S119","v":0}]
[{"$f":"IF(RELATÓRIO!E120=0,0,UPPER(RELATÓRIO!E120))","v":0},{"$f":"RELATÓRIO!L120","v":"00:00:00"},{"$f":"RELATÓRIO!M120","v":"00:00:00"},{"$f":"RELATÓRIO!S120","v":0}]
[{"$f":"IF(RELATÓRIO!E121=0,0,UPPER(RELATÓRIO!E121))","v":0},{"$f":"RELATÓRIO!L121","v":"00:00:00"},{"$f":"RELATÓRIO!M121","v":"00:00:00"},{"$f":"RELATÓRIO!S121","v":0}]
[{"$f":"IF(RELATÓRIO!E122=0,0,UPPER(RELATÓRIO!E122))","v":0},{"$f":"RELATÓRIO!L122","v":"00:00:00"},{"$f":"RELATÓRIO!M122","v":"00:00:00"},{"$f":"RELATÓRIO!S122","v":0}]
[{"$f":"IF(RELATÓRIO!E123=0,0,UPPER(RELATÓRIO!E123))","v":0},{"$f":"RELATÓRIO!L123","v":"00:00:00"},{"$f":"RELATÓRIO!M123","v":"00:00:00"},{"$f":"RELATÓRIO!S123","v":0}]
[{"$f":"IF(RELATÓRIO!E124=0,0,UPPER(RELATÓRIO!E124))","v":0},{"$f":"RELATÓRIO!L124","v":"00:00:00"},{"$f":"RELATÓRIO!M124","v":"00:00:00"},{"$f":"RELATÓRIO!S124","v":0}]
[{"$f":"IF(RELATÓRIO!E125=0,0,UPPER(RELATÓRIO!E125))","v":0},{"$f":"RELATÓRIO!L125","v":"00:00:00"},{"$f":"RELATÓRIO!M125","v":"00:00:00"},{"$f":"RELATÓRIO!S125","v":0}]
[{"$f":"IF(RELATÓRIO!E126=0,0,UPPER(RELATÓRIO!E126))","v":0},{"$f":"RELATÓRIO!L126","v":"00:00:00"},{"$f":"RELATÓRIO!M126","v":"00:00:00"},{"$f":"RELATÓRIO!S126","v":0}]
[{"$f":"IF(RELATÓRIO!E127=0,0,UPPER(RELATÓRIO!E127))","v":0},{"$f":"RELATÓRIO!L127","v":"00:00:00"},{"$f":"RELATÓRIO!M127","v":"00:00:00"},{"$f":"RELATÓRIO!S127","v":0}]
[{"$f":"IF(RELATÓRIO!E128=0,0,UPPER(RELATÓRIO!E128))","v":0},{"$f":"RELATÓRIO!L128","v":"00:00:00"},{"$f":"RELATÓRIO!M128","v":"00:00:00"},{"$f":"RELATÓRIO!S128","v":0}]
[{"$f":"IF(RELATÓRIO!E129=0,0,UPPER(RELATÓRIO!E129))","v":0},{"$f":"RELATÓRIO!L129","v":"00:00:00"},{"$f":"RELATÓRIO!M129","v":"00:00:00"},{"$f":"RELATÓRIO!S129","v":0}]
[{"$f":"IF(RELATÓRIO!E130=0,0,UPPER(RELATÓRIO!E130))","v":0},{"$f":"RELATÓRIO!L130","v":"00:00:00"},{"$f":"RELATÓRIO!M130","v":"00:00:00"},{"$f":"RELATÓRIO!S130","v":0}]
[{"$f":"IF(RELATÓRIO!E131=0,0,UPPER(RELATÓRIO!E131))","v":0},{"$f":"RELATÓRIO!L131","v":"00:00:00"},{"$f":"RELATÓRIO!M131","v":"00:00:00"},{"$f":"RELATÓRIO!S131","v":0}]
[{"$f":"IF(RELATÓRIO!E132=0,0,UPPER(RELATÓRIO!E132))","v":0},{"$f":"RELATÓRIO!L132","v":"00:00:00"},{"$f":"RELATÓRIO!M132","v":"00:00:00"},{"$f":"RELATÓRIO!S132","v":0}]
[{"$f":"IF(RELATÓRIO!E133=0,0,UPPER(RELATÓRIO!E133))","v":0},{"$f":"RELATÓRIO!L133","v":"00:00:00"},{"$f":"RELATÓRIO!M133","v":"00:00:00"},{"$f":"RELATÓRIO!S133","v":0}]
[{"$f":"IF(RELATÓRIO!E134=0,0,UPPER(RELATÓRIO!E134))","v":0},{"$f":"RELATÓRIO!L134","v":"00:00:00"},{"$f":"RELATÓRIO!M134","v":"00:00:00"},{"$f":"RELATÓRIO!S134","v":0}]
[{"$f":"IF(RELATÓRIO!E135=0,0,UPPER(RELATÓRIO!E135))","v":0},{"$f":"RELATÓRIO!L135","v":"00:00:00"},{"$f":"RELATÓRIO!M135","v":"00:00:00"},{"$f":"RELATÓRIO!S135","v":0}]
[{"$f":"IF(RELATÓRIO!E136=0,0,UPPER(RELATÓRIO!E136))","v":0},{"$f":"RELATÓRIO!L136","v":"00:00:00"},{"$f":"RELATÓRIO!M136","v":"00:00:00"},{"$f":"RELATÓRIO!S136","v":0}]
[{"$f":"IF(RELATÓRIO!E137=0,0,UPPER(RELATÓRIO!E137))","v":0},{"$f":"RELATÓRIO!L137","v":"00:00:00"},{"$f":"RELATÓRIO!M137","v":"00:00:00"},{"$f":"RELATÓRIO!S137","v":0}]
[{"$f":"IF(RELATÓRIO!E138=0,0,UPPER(RELATÓRIO!E138))","v":0},{"$f":"RELATÓRIO!L138","v":"00:00:00"},{"$f":"RELATÓRIO!M138","v":"00:00:00"},{"$f":"RELATÓRIO!S138","v":0}]
[{"$f":"IF(RELATÓRIO!E139=0,0,UPPER(RELATÓRIO!E139))","v":0},{"$f":"RELATÓRIO!L139","v":"00:00:00"},{"$f":"RELATÓRIO!M139","v":"00:00:00"},{"$f":"RELATÓRIO!S139","v":0}]
[{"$f":"IF(RELATÓRIO!E140=0,0,UPPER(RELATÓRIO!E140))","v":0},{"$f":"RELATÓRIO!L140","v":"00:00:00"},{"$f":"RELATÓRIO!M140","v":"00:00:00"},{"$f":"RELATÓRIO!S140","v":0}]
[{"$f":"IF(RELATÓRIO!E141=0,0,UPPER(RELATÓRIO!E141))","v":0},{"$f":"RELATÓRIO!L141","v":"00:00:00"},{"$f":"RELATÓRIO!M141","v":"00:00:00"},{"$f":"RELATÓRIO!S141","v":0}]
[{"$f":"IF(RELATÓRIO!E142=0,0,UPPER(RELATÓRIO!E142))","v":0},{"$f":"RELATÓRIO!L142","v":"00:00:00"},{"$f":"RELATÓRIO!M142","v":"00:00:00"},{"$f":"RELATÓRIO!S142","v":0}]
[{"$f":"IF(RELATÓRIO!E143=0,0,UPPER(RELATÓRIO!E143))","v":0},{"$f":"RELATÓRIO!L143","v":"00:00:00"},{"$f":"RELATÓRIO!M143","v":"00:00:00"},{"$f":"RELATÓRIO!S143","v":0}]
[{"$f":"IF(RELATÓRIO!E144=0,0,UPPER(RELATÓRIO!E144))","v":0},{"$f":"RELATÓRIO!L144","v":"00:00:00"},{"$f":"RELATÓRIO!M144","v":"00:00:00"},{"$f":"RELATÓRIO!S144","v":0}]
[{"$f":"IF(RELATÓRIO!E145=0,0,UPPER(RELATÓRIO!E145))","v":0},{"$f":"RELATÓRIO!L145","v":"00:00:00"},{"$f":"RELATÓRIO!M145","v":"00:00:00"},{"$f":"RELATÓRIO!S145","v":0}]
[{"$f":"IF(RELATÓRIO!E146=0,0,UPPER(RELATÓRIO!E146))","v":0},{"$f":"RELATÓRIO!L146","v":"00:00:00"},{"$f":"RELATÓRIO!M146","v":"00:00:00"},{"$f":"RELATÓRIO!S146","v":0}]
[{"$f":"IF(RELATÓRIO!E147=0,0,UPPER(RELATÓRIO!E147))","v":0},{"$f":"RELATÓRIO!L147","v":"00:00:00"},{"$f":"RELATÓRIO!M147","v":"00:00:00"},{"$f":"RELATÓRIO!S147","v":0}]
[{"$f":"IF(RELATÓRIO!E148=0,0,UPPER(RELATÓRIO!E148))","v":0},{"$f":"RELATÓRIO!L148","v":"00:00:00"},{"$f":"RELATÓRIO!M148","v":"00:00:00"},{"$f":"RELATÓRIO!S148","v":0}]
[{"$f":"IF(RELATÓRIO!E149=0,0,UPPER(RELATÓRIO!E149))","v":0},{"$f":"RELATÓRIO!L149","v":"00:00:00"},{"$f":"RELATÓRIO!M149","v":"00:00:00"},{"$f":"RELATÓRIO!S149","v":0}]
[{"$f":"IF(RELATÓRIO!E150=0,0,UPPER(RELATÓRIO!E150))","v":0},{"$f":"RELATÓRIO!L150","v":"00:00:00"},{"$f":"RELATÓRIO!M150","v":"00:00:00"},{"$f":"RELATÓRIO!S150","v":0}]
[{"$f":"IF(RELATÓRIO!E151=0,0,UPPER(RELATÓRIO!E151))","v":0},{"$f":"RELATÓRIO!L151","v":"00:00:00"},{"$f":"RELATÓRIO!M151","v":"00:00:00"},{"$f":"RELATÓRIO!S151","v":0}]
[{"$f":"IF(RELATÓRIO!E152=0,0,UPPER(RELATÓRIO!E152))","v":0},{"$f":"RELATÓRIO!L152","v":"00:00:00"},{"$f":"RELATÓRIO!M152","v":"00:00:00"},{"$f":"RELATÓRIO!S152","v":0}]
[{"$f":"IF(RELATÓRIO!E153=0,0,UPPER(RELATÓRIO!E153))","v":0},{"$f":"RELATÓRIO!L153","v":"00:00:00"},{"$f":"RELATÓRIO!M153","v":"00:00:00"},{"$f":"RELATÓRIO!S153","v":0}]
[{"$f":"IF(RELATÓRIO!E154=0,0,UPPER(RELATÓRIO!E154))","v":0},{"$f":"RELATÓRIO!L154","v":"00:00:00"},{"$f":"RELATÓRIO!M154","v":"00:00:00"},{"$f":"RELATÓRIO!S154","v":0}]
[{"$f":"IF(RELATÓRIO!E155=0,0,UPPER(RELATÓRIO!E155))","v":0},{"$f":"RELATÓRIO!L155","v":"00:00:00"},{"$f":"RELATÓRIO!M155","v":"00:00:00"},{"$f":"RELATÓRIO!S155","v":0}]
[{"$f":"IF(RELATÓRIO!E156=0,0,UPPER(RELATÓRIO!E156))","v":0},{"$f":"RELATÓRIO!L156","v":"00:00:00"},{"$f":"RELATÓRIO!M156","v":"00:00:00"},{"$f":"RELATÓRIO!S156","v":0}]
[{"$f":"IF(RELATÓRIO!E157=0,0,UPPER(RELATÓRIO!E157))","v":0},{"$f":"RELATÓRIO!L157","v":"00:00:00"},{"$f":"RELATÓRIO!M157","v":"00:00:00"},{"$f":"RELATÓRIO!S157","v":0}]
[{"$f":"IF(RELATÓRIO!E158=0,0,UPPER(RELATÓRIO!E158))","v":0},{"$f":"RELATÓRIO!L158","v":"00:00:00"},{"$f":"RELATÓRIO!M158","v":"00:00:00"},{"$f":"RELATÓRIO!S158","v":0}]
[{"$f":"IF(RELATÓRIO!E159=0,0,UPPER(RELATÓRIO!E159))","v":0},{"$f":"RELATÓRIO!L159","v":"00:00:00"},{"$f":"RELATÓRIO!M159","v":"00:00:00"},{"$f":"RELATÓRIO!S159","v":0}]
[{"$f":"IF(RELATÓRIO!E160=0,0,UPPER(RELATÓRIO!E160))","v":0},{"$f":"RELATÓRIO!L160","v":"00:00:00"},{"$f":"RELATÓRIO!M160","v":"00:00:00"},{"$f":"RELATÓRIO!S160","v":0}]
[{"$f":"IF(RELATÓRIO!E161=0,0,UPPER(RELATÓRIO!E161))","v":0},{"$f":"RELATÓRIO!L161","v":"00:00:00"},{"$f":"RELATÓRIO!M161","v":"00:00:00"},{"$f":"RELATÓRIO!S161","v":0}]
[{"$f":"IF(RELATÓRIO!E162=0,0,UPPER(RELATÓRIO!E162))","v":0},{"$f":"RELATÓRIO!L162","v":"00:00:00"},{"$f":"RELATÓRIO!M162","v":"00:00:00"},{"$f":"RELATÓRIO!S162","v":0}]
[{"$f":"IF(RELATÓRIO!E163=0,0,UPPER(RELATÓRIO!E163))","v":0},{"$f":"RELATÓRIO!L163","v":"00:00:00"},{"$f":"RELATÓRIO!M163","v":"00:00:00"},{"$f":"RELATÓRIO!S163","v":0}]
[{"$f":"IF(RELATÓRIO!E164=0,0,UPPER(RELATÓRIO!E164))","v":0},{"$f":"RELATÓRIO!L164","v":"00:00:00"},{"$f":"RELATÓRIO!M164","v":"00:00:00"},{"$f":"RELATÓRIO!S164","v":0}]
[{"$f":"IF(RELATÓRIO!E165=0,0,UPPER(RELATÓRIO!E165))","v":0},{"$f":"RELATÓRIO!L165","v":"00:00:00"},{"$f":"RELATÓRIO!M165","v":"00:00:00"},{"$f":"RELATÓRIO!S165","v":0}]
[{"$f":"IF(RELATÓRIO!E166=0,0,UPPER(RELATÓRIO!E166))","v":0},{"$f":"RELATÓRIO!L166","v":"00:00:00"},{"$f":"RELATÓRIO!M166","v":"00:00:00"},{"$f":"RELATÓRIO!S166","v":0}]
[{"$f":"IF(RELATÓRIO!E167=0,0,UPPER(RELATÓRIO!E167))","v":0},{"$f":"RELATÓRIO!L167","v":"00:00:00"},{"$f":"RELATÓRIO!M167","v":"00:00:00"},{"$f":"RELATÓRIO!S167","v":0}]
[{"$f":"IF(RELATÓRIO!E168=0,0,UPPER(RELATÓRIO!E168))","v":0},{"$f":"RELATÓRIO!L168","v":"00:00:00"},{"$f":"RELATÓRIO!M168","v":"00:00:00"},{"$f":"RELATÓRIO!S168","v":0}]
[{"$f":"IF(RELATÓRIO!E169=0,0,UPPER(RELATÓRIO!E169))","v":0},{"$f":"RELATÓRIO!L169","v":"00:00:00"},{"$f":"RELATÓRIO!M169","v":"00:00:00"},{"$f":"RELATÓRIO!S169","v":0}]
[{"$f":"IF(RELATÓRIO!E170=0,0,UPPER(RELATÓRIO!E170))","v":0},{"$f":"RELATÓRIO!L170","v":"00:00:00"},{"$f":"RELATÓRIO!M170","v":"00:00:00"},{"$f":"RELATÓRIO!S170","v":0}]
[{"$f":"IF(RELATÓRIO!E171=0,0,UPPER(RELATÓRIO!E171))","v":0},{"$f":"RELATÓRIO!L171","v":"00:00:00"},{"$f":"RELATÓRIO!M171","v":"00:00:00"},{"$f":"RELATÓRIO!S171","v":0}]
[{"$f":"IF(RELATÓRIO!E172=0,0,UPPER(RELATÓRIO!E172))","v":0},{"$f":"RELATÓRIO!L172","v":"00:00:00"},{"$f":"RELATÓRIO!M172","v":"00:00:00"},{"$f":"RELATÓRIO!S172","v":0}]
[{"$f":"IF(RELATÓRIO!E173=0,0,UPPER(RELATÓRIO!E173))","v":0},{"$f":"RELATÓRIO!L173","v":"00:00:00"},{"$f":"RELATÓRIO!M173","v":"00:00:00"},{"$f":"RELATÓRIO!S173","v":0}]
[{"$f":"IF(RELATÓRIO!E174=0,0,UPPER(RELATÓRIO!E174))","v":0},{"$f":"RELATÓRIO!L174","v":"00:00:00"},{"$f":"RELATÓRIO!M174","v":"00:00:00"},{"$f":"RELATÓRIO!S174","v":0}]
[{"$f":"IF(RELATÓRIO!E175=0,0,UPPER(RELATÓRIO!E175))","v":0},{"$f":"RELATÓRIO!L175","v":"00:00:00"},{"$f":"RELATÓRIO!M175","v":"00:00:00"},{"$f":"RELATÓRIO!S175","v":0}]
[{"$f":"IF(RELATÓRIO!E176=0,0,UPPER(RELATÓRIO!E176))","v":0},{"$f":"RELATÓRIO!L176","v":"00:00:00"},{"$f":"RELATÓRIO!M176","v":"00:00:00"},{"$f":"RELATÓRIO!S176","v":0}]
[{"$f":"IF(RELATÓRIO!E177=0,0,UPPER(RELATÓRIO!E177))","v":0},{"$f":"RELATÓRIO!L177","v":"00:00:00"},{"$f":"RELATÓRIO!M177","v":"00:00:00"},{"$f":"RELATÓRIO!S177","v":0}]
[{"$f":"IF(RELATÓRIO!E178=0,0,UPPER(RELATÓRIO!E178))","v":0},{"$f":"RELATÓRIO!L178","v":"00:00:00"},{"$f":"RELATÓRIO!M178","v":"00:00:00"},{"$f":"RELATÓRIO!S178","v":0}]
[{"$f":"IF(RELATÓRIO!E179=0,0,UPPER(RELATÓRIO!E179))","v":0},{"$f":"RELATÓRIO!L179","v":"00:00:00"},{"$f":"RELATÓRIO!M179","v":"00:00:00"},{"$f":"RELATÓRIO!S179","v":0}]
[{"$f":"IF(RELATÓRIO!E180=0,0,UPPER(RELATÓRIO!E180))","v":0},{"$f":"RELATÓRIO!L180","v":"00:00:00"},{"$f":"RELATÓRIO!M180","v":"00:00:00"},{"$f":"RELATÓRIO!S180","v":0}]
[{"$f":"IF(RELATÓRIO!E181=0,0,UPPER(RELATÓRIO!E181))","v":0},{"$f":"RELATÓRIO!L181","v":"00:00:00"},{"$f":"RELATÓRIO!M181","v":"00:00:00"},{"$f":"RELATÓRIO!S181","v":0}]
[{"$f":"IF(RELATÓRIO!E182=0,0,UPPER(RELATÓRIO!E182))","v":0},{"$f":"RELATÓRIO!L182","v":"00:00:00"},{"$f":"RELATÓRIO!M182","v":"00:00:00"},{"$f":"RELATÓRIO!S182","v":0}]
[{"$f":"IF(RELATÓRIO!E183=0,0,UPPER(RELATÓRIO!E183))","v":0},{"$f":"RELATÓRIO!L183","v":"00:00:00"},{"$f":"RELATÓRIO!M183","v":"00:00:00"},{"$f":"RELATÓRIO!S183","v":0}]
[{"$f":"IF(RELATÓRIO!E184=0,0,UPPER(RELATÓRIO!E184))","v":0},{"$f":"RELATÓRIO!L184","v":"00:00:00"},{"$f":"RELATÓRIO!M184","v":"00:00:00"},{"$f":"RELATÓRIO!S184","v":0}]
[{"$f":"IF(RELATÓRIO!E185=0,0,UPPER(RELATÓRIO!E185))","v":0},{"$f":"RELATÓRIO!L185","v":"00:00:00"},{"$f":"RELATÓRIO!M185","v":"00:00:00"},{"$f":"RELATÓRIO!S185","v":0}]
[{"$f":"IF(RELATÓRIO!E186=0,0,UPPER(RELATÓRIO!E186))","v":0},{"$f":"RELATÓRIO!L186","v":"00:00:00"},{"$f":"RELATÓRIO!M186","v":"00:00:00"},{"$f":"RELATÓRIO!S186","v":0}]
[{"$f":"IF(RELATÓRIO!E187=0,0,UPPER(RELATÓRIO!E187))","v":0},{"$f":"RELATÓRIO!L187","v":"00:00:00"},{"$f":"RELATÓRIO!M187","v":"00:00:00"},{"$f":"RELATÓRIO!S187","v":0}]
[{"$f":"IF(RELATÓRIO!E188=0,0,UPPER(RELATÓRIO!E188))","v":0},{"$f":"RELATÓRIO!L188","v":"00:00:00"},{"$f":"RELATÓRIO!M188","v":"00:00:00"},{"$f":"RELATÓRIO!S188","v":0}]
[{"$f":"IF(RELATÓRIO!E189=0,0,UPPER(RELATÓRIO!E189))","v":0},{"$f":"RELATÓRIO!L189","v":"00:00:00"},{"$f":"RELATÓRIO!M189","v":"00:00:00"},{"$f":"RELATÓRIO!S189","v":0}]
[{"$f":"IF(RELATÓRIO!E190=0,0,UPPER(RELATÓRIO!E190))","v":0},{"$f":"RELATÓRIO!L190","v":"00:00:00"},{"$f":"RELATÓRIO!M190","v":"00:00:00"},{"$f":"RELATÓRIO!S190","v":0}]
[{"$f":"IF(RELATÓRIO!E191=0,0,UPPER(RELATÓRIO!E191))","v":0},{"$f":"RELATÓRIO!L191","v":"00:00:00"},{"$f":"RELATÓRIO!M191","v":"00:00:00"},{"$f":"RELATÓRIO!S191","v":0}]
[{"$f":"IF(RELATÓRIO!E192=0,0,UPPER(RELATÓRIO!E192))","v":0},{"$f":"RELATÓRIO!L192","v":"00:00:00"},{"$f":"RELATÓRIO!M192","v":"00:00:00"},{"$f":"RELATÓRIO!S192","v":0}]
[{"$f":"IF(RELATÓRIO!E193=0,0,UPPER(RELATÓRIO!E193))","v":0},{"$f":"RELATÓRIO!L193","v":"00:00:00"},{"$f":"RELATÓRIO!M193","v":"00:00:00"},{"$f":"RELATÓRIO!S193","v":0}]
[{"$f":"IF(RELATÓRIO!E194=0,0,UPPER(RELATÓRIO!E194))","v":0},{"$f":"RELATÓRIO!L194","v":"00:00:00"},{"$f":"RELATÓRIO!M194","v":"00:00:00"},{"$f":"RELATÓRIO!S194","v":0}]
[{"$f":"IF(RELATÓRIO!E195=0,0,UPPER(RELATÓRIO!E195))","v":0},{"$f":"RELATÓRIO!L195","v":"00:00:00"},{"$f":"RELATÓRIO!M195","v":"00:00:00"},{"$f":"RELATÓRIO!S195","v":0}]
[{"$f":"IF(RELATÓRIO!E196=0,0,UPPER(RELATÓRIO!E196))","v":0},{"$f":"RELATÓRIO!L196","v":"00:00:00"},{"$f":"RELATÓRIO!M196","v":"00:00:00"},{"$f":"RELATÓRIO!S196","v":0}]
[{"$f":"IF(RELATÓRIO!E197=0,0,UPPER(RELATÓRIO!E197))","v":0},{"$f":"RELATÓRIO!L197","v":"00:00:00"},{"$f":"RELATÓRIO!M197","v":"00:00:00"},{"$f":"RELATÓRIO!S197","v":0}]
[{"$f":"IF(RELATÓRIO!E198=0,0,UPPER(RELATÓRIO!E198))","v":0},{"$f":"RELATÓRIO!L198","v":"00:00:00"},{"$f":"RELATÓRIO!M198","v":"00:00:00"},{"$f":"RELATÓRIO!S198","v":0}]
[{"$f":"IF(RELATÓRIO!E199=0,0,UPPER(RELATÓRIO!E199))","v":0},{"$f":"RELATÓRIO!L199","v":"00:00:00"},{"$f":"RELATÓRIO!M199","v":"00:00:00"},{"$f":"RELATÓRIO!S199","v":0}]
[{"$f":"IF(RELATÓRIO!E200=0,0,UPPER(RELATÓRIO!E200))","v":0},{"$f":"RELATÓRIO!L200","v":"00:00:00"},{"$f":"RELATÓRIO!M200","v":"00:00:00"},{"$f":"RELATÓRIO!S200","v":0}]
[{"$f":"IF(RELATÓRIO!E201=0,0,UPPER(RELATÓRIO!E201))","v":0},{"$f":"RELATÓRIO!L201","v":"00:00:00"},{"$f":"RELATÓRIO!M201","v":"00:00:00"},{"$f":"RELATÓRIO!S201","v":0}]
[{"$f":"IF(RELATÓRIO!E202=0,0,UPPER(RELATÓRIO!E202))","v":0},{"$f":"RELATÓRIO!L202","v":"00:00:00"},{"$f":"RELATÓRIO!M202","v":"00:00:00"},{"$f":"RELATÓRIO!S202","v":0}]
[{"$f":"IF(RELATÓRIO!E203=0,0,UPPER(RELATÓRIO!E203))","v":0},{"$f":"RELATÓRIO!L203","v":"00:00:00"},{"$f":"RELATÓRIO!M203","v":"00:00:00"},{"$f":"RELATÓRIO!S203","v":0}]
[{"$f":"IF(RELATÓRIO!E204=0,0,UPPER(RELATÓRIO!E204))","v":0},{"$f":"RELATÓRIO!L204","v":"00:00:00"},{"$f":"RELATÓRIO!M204","v":"00:00:00"},{"$f":"RELATÓRIO!S204","v":0}]
[{"$f":"IF(RELATÓRIO!E205=0,0,UPPER(RELATÓRIO!E205))","v":0},{"$f":"RELATÓRIO!L205","v":"00:00:00"},{"$f":"RELATÓRIO!M205","v":"00:00:00"},{"$f":"RELATÓRIO!S205","v":0}]
[{"$f":"IF(RELATÓRIO!E206=0,0,UPPER(RELATÓRIO!E206))","v":0},{"$f":"RELATÓRIO!L206","v":"00:00:00"},{"$f":"RELATÓRIO!M206","v":"00:00:00"},{"$f":"RELATÓRIO!S206","v":0}]
[{"$f":"IF(RELATÓRIO!E207=0,0,UPPER(RELATÓRIO!E207))","v":0},{"$f":"RELATÓRIO!L207","v":"00:00:00"},{"$f":"RELATÓRIO!M207","v":"00:00:00"},{"$f":"RELATÓRIO!S207","v":0}]
[{"$f":"IF(RELATÓRIO!E208=0,0,UPPER(RELATÓRIO!E208))","v":0},{"$f":"RELATÓRIO!L208","v":"00:00:00"},{"$f":"RELATÓRIO!M208","v":"00:00:00"},{"$f":"RELATÓRIO!S208","v":0}]
[{"$f":"IF(RELATÓRIO!E209=0,0,UPPER(RELATÓRIO!E209))","v":0},{"$f":"RELATÓRIO!L209","v":"00:00:00"},{"$f":"RELATÓRIO!M209","v":"00:00:00"},{"$f":"RELATÓRIO!S209","v":0}]
[{"$f":"IF(RELATÓRIO!E210=0,0,UPPER(RELATÓRIO!E210))","v":0},{"$f":"RELATÓRIO!L210","v":"00:00:00"},{"$f":"RELATÓRIO!M210","v":"00:00:00"},{"$f":"RELATÓRIO!S210","v":0}]
[{"$f":"IF(RELATÓRIO!E211=0,0,UPPER(RELATÓRIO!E211))","v":0},{"$f":"RELATÓRIO!L211","v":"00:00:00"},{"$f":"RELATÓRIO!M211","v":"00:00:00"},{"$f":"RELATÓRIO!S211","v":0}]
[{"$f":"IF(RELATÓRIO!E212=0,0,UPPER(RELATÓRIO!E212))","v":0},{"$f":"RELATÓRIO!L212","v":"00:00:00"},{"$f":"RELATÓRIO!M212","v":"00:00:00"},{"$f":"RELATÓRIO!S212","v":0}]
[{"$f":"IF(RELATÓRIO!E213=0,0,UPPER(RELATÓRIO!E213))","v":0},{"$f":"RELATÓRIO!L213","v":"00:00:00"},{"$f":"RELATÓRIO!M213","v":"00:00:00"},{"$f":"RELATÓRIO!S213","v":0}]
[{"$f":"IF(RELATÓRIO!E214=0,0,UPPER(RELATÓRIO!E214))","v":0},{"$f":"RELATÓRIO!L214","v":"00:00:00"},{"$f":"RELATÓRIO!M214","v":"00:00:00"},{"$f":"RELATÓRIO!S214","v":0}]
[{"$f":"IF(RELATÓRIO!E215=0,0,UPPER(RELATÓRIO!E215))","v":0},{"$f":"RELATÓRIO!L215","v":"00:00:00"},{"$f":"RELATÓRIO!M215","v":"00:00:00"},{"$f":"RELATÓRIO!S215","v":0}]
[{"$f":"IF(RELATÓRIO!E216=0,0,UPPER(RELATÓRIO!E216))","v":0},{"$f":"RELATÓRIO!L216","v":"00:00:00"},{"$f":"RELATÓRIO!M216","v":"00:00:00"},{"$f":"RELATÓRIO!S216","v":0}]
[{"$f":"IF(RELATÓRIO!E217=0,0,UPPER(RELATÓRIO!E217))","v":0},{"$f":"RELATÓRIO!L217","v":"00:00:00"},{"$f":"RELATÓRIO!M217","v":"00:00:00"},{"$f":"RELATÓRIO!S217","v":0}]
[{"$f":"IF(RELATÓRIO!E218=0,0,UPPER(RELATÓRIO!E218))","v":0},{"$f":"RELATÓRIO!L218","v":"00:00:00"},{"$f":"RELATÓRIO!M218","v":"00:00:00"},{"$f":"RELATÓRIO!S218","v":0}]
[{"$f":"IF(RELATÓRIO!E219=0,0,UPPER(RELATÓRIO!E219))","v":0},{"$f":"RELATÓRIO!L219","v":"00:00:00"},{"$f":"RELATÓRIO!M219","v":"00:00:00"},{"$f":"RELATÓRIO!S219","v":0}]
[{"$f":"IF(RELATÓRIO!E220=0,0,UPPER(RELATÓRIO!E220))","v":0},{"$f":"RELATÓRIO!L220","v":"00:00:00"},{"$f":"RELATÓRIO!M220","v":"00:00:00"},{"$f":"RELATÓRIO!S220","v":0}]
[{"$f":"IF(RELATÓRIO!E221=0,0,UPPER(RELATÓRIO!E221))","v":0},{"$f":"RELATÓRIO!L221","v":"00:00:00"},{"$f":"RELATÓRIO!M221","v":"00:00:00"},{"$f":"RELATÓRIO!S221","v":0}]
[{"$f":"IF(RELATÓRIO!E222=0,0,UPPER(RELATÓRIO!E222))","v":0},{"$f":"RELATÓRIO!L222","v":"00:00:00"},{"$f":"RELATÓRIO!M222","v":"00:00:00"},{"$f":"RELATÓRIO!S222","v":0}]
[{"$f":"IF(RELATÓRIO!E223=0,0,UPPER(RELATÓRIO!E223))","v":0},{"$f":"RELATÓRIO!L223","v":"00:00:00"},{"$f":"RELATÓRIO!M223","v":"00:00:00"},{"$f":"RELATÓRIO!S223","v":0}]
[{"$f":"IF(RELATÓRIO!E224=0,0,UPPER(RELATÓRIO!E224))","v":0},{"$f":"RELATÓRIO!L224","v":"00:00:00"},{"$f":"RELATÓRIO!M224","v":"00:00:00"},{"$f":"RELATÓRIO!S224","v":0}]
[{"$f":"IF(RELATÓRIO!E225=0,0,UPPER(RELATÓRIO!E225))","v":0},{"$f":"RELATÓRIO!L225","v":"00:00:00"},{"$f":"RELATÓRIO!M225","v":"00:00:00"},{"$f":"RELATÓRIO!S225","v":0}]
[{"$f":"IF(RELATÓRIO!E226=0,0,UPPER(RELATÓRIO!E226))","v":0},{"$f":"RELATÓRIO!L226","v":"00:00:00"},{"$f":"RELATÓRIO!M226","v":"00:00:00"},{"$f":"RELATÓRIO!S226","v":0}]
[{"$f":"IF(RELATÓRIO!E227=0,0,UPPER(RELATÓRIO!E227))","v":0},{"$f":"RELATÓRIO!L227","v":"00:00:00"},{"$f":"RELATÓRIO!M227","v":"00:00:00"},{"$f":"RELATÓRIO!S227","v":0}]
[{"$f":"IF(RELATÓRIO!E228=0,0,UPPER(RELATÓRIO!E228))","v":0},{"$f":"RELATÓRIO!L228","v":"00:00:00"},{"$f":"RELATÓRIO!M228","v":"00:00:00"},{"$f":"RELATÓRIO!S228","v":0}]
[{"$f":"IF(RELATÓRIO!E229=0,0,UPPER(RELATÓRIO!E229))","v":0},{"$f":"RELATÓRIO!L229","v":"00:00:00"},{"$f":"RELATÓRIO!M229","v":"00:00:00"},{"$f":"RELATÓRIO!S229","v":0}]
[{"$f":"IF(RELATÓRIO!E230=0,0,UPPER(RELATÓRIO!E230))","v":0},{"$f":"RELATÓRIO!L230","v":"00:00:00"},{"$f":"RELATÓRIO!M230","v":"00:00:00"},{"$f":"RELATÓRIO!S230","v":0}]
[{"$f":"IF(RELATÓRIO!E231=0,0,UPPER(RELATÓRIO!E231))","v":0},{"$f":"RELATÓRIO!L231","v":"00:00:00"},{"$f":"RELATÓRIO!M231","v":"00:00:00"},{"$f":"RELATÓRIO!S231","v":0}]
[{"$f":"IF(RELATÓRIO!E232=0,0,UPPER(RELATÓRIO!E232))","v":0},{"$f":"RELATÓRIO!L232","v":"00:00:00"},{"$f":"RELATÓRIO!M232","v":"00:00:00"},{"$f":"RELATÓRIO!S232","v":0}]
[{"$f":"IF(RELATÓRIO!E233=0,0,UPPER(RELATÓRIO!E233))","v":0},{"$f":"RELATÓRIO!L233","v":"00:00:00"},{"$f":"RELATÓRIO!M233","v":"00:00:00"},{"$f":"RELATÓRIO!S233","v":0}]
[{"$f":"IF(RELATÓRIO!E234=0,0,UPPER(RELATÓRIO!E234))","v":0},{"$f":"RELATÓRIO!L234","v":"00:00:00"},{"$f":"RELATÓRIO!M234","v":"00:00:00"},{"$f":"RELATÓRIO!S234","v":0}]
[{"$f":"IF(RELATÓRIO!E235=0,0,UPPER(RELATÓRIO!E235))","v":0},{"$f":"RELATÓRIO!L235","v":"00:00:00"},{"$f":"RELATÓRIO!M235","v":"00:00:00"},{"$f":"RELATÓRIO!S235","v":0}]
[{"$f":"IF(RELATÓRIO!E236=0,0,UPPER(RELATÓRIO!E236))","v":0},{"$f":"RELATÓRIO!L236","v":"00:00:00"},{"$f":"RELATÓRIO!M236","v":"00:00:00"},{"$f":"RELATÓRIO!S236","v":0}]
[{"$f":"IF(RELATÓRIO!E237=0,0,UPPER(RELATÓRIO!E237))","v":0},{"$f":"RELATÓRIO!L237","v":"00:00:00"},{"$f":"RELATÓRIO!M237","v":"00:00:00"},{"$f":"RELATÓRIO!S237","v":0}]
[{"$f":"IF(RELATÓRIO!E238=0,0,UPPER(RELATÓRIO!E238))","v":0},{"$f":"RELATÓRIO!L238","v":"00:00:00"},{"$f":"RELATÓRIO!M238","v":"00:00:00"},{"$f":"RELATÓRIO!S238","v":0}]
[{"$f":"IF(RELATÓRIO!E239=0,0,UPPER(RELATÓRIO!E239))","v":0},{"$f":"RELATÓRIO!L239","v":"00:00:00"},{"$f":"RELATÓRIO!M239","v":"00:00:00"},{"$f":"RELATÓRIO!S239","v":0}]
[{"$f":"IF(RELATÓRIO!E240=0,0,UPPER(RELATÓRIO!E240))","v":0},{"$f":"RELATÓRIO!L240","v":"00:00:00"},{"$f":"RELATÓRIO!M240","v":"00:00:00"},{"$f":"RELATÓRIO!S240","v":0}]
[{"$f":"IF(RELATÓRIO!E241=0,0,UPPER(RELATÓRIO!E241))","v":0},{"$f":"RELATÓRIO!L241","v":"00:00:00"},{"$f":"RELATÓRIO!M241","v":"00:00:00"},{"$f":"RELATÓRIO!S241","v":0}]
[{"$f":"IF(RELATÓRIO!E242=0,0,UPPER(RELATÓRIO!E242))","v":0},{"$f":"RELATÓRIO!L242","v":"00:00:00"},{"$f":"RELATÓRIO!M242","v":"00:00:00"},{"$f":"RELATÓRIO!S242","v":0}]
[{"$f":"IF(RELATÓRIO!E243=0,0,UPPER(RELATÓRIO!E243))","v":0},{"$f":"RELATÓRIO!L243","v":"00:00:00"},{"$f":"RELATÓRIO!M243","v":"00:00:00"},{"$f":"RELATÓRIO!S243","v":0}]
[{"$f":"IF(RELATÓRIO!E244=0,0,UPPER(RELATÓRIO!E244))","v":0},{"$f":"RELATÓRIO!L244","v":"00:00:00"},{"$f":"RELATÓRIO!M244","v":"00:00:00"},{"$f":"RELATÓRIO!S244","v":0}]
[{"$f":"IF(RELATÓRIO!E245=0,0,UPPER(RELATÓRIO!E245))","v":0},{"$f":"RELATÓRIO!L245","v":"00:00:00"},{"$f":"RELATÓRIO!M245","v":"00:00:00"},{"$f":"RELATÓRIO!S245","v":0}]
[{"$f":"IF(RELATÓRIO!E246=0,0,UPPER(RELATÓRIO!E246))","v":0},{"$f":"RELATÓRIO!L246","v":"00:00:00"},{"$f":"RELATÓRIO!M246","v":"00:00:00"},{"$f":"RELATÓRIO!S246","v":0}]
[{"$f":"IF(RELATÓRIO!E247=0,0,UPPER(RELATÓRIO!E247))","v":0},{"$f":"RELATÓRIO!L247","v":"00:00:00"},{"$f":"RELATÓRIO!M247","v":"00:00:00"},{"$f":"RELATÓRIO!S247","v":0}]
[{"$f":"IF(RELATÓRIO!E248=0,0,UPPER(RELATÓRIO!E248))","v":0},{"$f":"RELATÓRIO!L248","v":"00:00:00"},{"$f":"RELATÓRIO!M248","v":"00:00:00"},{"$f":"RELATÓRIO!S248","v":0}]
[{"$f":"IF(RELATÓRIO!E249=0,0,UPPER(RELATÓRIO!E249))","v":0},{"$f":"RELATÓRIO!L249","v":"00:00:00"},{"$f":"RELATÓRIO!M249","v":"00:00:00"},{"$f":"RELATÓRIO!S249","v":0}]
[{"$f":"IF(RELATÓRIO!E250=0,0,UPPER(RELATÓRIO!E250))","v":0},{"$f":"RELATÓRIO!L250","v":"00:00:00"},{"$f":"RELATÓRIO!M250","v":"00:00:00"},{"$f":"RELATÓRIO!S250","v":0}]
[{"$f":"IF(RELATÓRIO!E251=0,0,UPPER(RELATÓRIO!E251))","v":0},{"$f":"RELATÓRIO!L251","v":"00:00:00"},{"$f":"RELATÓRIO!M251","v":"00:00:00"},{"$f":"RELATÓRIO!S251","v":0}]
[{"$f":"IF(RELATÓRIO!E252=0,0,UPPER(RELATÓRIO!E252))","v":0},{"$f":"RELATÓRIO!L252","v":"00:00:00"},{"$f":"RELATÓRIO!M252","v":"00:00:00"},{"$f":"RELATÓRIO!S252","v":0}]
[{"$f":"IF(RELATÓRIO!E253=0,0,UPPER(RELATÓRIO!E253))","v":0},{"$f":"RELATÓRIO!L253","v":"00:00:00"},{"$f":"RELATÓRIO!M253","v":"00:00:00"},{"$f":"RELATÓRIO!S253","v":0}]
[{"$f":"IF(RELATÓRIO!E254=0,0,UPPER(RELATÓRIO!E254))","v":0},{"$f":"RELATÓRIO!L254","v":"00:00:00"},{"$f":"RELATÓRIO!M254","v":"00:00:00"},{"$f":"RELATÓRIO!S254","v":0}]
[{"$f":"IF(RELATÓRIO!E255=0,0,UPPER(RELATÓRIO!E255))","v":0},{"$f":"RELATÓRIO!L255","v":"00:00:00"},{"$f":"RELATÓRIO!M255","v":"00:00:00"},{"$f":"RELATÓRIO!S255","v":0}]
[{"$f":"IF(RELATÓRIO!E256=0,0,UPPER(RELATÓRIO!E256))","v":0},{"$f":"RELATÓRIO!L256","v":"00:00:00"},{"$f":"RELATÓRIO!M256","v":"00:00:00"},{"$f":"RELATÓRIO!S256","v":0}]
[{"$f":"IF(RELATÓRIO!E257=0,0,UPPER(RELATÓRIO!E257))","v":0},{"$f":"RELATÓRIO!L257","v":"00:00:00"},{"$f":"RELATÓRIO!M257","v":"00:00:00"},{"$f":"RELATÓRIO!S257","v":0}]
[{"$f":"IF(RELATÓRIO!E258=0,0,UPPER(RELATÓRIO!E258))","v":0},{"$f":"RELATÓRIO!L258","v":"00:00:00"},{"$f":"RELATÓRIO!M258","v":"00:00:00"},{"$f":"RELATÓRIO!S258","v":0}]
[{"$f":"IF(RELATÓRIO!E259=0,0,UPPER(RELATÓRIO!E259))","v":0},{"$f":"RELATÓRIO!L259","v":"00:00:00"},{"$f":"RELATÓRIO!M259","v":"00:00:00"},{"$f":"RELATÓRIO!S259","v":0}]
[{"$f":"IF(RELATÓRIO!E260=0,0,UPPER(RELATÓRIO!E260))","v":0},{"$f":"RELATÓRIO!L260","v":"00:00:00"},{"$f":"RELATÓRIO!M260","v":"00:00:00"},{"$f":"RELATÓRIO!S260","v":0}]
[{"$f":"IF(RELATÓRIO!E261=0,0,UPPER(RELATÓRIO!E261))","v":0},{"$f":"RELATÓRIO!L261","v":"00:00:00"},{"$f":"RELATÓRIO!M261","v":"00:00:00"},{"$f":"RELATÓRIO!S261","v":0}]
[{"$f":"IF(RELATÓRIO!E262=0,0,UPPER(RELATÓRIO!E262))","v":0},{"$f":"RELATÓRIO!L262","v":"00:00:00"},{"$f":"RELATÓRIO!M262","v":"00:00:00"},{"$f":"RELATÓRIO!S262","v":0}]
[{"$f":"IF(RELATÓRIO!E263=0,0,UPPER(RELATÓRIO!E263))","v":0},{"$f":"RELATÓRIO!L263","v":"00:00:00"},{"$f":"RELATÓRIO!M263","v":"00:00:00"},{"$f":"RELATÓRIO!S263","v":0}]
[{"$f":"IF(RELATÓRIO!E264=0,0,UPPER(RELATÓRIO!E264))","v":0},{"$f":"RELATÓRIO!L264","v":"00:00:00"},{"$f":"RELATÓRIO!M264","v":"00:00:00"},{"$f":"RELATÓRIO!S264","v":0}]
[{"$f":"IF(RELATÓRIO!E265=0,0,UPPER(RELATÓRIO!E265))","v":0},{"$f":"RELATÓRIO!L265","v":"00:00:00"},{"$f":"RELATÓRIO!M265","v":"00:00:00"},{"$f":"RELATÓRIO!S265","v":0}]
[{"$f":"IF(RELATÓRIO!E266=0,0,UPPER(RELATÓRIO!E266))","v":0},{"$f":"RELATÓRIO!L266","v":"00:00:00"},{"$f":"RELATÓRIO!M266","v":"00:00:00"},{"$f":"RELATÓRIO!S266","v":0}]
[{"$f":"IF(RELATÓRIO!E267=0,0,UPPER(RELATÓRIO!E267))","v":0},{"$f":"RELATÓRIO!L267","v":"00:00:00"},{"$f":"RELATÓRIO!M267","v":"00:00:00"},{"$f":"RELATÓRIO!S267","v":0}]
[{"$f":"IF(RELATÓRIO!E268=0,0,UPPER(RELATÓRIO!E268))","v":0},{"$f":"RELATÓRIO!L268","v":"00:00:00"},{"$f":"RELATÓRIO!M268","v":"00:00:00"},{"$f":"RELATÓRIO!S268","v":0}]
[{"$f":"IF(RELATÓRIO!E269=0,0,UPPER(RELATÓRIO!E269))","v":0},{"$f":"RELATÓRIO!L269","v":"00:00:00"},{"$f":"RELATÓRIO!M269","v":"00:00:00"},{"$f":"RELATÓRIO!S269","v":0}]
[{"$f":"IF(RELATÓRIO!E270=0,0,UPPER(RELATÓRIO!E270))","v":0},{"$f":"RELATÓRIO!L270","v":"00:00:00"},{"$f":"RELATÓRIO!M270","v":"00:00:00"},{"$f":"RELATÓRIO!S270","v":0}]
[{"$f":"IF(RELATÓRIO!E271=0,0,UPPER(RELATÓRIO!E271))","v":0},{"$f":"RELATÓRIO!L271","v":"00:00:00"},{"$f":"RELATÓRIO!M271","v":"00:00:00"},{"$f":"RELATÓRIO!S271","v":0}]
[{"$f":"IF(RELATÓRIO!E272=0,0,UPPER(RELATÓRIO!E272))","v":0},{"$f":"RELATÓRIO!L272","v":"00:00:00"},{"$f":"RELATÓRIO!M272","v":"00:00:00"},{"$f":"RELATÓRIO!S272","v":0}]
[{"$f":"IF(RELATÓRIO!E273=0,0,UPPER(RELATÓRIO!E273))","v":0},{"$f":"RELATÓRIO!L273","v":"00:00:00"},{"$f":"RELATÓRIO!M273","v":"00:00:00"},{"$f":"RELATÓRIO!S273","v":0}]
[{"$f":"IF(RELATÓRIO!E274=0,0,UPPER(RELATÓRIO!E274))","v":0},{"$f":"RELATÓRIO!L274","v":"00:00:00"},{"$f":"RELATÓRIO!M274","v":"00:00:00"},{"$f":"RELATÓRIO!S274","v":0}]
[{"$f":"IF(RELATÓRIO!E275=0,0,UPPER(RELATÓRIO!E275))","v":0},{"$f":"RELATÓRIO!L275","v":"00:00:00"},{"$f":"RELATÓRIO!M275","v":"00:00:00"},{"$f":"RELATÓRIO!S275","v":0}]
[{"$f":"IF(RELATÓRIO!E276=0,0,UPPER(RELATÓRIO!E276))","v":0},{"$f":"RELATÓRIO!L276","v":"00:00:00"},{"$f":"RELATÓRIO!M276","v":"00:00:00"},{"$f":"RELATÓRIO!S276","v":0}]
[{"$f":"IF(RELATÓRIO!E277=0,0,UPPER(RELATÓRIO!E277))","v":0},{"$f":"RELATÓRIO!L277","v":"00:00:00"},{"$f":"RELATÓRIO!M277","v":"00:00:00"},{"$f":"RELATÓRIO!S277","v":0}]
[{"$f":"IF(RELATÓRIO!E278=0,0,UPPER(RELATÓRIO!E278))","v":0},{"$f":"RELATÓRIO!L278","v":"00:00:00"},{"$f":"RELATÓRIO!M278","v":"00:00:00"},{"$f":"RELATÓRIO!S278","v":0}]
[{"$f":"IF(RELATÓRIO!E279=0,0,UPPER(RELATÓRIO!E279))","v":0},{"$f":"RELATÓRIO!L279","v":"00:00:00"},{"$f":"RELATÓRIO!M279","v":"00:00:00"},{"$f":"RELATÓRIO!S279","v":0}]
[{"$f":"IF(RELATÓRIO!E280=0,0,UPPER(RELATÓRIO!E280))","v":0},{"$f":"RELATÓRIO!L280","v":"00:00:00"},{"$f":"RELATÓRIO!M280","v":"00:00:00"},{"$f":"RELATÓRIO!S280","v":0}]
[{"$f":"IF(RELATÓRIO!E281=0,0,UPPER(RELATÓRIO!E281))","v":0},{"$f":"RELATÓRIO!L281","v":"00:00:00"},{"$f":"RELATÓRIO!M281","v":"00:00:00"},{"$f":"RELATÓRIO!S281","v":0}]
[{"$f":"IF(RELATÓRIO!E282=0,0,UPPER(RELATÓRIO!E282))","v":0},{"$f":"RELATÓRIO!L282","v":"00:00:00"},{"$f":"RELATÓRIO!M282","v":"00:00:00"},{"$f":"RELATÓRIO!S282","v":0}]
[{"$f":"IF(RELATÓRIO!E283=0,0,UPPER(RELATÓRIO!E283))","v":0},{"$f":"RELATÓRIO!L283","v":"00:00:00"},{"$f":"RELATÓRIO!M283","v":"00:00:00"},{"$f":"RELATÓRIO!S283","v":0}]
[{"$f":"IF(RELATÓRIO!E284=0,0,UPPER(RELATÓRIO!E284))","v":0},{"$f":"RELATÓRIO!L284","v":"00:00:00"},{"$f":"RELATÓRIO!M284","v":"00:00:00"},{"$f":"RELATÓRIO!S284","v":0}]
[{"$f":"IF(RELATÓRIO!E285=0,0,UPPER(RELATÓRIO!E285))","v":0},{"$f":"RELATÓRIO!L285","v":"00:00:00"},{"$f":"RELATÓRIO!M285","v":"00:00:00"},{"$f":"RELATÓRIO!S285","v":0}]
[{"$f":"IF(RELATÓRIO!E286=0,0,UPPER(RELATÓRIO!E286))","v":0},{"$f":"RELATÓRIO!L286","v":"00:00:00"},{"$f":"RELATÓRIO!M286","v":"00:00:00"},{"$f":"RELATÓRIO!S286","v":0}]
[{"$f":"IF(RELATÓRIO!E287=0,0,UPPER(RELATÓRIO!E287))","v":0},{"$f":"RELATÓRIO!L287","v":"00:00:00"},{"$f":"RELATÓRIO!M287","v":"00:00:00"},{"$f":"RELATÓRIO!S287","v":0}]
[{"$f":"IF(RELATÓRIO!E288=0,0,UPPER(RELATÓRIO!E288))","v":0},{"$f":"RELATÓRIO!L288","v":"00:00:00"},{"$f":"RELATÓRIO!M288","v":"00:00:00"},{"$f":"RELATÓRIO!S288","v":0}]
[{"$f":"IF(RELATÓRIO!E289=0,0,UPPER(RELATÓRIO!E289))","v":0},{"$f":"RELATÓRIO!L289","v":"00:00:00"},{"$f":"RELATÓRIO!M289","v":"00:00:00"},{"$f":"RELATÓRIO!S289","v":0}]
[{"$f":"IF(RELATÓRIO!E290=0,0,UPPER(RELATÓRIO!E290))","v":0},{"$f":"RELATÓRIO!L290","v":"00:00:00"},{"$f":"RELATÓRIO!M290","v":"00:00:00"},{"$f":"RELATÓRIO!S290","v":0}]
[{"$f":"IF(RELATÓRIO!E291=0,0,UPPER(RELATÓRIO!E291))","v":0},{"$f":"RELATÓRIO!L291","v":"00:00:00"},{"$f":"RELATÓRIO!M291","v":"00:00:00"},{"$f":"RELATÓRIO!S291","v":0}]
[{"$f":"IF(RELATÓRIO!E292=0,0,UPPER(RELATÓRIO!E292))","v":0},{"$f":"RELATÓRIO!L292","v":"00:00:00"},{"$f":"RELATÓRIO!M292","v":"00:00:00"},{"$f":"RELATÓRIO!S292","v":0}]
[{"$f":"IF(RELATÓRIO!E293=0,0,UPPER(RELATÓRIO!E293))","v":0},{"$f":"RELATÓRIO!L293","v":"00:00:00"},{"$f":"RELATÓRIO!M293","v":"00:00:00"},{"$f":"RELATÓRIO!S293","v":0}]
[{"$f":"IF(RELATÓRIO!E294=0,0,UPPER(RELATÓRIO!E294))","v":0},{"$f":"RELATÓRIO!L294","v":"00:00:00"},{"$f":"RELATÓRIO!M294","v":"00:00:00"},{"$f":"RELATÓRIO!S294","v":0}]
[{"$f":"IF(RELATÓRIO!E295=0,0,UPPER(RELATÓRIO!E295))","v":0},{"$f":"RELATÓRIO!L295","v":"00:00:00"},{"$f":"RELATÓRIO!M295","v":"00:00:00"},{"$f":"RELATÓRIO!S295","v":0}]
[{"$f":"IF(RELATÓRIO!E296=0,0,UPPER(RELATÓRIO!E296))","v":0},{"$f":"RELATÓRIO!L296","v":"00:00:00"},{"$f":"RELATÓRIO!M296","v":"00:00:00"},{"$f":"RELATÓRIO!S296","v":0}]
[{"$f":"IF(RELATÓRIO!E297=0,0,UPPER(RELATÓRIO!E297))","v":0},{"$f":"RELATÓRIO!L297","v":"00:00:00"},{"$f":"RELATÓRIO!M297","v":"00:00:00"},{"$f":"RELATÓRIO!S297","v":0}]
[{"$f":"IF(RELATÓRIO!E298=0,0,UPPER(RELATÓRIO!E298))","v":0},{"$f":"RELATÓRIO!L298","v":"00:00:00"},{"$f":"RELATÓRIO!M298","v":"00:00:00"},{"$f":"RELATÓRIO!S298","v":0}]
[{"$f":"IF(RELATÓRIO!E299=0,0,UPPER(RELATÓRIO!E299))","v":0},{"$f":"RELATÓRIO!L299","v":"00:00:00"},{"$f":"RELATÓRIO!M299","v":"00:00:00"},{"$f":"RELATÓRIO!S299","v":0}]
[{"$f":"IF(RELATÓRIO!E300=0,0,UPPER(RELATÓRIO!E300))","v":0},{"$f":"RELATÓRIO!L300","v":"00:00:00"},{"$f":"RELATÓRIO!M300","v":"00:00:00"},{"$f":"RELATÓRIO!S300","v":0}]
[{"$f":"IF(RELATÓRIO!E301=0,0,UPPER(RELATÓRIO!E301))","v":0},{"$f":"RELATÓRIO!L301","v":"00:00:00"},{"$f":"RELATÓRIO!M301","v":"00:00:00"},{"$f":"RELATÓRIO!S301","v":0}]
[{"$f":"IF(RELATÓRIO!E302=0,0,UPPER(RELATÓRIO!E302))","v":0},{"$f":"RELATÓRIO!L302","v":"00:00:00"},{"$f":"RELATÓRIO!M302","v":"00:00:00"},{"$f":"RELATÓRIO!S302","v":0}]
[{"$f":"IF(RELATÓRIO!E303=0,0,UPPER(RELATÓRIO!E303))","v":0},{"$f":"RELATÓRIO!L303","v":"00:00:00"},{"$f":"RELATÓRIO!M303","v":"00:00:00"},{"$f":"RELATÓRIO!S303","v":0}]
[{"$f":"IF(RELATÓRIO!E304=0,0,UPPER(RELATÓRIO!E304))","v":0},{"$f":"RELATÓRIO!L304","v":"00:00:00"},{"$f":"RELATÓRIO!M304","v":"00:00:00"},{"$f":"RELATÓRIO!S304","v":0}]
[{"$f":"IF(RELATÓRIO!E305=0,0,UPPER(RELATÓRIO!E305))","v":0},{"$f":"RELATÓRIO!L305","v":"00:00:00"},{"$f":"RELATÓRIO!M305","v":"00:00:00"},{"$f":"RELATÓRIO!S305","v":0}]
[{"$f":"IF(RELATÓRIO!E306=0,0,UPPER(RELATÓRIO!E306))","v":0},{"$f":"RELATÓRIO!L306","v":"00:00:00"},{"$f":"RELATÓRIO!M306","v":"00:00:00"},{"$f":"RELATÓRIO!S306","v":0}]
[{"$f":"IF(RELATÓRIO!E307=0,0,UPPER(RELATÓRIO!E307))","v":0},{"$f":"RELATÓRIO!L307","v":"00:00:00"},{"$f":"RELATÓRIO!M307","v":"00:00:00"},{"$f":"RELATÓRIO!S307","v":0}]
[{"$f":"IF(RELATÓRIO!E308=0,0,UPPER(RELATÓRIO!E308))","v":0},{"$f":"RELATÓRIO!L308","v":"00:00:00"},{"$f":"RELATÓRIO!M308","v":"00:00:00"},{"$f":"RELATÓRIO!S308","v":0}]
[{"$f":"IF(RELATÓRIO!E309=0,0,UPPER(RELATÓRIO!E309))","v":0},{"$f":"RELATÓRIO!L309","v":"00:00:00"},{"$f":"RELATÓRIO!M309","v":"00:00:00"},{"$f":"RELATÓRIO!S309","v":0}]
[{"$f":"IF(RELATÓRIO!E310=0,0,UPPER(RELATÓRIO!E310))","v":0},{"$f":"RELATÓRIO!L310","v":"00:00:00"},{"$f":"RELATÓRIO!M310","v":"00:00:00"},{"$f":"RELATÓRIO!S310","v":0}]
[{"$f":"IF(RELATÓRIO!E311=0,0,UPPER(RELATÓRIO!E311))","v":0},{"$f":"RELATÓRIO!L311","v":"00:00:00"},{"$f":"RELATÓRIO!M311","v":"00:00:00"},{"$f":"RELATÓRIO!S311","v":0}]
[{"$f":"IF(RELATÓRIO!E312=0,0,UPPER(RELATÓRIO!E312))","v":0},{"$f":"RELATÓRIO!L312","v":"00:00:00"},{"$f":"RELATÓRIO!M312","v":"00:00:00"},{"$f":"RELATÓRIO!S312","v":0}]
[{"$f":"IF(RELATÓRIO!E313=0,0,UPPER(RELATÓRIO!E313))","v":0},{"$f":"RELATÓRIO!L313","v":"00:00:00"},{"$f":"RELATÓRIO!M313","v":"00:00:00"},{"$f":"RELATÓRIO!S313","v":0}]
[{"$f":"IF(RELATÓRIO!E314=0,0,UPPER(RELATÓRIO!E314))","v":0},{"$f":"RELATÓRIO!L314","v":"00:00:00"},{"$f":"RELATÓRIO!M314","v":"00:00:00"},{"$f":"RELATÓRIO!S314","v":0}]
[{"$f":"IF(RELATÓRIO!E315=0,0,UPPER(RELATÓRIO!E315))","v":0},{"$f":"RELATÓRIO!L315","v":"00:00:00"},{"$f":"RELATÓRIO!M315","v":"00:00:00"},{"$f":"RELATÓRIO!S315","v":0}]
[{"$f":"IF(RELATÓRIO!E316=0,0,UPPER(RELATÓRIO!E316))","v":0},{"$f":"RELATÓRIO!L316","v":"00:00:00"},{"$f":"RELATÓRIO!M316","v":"00:00:00"},{"$f":"RELATÓRIO!S316","v":0}]
[{"$f":"IF(RELATÓRIO!E317=0,0,UPPER(RELATÓRIO!E317))","v":0},{"$f":"RELATÓRIO!L317","v":"00:00:00"},{"$f":"RELATÓRIO!M317","v":"00:00:00"},{"$f":"RELATÓRIO!S317","v":0}]
[{"$f":"IF(RELATÓRIO!E318=0,0,UPPER(RELATÓRIO!E318))","v":0},{"$f":"RELATÓRIO!L318","v":"00:00:00"},{"$f":"RELATÓRIO!M318","v":"00:00:00"},{"$f":"RELATÓRIO!S318","v":0}]
[{"$f":"IF(RELATÓRIO!E319=0,0,UPPER(RELATÓRIO!E319))","v":0},{"$f":"RELATÓRIO!L319","v":"00:00:00"},{"$f":"RELATÓRIO!M319","v":"00:00:00"},{"$f":"RELATÓRIO!S319","v":0}]
[{"$f":"IF(RELATÓRIO!E320=0,0,UPPER(RELATÓRIO!E320))","v":0},{"$f":"RELATÓRIO!L320","v":"00:00:00"},{"$f":"RELATÓRIO!M320","v":"00:00:00"},{"$f":"RELATÓRIO!S320","v":0}]
[{"$f":"IF(RELATÓRIO!E321=0,0,UPPER(RELATÓRIO!E321))","v":0},{"$f":"RELATÓRIO!L321","v":"00:00:00"},{"$f":"RELATÓRIO!M321","v":"00:00:00"},{"$f":"RELATÓRIO!S321","v":0}]
[{"$f":"IF(RELATÓRIO!E322=0,0,UPPER(RELATÓRIO!E322))","v":0},{"$f":"RELATÓRIO!L322","v":"00:00:00"},{"$f":"RELATÓRIO!M322","v":"00:00:00"},{"$f":"RELATÓRIO!S322","v":0}]
[{"$f":"IF(RELATÓRIO!E323=0,0,UPPER(RELATÓRIO!E323))","v":0},{"$f":"RELATÓRIO!L323","v":"00:00:00"},{"$f":"RELATÓRIO!M323","v":"00:00:00"},{"$f":"RELATÓRIO!S323","v":0}]
[{"$f":"IF(RELATÓRIO!E324=0,0,UPPER(RELATÓRIO!E324))","v":0},{"$f":"RELATÓRIO!L324","v":"00:00:00"},{"$f":"RELATÓRIO!M324","v":"00:00:00"},{"$f":"RELATÓRIO!S324","v":0}]
[{"$f":"IF(RELATÓRIO!E325=0,0,UPPER(RELATÓRIO!E325))","v":0},{"$f":"RELATÓRIO!L325","v":"00:00:00"},{"$f":"RELATÓRIO!M325","v":"00:00:00"},{"$f":"RELATÓRIO!S325","v":0}]
[{"$f":"IF(RELATÓRIO!E326=0,0,UPPER(RELATÓRIO!E326))","v":0},{"$f":"RELATÓRIO!L326","v":"00:00:00"},{"$f":"RELATÓRIO!M326","v":"00:00:00"},{"$f":"RELATÓRIO!S326","v":0}]
[{"$f":"IF(RELATÓRIO!E327=0,0,UPPER(RELATÓRIO!E327))","v":0},{"$f":"RELATÓRIO!L327","v":"00:00:00"},{"$f":"RELATÓRIO!M327","v":"00:00:00"},{"$f":"RELATÓRIO!S327","v":0}]
[{"$f":"IF(RELATÓRIO!E328=0,0,UPPER(RELATÓRIO!E328))","v":0},{"$f":"RELATÓRIO!L328","v":"00:00:00"},{"$f":"RELATÓRIO!M328","v":"00:00:00"},{"$f":"RELATÓRIO!S328","v":0}]
[{"$f":"IF(RELATÓRIO!E329=0,0,UPPER(RELATÓRIO!E329))","v":0},{"$f":"RELATÓRIO!L329","v":"00:00:00"},{"$f":"RELATÓRIO!M329","v":"00:00:00"},{"$f":"RELATÓRIO!S329","v":0}]
[{"$f":"IF(RELATÓRIO!E330=0,0,UPPER(RELATÓRIO!E330))","v":0},{"$f":"RELATÓRIO!L330","v":"00:00:00"},{"$f":"RELATÓRIO!M330","v":"00:00:00"},{"$f":"RELATÓRIO!S330","v":0}]
[{"$f":"IF(RELATÓRIO!E331=0,0,UPPER(RELATÓRIO!E331))","v":0},{"$f":"RELATÓRIO!L331","v":"00:00:00"},{"$f":"RELATÓRIO!M331","v":"00:00:00"},{"$f":"RELATÓRIO!S331","v":0}]
[{"$f":"IF(RELATÓRIO!E332=0,0,UPPER(RELATÓRIO!E332))","v":0},{"$f":"RELATÓRIO!L332","v":"00:00:00"},{"$f":"RELATÓRIO!M332","v":"00:00:00"},{"$f":"RELATÓRIO!S332","v":0}]
[{"$f":"IF(RELATÓRIO!E333=0,0,UPPER(RELATÓRIO!E333))","v":0},{"$f":"RELATÓRIO!L333","v":"00:00:00"},{"$f":"RELATÓRIO!M333","v":"00:00:00"},{"$f":"RELATÓRIO!S333","v":0}]
[{"$f":"IF(RELATÓRIO!E334=0,0,UPPER(RELATÓRIO!E334))","v":0},{"$f":"RELATÓRIO!L334","v":"00:00:00"},{"$f":"RELATÓRIO!M334","v":"00:00:00"},{"$f":"RELATÓRIO!S334","v":0}]
[{"$f":"IF(RELATÓRIO!E335=0,0,UPPER(RELATÓRIO!E335))","v":0},{"$f":"RELATÓRIO!L335","v":"00:00:00"},{"$f":"RELATÓRIO!M335","v":"00:00:00"},{"$f":"RELATÓRIO!S335","v":0}]
[{"$f":"IF(RELATÓRIO!E336=0,0,UPPER(RELATÓRIO!E336))","v":0},{"$f":"RELATÓRIO!L336","v":"00:00:00"},{"$f":"RELATÓRIO!M336","v":"00:00:00"},{"$f":"RELATÓRIO!S336","v":0}]
[{"$f":"IF(RELATÓRIO!E337=0,0,UPPER(RELATÓRIO!E337))","v":0},{"$f":"RELATÓRIO!L337","v":"00:00:00"},{"$f":"RELATÓRIO!M337","v":"00:00:00"},{"$f":"RELATÓRIO!S337","v":0}]
[{"$f":"IF(RELATÓRIO!E338=0,0,UPPER(RELATÓRIO!E338))","v":0},{"$f":"RELATÓRIO!L338","v":"00:00:00"},{"$f":"RELATÓRIO!M338","v":"00:00:00"},{"$f":"RELATÓRIO!S338","v":0}]
[{"$f":"IF(RELATÓRIO!E339=0,0,UPPER(RELATÓRIO!E339))","v":0},{"$f":"RELATÓRIO!L339","v":"00:00:00"},{"$f":"RELATÓRIO!M339","v":"00:00:00"},{"$f":"RELATÓRIO!S339","v":0}]
[{"$f":"IF(RELATÓRIO!E340=0,0,UPPER(RELATÓRIO!E340))","v":0},{"$f":"RELATÓRIO!L340","v":"00:00:00"},{"$f":"RELATÓRIO!M340","v":"00:00:00"},{"$f":"RELATÓRIO!S340","v":0}]
[{"$f":"IF(RELATÓRIO!E341=0,0,UPPER(RELATÓRIO!E341))","v":0},{"$f":"RELATÓRIO!L341","v":"00:00:00"},{"$f":"RELATÓRIO!M341","v":"00:00:00"},{"$f":"RELATÓRIO!S341","v":0}]
[{"$f":"IF(RELATÓRIO!E342=0,0,UPPER(RELATÓRIO!E342))","v":0},{"$f":"RELATÓRIO!L342","v":"00:00:00"},{"$f":"RELATÓRIO!M342","v":"00:00:00"},{"$f":"RELATÓRIO!S342","v":0}]
[{"$f":"IF(RELATÓRIO!E343=0,0,UPPER(RELATÓRIO!E343))","v":0},{"$f":"RELATÓRIO!L343","v":"00:00:00"},{"$f":"RELATÓRIO!M343","v":"00:00:00"},{"$f":"RELATÓRIO!S343","v":0}]
[{"$f":"IF(RELATÓRIO!E344=0,0,UPPER(RELATÓRIO!E344))","v":0},{"$f":"RELATÓRIO!L344","v":"00:00:00"},{"$f":"RELATÓRIO!M344","v":"00:00:00"},{"$f":"RELATÓRIO!S344","v":0}]
[{"$f":"IF(RELATÓRIO!E345=0,0,UPPER(RELATÓRIO!E345))","v":0},{"$f":"RELATÓRIO!L345","v":"00:00:00"},{"$f":"RELATÓRIO!M345","v":"00:00:00"},{"$f":"RELATÓRIO!S345","v":0}]
[{"$f":"IF(RELATÓRIO!E346=0,0,UPPER(RELATÓRIO!E346))","v":0},{"$f":"RELATÓRIO!L346","v":"00:00:00"},{"$f":"RELATÓRIO!M346","v":"00:00:00"},{"$f":"RELATÓRIO!S346","v":0}]
[{"$f":"IF(RELATÓRIO!E347=0,0,UPPER(RELATÓRIO!E347))","v":0},{"$f":"RELATÓRIO!L347","v":"00:00:00"},{"$f":"RELATÓRIO!M347","v":"00:00:00"},{"$f":"RELATÓRIO!S347","v":0}]
[{"$f":"IF(RELATÓRIO!E348=0,0,UPPER(RELATÓRIO!E348))","v":0},{"$f":"RELATÓRIO!L348","v":"00:00:00"},{"$f":"RELATÓRIO!M348","v":"00:00:00"},{"$f":"RELATÓRIO!S348","v":0}]
[{"$f":"IF(RELATÓRIO!E349=0,0,UPPER(RELATÓRIO!E349))","v":0},{"$f":"RELATÓRIO!L349","v":"00:00:00"},{"$f":"RELATÓRIO!M349","v":"00:00:00"},{"$f":"RELATÓRIO!S349","v":0}]
[{"$f":"IF(RELATÓRIO!E350=0,0,UPPER(RELATÓRIO!E350))","v":0},{"$f":"RELATÓRIO!L350","v":"00:00:00"},{"$f":"RELATÓRIO!M350","v":"00:00:00"},{"$f":"RELATÓRIO!S350","v":0}]
[{"$f":"IF(RELATÓRIO!E351=0,0,UPPER(RELATÓRIO!E351))","v":0},{"$f":"RELATÓRIO!L351","v":"00:00:00"},{"$f":"RELATÓRIO!M351","v":"00:00:00"},{"$f":"RELATÓRIO!S351","v":0}]
[{"$f":"IF(RELATÓRIO!E352=0,0,UPPER(RELATÓRIO!E352))","v":0},{"$f":"RELATÓRIO!L352","v":"00:00:00"},{"$f":"RELATÓRIO!M352","v":"00:00:00"},{"$f":"RELATÓRIO!S352","v":0}]
[{"$f":"IF(RELATÓRIO!E353=0,0,UPPER(RELATÓRIO!E353))","v":0},{"$f":"RELATÓRIO!L353","v":"00:00:00"},{"$f":"RELATÓRIO!M353","v":"00:00:00"},{"$f":"RELATÓRIO!S353","v":0}]
[{"$f":"IF(RELATÓRIO!E354=0,0,UPPER(RELATÓRIO!E354))","v":0},{"$f":"RELATÓRIO!L354","v":"00:00:00"},{"$f":"RELATÓRIO!M354","v":"00:00:00"},{"$f":"RELATÓRIO!S354","v":0}]

{"sheet":"Banco de Matriculas ","index":3,"n_rows":2000,"n_cols":22,"rows_kept":2000,"cut":false,"hidden":false,"merged":[]}
["DADOS EXTRAÍDOS"]
["ORACLE > FOLHA > RELATÓRIO > RUBRICAS > SERVIDORES/CPFs por Rubrica = 999999 = extração por texto"]
[]
["MATRICULA","NOME","CPF"]
[{"$f":"N5","v":"MT18703"},{"$f":"S5","v":"ANDREA CRISTINA DE OLIVEIRA LEMOS"},{"$f":"P5","v":"806.728.331-15"},"FOLHA DE PAGAMENTO","2020-01-01","TRF1 - Folha Ordinária - Janeiro/2020 - Base :TRF1.","ATIVO","MATRICULA","SEQUD","CPF","SERVIDOR","RUBRICA","VALOR ","MT18703",0,"806.728.331-15",999999,14862.84,"ANDREA CRISTINA DE OLIVEIRA LEMOS"]
[{"$f":"N6","v":"MT36411"},{"$f":"S6","v":"ABEDNEGO SOUZA DE CASTRO"},{"$f":"P6","v":"668.525.872-15"},"FOLHA DE PAGAMENTO","2020-01-01","TRF1 - Folha Ordinária - Janeiro/2020 - Base :TRF1.","ATIVO","MATRICULA","SEQUD","CPF","SERVIDOR","RUBRICA","VALOR ","MT36411",0,"668.525.872-15",999999,12799.18,"ABEDNEGO SOUZA DE CASTRO"]
["MT36276","ADEMAR FERREIRA BARBOSA","192.991.091-68","FOLHA DE PAGAMENTO","2020-01-01","TRF1 - Folha Ordinária - Janeiro/2020 - Base :TRF1.","ATIVO","MATRICULA","SEQUD","CPF","SERVIDOR","RUBRICA","VALOR ","MT36276",0,"192.991.091-68",999999,10787.21,"ADEMAR FERREIRA BARBOSA"]
["MT18203","ADEMILSON ALVES DA COSTA","531.822.351-68","FOLHA DE PAGAMENTO","2020-01-01","TRF1 - Folha Ordinária - Janeiro/2020 - Base :TRF1.","ATIVO","MATRICULA","SEQUD","CPF","SERVIDOR","RUBRICA","VALOR ","MT18203",0,"531.822.351-68",999999,6425.97,"ADEMILSON ALVES DA COSTA"]
["MT36303","ADRIANA EVARINI","030.069.429-65","FOLHA DE PAGAMENTO","2020-01-01","TRF1 - Folha Ordinária - Janeiro/2020 - Base :TRF1.","ATIVO","MATRICULA","SEQUD","CPF","SERVIDOR","RUBRICA","VALOR ","MT36303",0,"030.069.429-65",999999,12600.8,"ADRIANA EVARINI"]
["MT29403","ADRIANA TINOCO DA SILVA","694.295.881-68","FOLHA DE PAGAMENTO","2020-01-01","TRF1 - Folha Ordinária - Janeiro/2020 - Base :TRF1.","ATIVO","MATRICULA","SEQUD","CPF","SERVIDOR","RUBRICA","VALOR ","MT29403",0,"694.295.881-68",999999,16940.669999999998,"ADRIANA TINOCO DA SILVA"]
["MT36458","ALAN MACHADO SANTOS","951.598.511-00","FOLHA DE PAGAMENTO","2020-01-01","TRF1 - Folha Ordinária - Janeiro/2020 - Base :TRF1.","ATIVO","MATRICULA","SEQUD","CPF","SERVIDOR","RUBRICA","VALOR ","MT36458",0,"951.598.511-00",999999,17824.310000000001,"ALAN MACHADO SANTOS"]
["MT36275","ALAN RODRIGO FUZINATO","987.713.611-20","FOLHA DE PAGAMENTO","2020-01-01","TRF1 - Folha Ordinária - Janeiro/2020 - Base :TRF1.","ATIVO","MATRICULA","SEQUD","CPF","SERVIDOR","RUBRICA","VALOR ","MT36275",0,"987.713.611-20",999999,22008.959999999999,"ALAN RODRIGO FUZINATO"]
["MT36010","ALESSANDRA AZEVEDO","006.086.139-83","FOLHA DE PAGAMENTO","2020-01-01","TRF1 - Folha Ordinária - Janeiro/2020 - Base :TRF1.","ATIVO","MATRICULA","SEQUD","CPF","SERVIDOR","RUBRICA","VALOR ","MT36010",0,"006.086.139-83",999999,23866.67,"ALESSANDRA AZEVEDO"]
["MT36134","ALEX HENRIQUES MOLINA","010.073.651-37","FOLHA DE PAGAMENTO","2020-01-01","TRF1 - Folha Ordinária - Janeiro/2020 - Base :TRF1.","ATIVO","MATRICULA","SEQUD","CPF","SERVIDOR","RUBRICA","VALOR ","MT36134",0,"010.073.651-37",999999,17149.36,"ALEX HENRIQUES MOLINA"]
["MT36228","ALEXANDRA BOTELHO SILVA SEGUNDO VALDERRAMAS","696.701.701-25","FOLHA DE PAGAMENTO","2020-01-01","TRF1 - Folha Ordinária - Janeiro/2020 - Base :TRF1.","ATIVO","MATRICULA","SEQUD","CPF","SERVIDOR","RUBRICA","VALOR ","MT36228",0,"696.701.701-25",999999,10445.790000000001,"ALEXANDRA BOTELHO SILVA SEGUNDO VALDERRAMAS"]
["MT36192","ALEXANDRE BARBOSA NOGUEIRA","683.234.922-04","FOLHA DE PAGAMENTO","2020-01-01","TRF1 - Folha Ordinária - Janeiro/2020 - Base :TRF1.","ATIVO","MATRICULA","SEQUD","CPF","SERVIDOR","RUBRICA","VALOR ","MT36192",0,"683.234.922-04",999999,11952.14,"ALEXANDRE BARBOSA NOGUEIRA"]
["MT36145","ALEXANDRE TOMASSINI PLEUTIN RODRIGUES","927.765.311-68","FOLHA DE PAGAMENTO","2020-01-01","TRF1 - Folha Ordinária - Janeiro/2020 - Base :TRF1.","ATIVO","MATRICULA","SEQUD","CPF","SERVIDOR","RUBRICA","VALOR ","MT36145",0,"927.765.311-68",999999,25273.19,"ALEXANDRE TOMASSINI PLEUTIN RODRIGUES"]
["MT36094","ALLAN LADEIA MIRANDA","047.455.776-64","FOLHA DE PAGAMENTO","2020-01-01","TRF1 - Folha Ordinária - Janeiro/2020 - Base :TRF1.","ATIVO","MATRICULA","SEQUD","CPF","SERVIDOR","RUBRICA","VALOR ","MT36094",0,"047.455.776-64",999999,31889.13,"ALLAN LADEIA MIRANDA"]
["MT36002","ALTAMIRANDO MUNIZ FILHO","193.051.331-34","FOLHA DE PAGAMENTO","2020-01-01","TRF1 - Folha Ordinária - Janeiro/2020 - Base :TRF1.","ATIVO","MATRICULA","SEQUD","CPF","SERVIDOR","RUBRICA","VALOR ","MT36002",0,"193.051.331-34",999999,10925.72,"ALTAMIRANDO MUNIZ FILHO"]
["MT27303","ALYSSON ANTONIO DE SIQUEIRA GODOY","699.549.251-04","FOLHA DE PAGAMENTO","2020-01-01","TRF1 - Folha Ordinária - Janeiro/2020 - Base :TRF1.","ATIVO","MATRICULA","SEQUD","CPF","SERVIDOR","RUBRICA","VALOR ","MT27303",0,"699.549.251-04",999999,14501.34,"ALYSSON ANTONIO DE SIQUEIRA GODOY"]
["MT36469","AMANDA CRISTINE ANTUNES CAETANO RUIZ","009.760.049-09","FOLHA DE PAGAMENTO","2020-01-01","TRF1 - Folha Ordinária - Janeiro/2020 - Base :TRF1.","ATIVO","MATRICULA","SEQUD","CPF","SERVIDOR","RUBRICA","VALOR ","MT36469",0,"009.760.049-09",999999,2978.69,"AMANDA CRISTINE ANTUNES CAETANO RUIZ"]
["MT36232","ANA CAROLINA ALCANTARINO JARDINI KUNKEL","022.250.301-70","FOLHA DE PAGAMENTO","2020-01-01","TRF1 - Folha Ordinária - Janeiro/2020 - Base :TRF1.","ATIVO","MATRICULA","SEQUD","CPF","SERVIDOR","RUBRICA","VALOR ","MT36232",0,"022.250.301-70",999999,14723.11,"ANA CAROLINA ALCANTARINO JARDINI KUNKEL"]
["MT30503","ANA CAROLINA DA VEIGA JARDIM PERES","895.089.631-15","FOLHA DE PAGAMENTO","2020-01-01","TRF1 - Folha Ordinária - Janeiro/2020 - Base :TRF1.","ATIVO","MATRICULA","SEQUD","CPF","SERVIDOR","RUBRICA","VALOR ","MT30503",0,"895.089.631-15",999999,18631.23,"ANA CAROLINA DA VEIGA JARDIM PERES"]
["MT36471","ANA CAROLINE BERNARDI","088.661.309-40","FOLHA DE PAGAMENTO","2020-01-01","TRF1 - Folha Ordinária - Janeiro/2020 - Base :TRF1.","ATIVO","MATRICULA","SEQUD","CPF","SERVIDOR","RUBRICA","VALOR ","MT36471",0,"088.661.309-40",999999,10787.89,"ANA CAROLINE BERNARDI"]
["MT36435","ANA CAROLINE CALHEIROS AMORIM SANTOS","075.416.454-35","FOLHA DE PAGAMENTO","2020-01-01","TRF1 - Folha Ordinária - Janeiro/2020 - Base :TRF1.","ATIVO","MATRICULA","SEQUD","CPF","SERVIDOR","RUBRICA","VALOR ","MT36435",0,"075.416.454-35",999999,9792.9500000000007,"ANA CAROLINE CALHEIROS AMORIM SANTOS"]
["MT36326","ANA FLAVIA MENDES FERNANDES MUELLER","173.964.808-09","FOLHA DE PAGAMENTO","2020-01-01","TRF1 - Folha Ordinária - Janeiro/2020 - Base :TRF1.","ATIVO","MATRICULA","SEQUD","CPF","SERVIDOR","RUBRICA","VALOR ","MT36326",0,"173.964.808-09",999999,14659.44,"ANA FLAVIA MENDES FERNANDES MUELLER"]
["JU621","ANA LYA FERRAZ DA GAMA FERREIRA","695.230.291-34","FOLHA DE PAGAMENTO","2020-01-01","TRF1 - Folha Ordinária - Janeiro/2020 - Base :TRF1.","ATIVO","MATRICULA","SEQUD","CPF","SERVIDOR","RUBRICA","VALOR ","JU621",0,"695.230.291-34",999999,40126.080000000002,"ANA LYA FERRAZ DA GAMA FERREIRA"]
["MT36210","ANA PAULA BISINOTO ROJAS","031.314.061-86","FOLHA DE PAGAMENTO","2020-01-01","TRF1 - Folha Ordinária - Janeiro/2020 - Base :TRF1.","ATIVO","MATRICULA","SEQUD","CPF","SERVIDOR","RUBRICA","VALOR ","MT36210",0,"031.314.061-86",999999,22361.58,"ANA PAULA BISINOTO ROJAS"]
["MT6403","ANA ROSA ALBUQUERQUE ALENCAR","441.905.901-00","FOLHA DE PAGAMENTO","2020-01-01","TRF1 - Folha Ordinária - Janeiro/2020 - Base :TRF1.","ATIVO","MATRICULA","SEQUD","CPF","SERVIDOR","RUBRICA","VALOR ","MT6403",0,"441.905.901-00",999999,21609.5,"ANA ROSA ALBUQUERQUE ALENCAR"]
["MT36063","ANALIDIA ABILIO MIGUEL DINIZ BRUM","702.845.551-34","FOLHA DE PAGAMENTO","2020-01-01","TRF1 - Folha Ordinária - Janeiro/2020 - Base :TRF1.","ATIVO","MATRICULA","SEQUD","CPF","SERVIDOR","RUBRICA","VALOR ","MT36063",0,"702.845.551-34",999999,34595.68,"ANALIDIA ABILIO MIGUEL DINIZ BRUM"]
["MT36151","ANDERSON ANDOLPHO DE MORAES","829.919.441-53","FOLHA DE PAGAMENTO","2020-01-01","TRF1 - Folha Ordinária - Janeiro/2020 - Base :TRF1.","ATIVO","MATRICULA","SEQUD","CPF","SERVIDOR","RUBRICA","VALOR ","MT36151",0,"829.919.441-53",999999,23365.32,"ANDERSON ANDOLPHO DE MORAES"]
["MT36054","ANDRE FRONIO FERREIRA DA SILVA","711.152.771-20","FOLHA DE PAGAMENTO","2020-01-01","TRF1 - Folha Ordinária - Janeiro/2020 - Base :TRF1.","ATIVO","MATRICULA","SEQUD","CPF","SERVIDOR","RUBRICA","VALOR ","MT36054",0,"711.152.771-20",999999,12370.21,"ANDRE FRONIO FERREIRA DA SILVA"]
["MT31703","ANDRE GUSTAVO GRISOLIA","845.998.711-68","FOLHA DE PAGAMENTO","2020-01-01","TRF1 - Folha Ordinária - Janeiro/2020 - Base :TRF1.","ATIVO","MATRICULA","SEQUD","CPF","SERVIDOR","RUBRICA","VALOR ","MT31703",0,"845.998.711-68",999999,27258.21,"ANDRE GUSTAVO GRISOLIA"]
["MT36346","ANDRE LUIZ DE SOUZA BATISTA","958.818.321-91","FOLHA DE PAGAMENTO","2020-01-01","TRF1 - Folha Ordinária - Janeiro/2020 - Base :TRF1.","ATIVO","MATRICULA","SEQUD","CPF","SERVIDOR","RUBRICA","VALOR ","MT36346",0,"958.818.321-91",999999,21087.23,"ANDRE LUIZ DE SOUZA BATISTA"]
["JU768","ANDRE PERICO RAMIRES DOS SANTOS","315.589.858-59","FOLHA DE PAGAMENTO","2020-01-01","TRF1 - Folha Ordinária - Janeiro/2020 - Base :TRF1.","ATIVO","MATRICULA","SEQUD","CPF","SERVIDOR","RUBRICA","VALOR ","JU768",0,"315.589.858-59",999999,37967.129999999997,"ANDRE PERICO RAMIRES DOS SANTOS"]
["MT19103","CARLOS EDUARDO BRAZIL BARBOSA","641.664.307-34","FOLHA DE PAGAMENTO","2020-01-01","TRF1 - Folha Ordinária - Janeiro/2020 - Base :TRF1.","ATIVO","MATRICULA","SEQUD","CPF","SERVIDOR","RUBRICA","VALOR ","MT19103",0,"641.664.307-34",999999,26996.06,"CARLOS EDUARDO BRAZIL BARBOSA"]
["MT18703","ANDREA CRISTINA DE OLIVEIRA LEMOS","806.728.331-15","FOLHA DE PAGAMENTO","2020-01-01","TRF1 - Folha Ordinária - Janeiro/2020 - Base :TRF1.","ATIVO","MATRICULA","SEQUD","CPF","SERVIDOR","RUBRICA","VALOR ","MT18703",0,"806.728.331-15",999999,14862.84,"ANDREA CRISTINA DE OLIVEIRA LEMOS"]
["MT22103","ANDREA DOS SANTOS SILVA","616.295.881-72","FOLHA DE PAGAMENTO","2020-01-01","TRF1 - Folha Ordinária - Janeiro/2020 - Base :TRF1.","ATIVO","MATRICULA","SEQUD","CPF","SERVIDOR","RUBRICA","VALOR ","MT22103",0,"616.295.881-72",999999,14171.03,"ANDREA DOS SANTOS SILVA"]
["MT36294","ANDREIA CRISTINA WALKER NUNES","885.968.181-20","FOLHA DE PAGAMENTO","2020-01-01","TRF1 - Folha Ordinária - Janeiro/2020 - Base :TRF1.","ATIVO","MATRICULA","SEQUD","CPF","SERVIDOR","RUBRICA","VALOR ","MT36294",0,"885.968.181-20",999999,23550,"ANDREIA CRISTINA WALKER NUNES"]
["MT36416","ANDRESSA BELANDA MUSTAFA","923.888.761-68","FOLHA DE PAGAMENTO","2020-01-01","TRF1 - Folha Ordinária - Janeiro/2020 - Base :TRF1.","ATIVO","MATRICULA","SEQUD","CPF","SERVIDOR","RUBRICA","VALOR ","MT36416",0,"923.888.761-68",999999,21028.39,"ANDRESSA BELANDA MUSTAFA"]
["MT9303","ANGELA CRISTINA SILVA VILAS BOAS","578.905.019-00","FOLHA DE PAGAMENTO","2020-01-01","TRF1 - Folha Ordinária - Janeiro/2020 - Base :TRF1.","ATIVO","MATRICULA","SEQUD","CPF","SERVIDOR","RUBRICA","VALOR ","MT9303",0,"578.905.019-00",999999,29083.89,"ANGELA CRISTINA SILVA VILAS BOAS"]
["MT18303","ANNELISE DE MESQUITA BIANCHI","522.280.611-15","FOLHA DE PAGAMENTO","2020-01-01","TRF1 - Folha Ordinária - Janeiro/2020 - Base :TRF1.","ATIVO","MATRICULA","SEQUD","CPF","SERVIDOR","RUBRICA","VALOR ","MT18303",0,"522.280.611-15",999999,18373.2,"ANNELISE DE MESQUITA BIANCHI"]
["MT36167","ANNI KAROLINE SILVA SOUZA","732.033.781-91","FOLHA DE PAGAMENTO","2020-01-01","TRF1 - Folha Ordinária - Janeiro/2020 - Base :TRF1.","ATIVO","MATRICULA","SEQUD","CPF","SERVIDOR","RUBRICA","VALOR ","MT36167",0,"732.033.781-91",999999,22852.46,"ANNI KAROLINE SILVA SOUZA"]
["MT36384","ANTONIO FRANCISCO DO NASCIMENTO","656.743.592-53","FOLHA DE PAGAMENTO","2020-01-01","TRF1 - Folha Ordinária - Janeiro/2020 - Base :TRF1.","ATIVO","MATRICULA","SEQUD","CPF","SERVIDOR","RUBRICA","VALOR ","MT36384",0,"656.743.592-53",999999,4967.8599999999997,"ANTONIO FRANCISCO DO NASCIMENTO"]
["MT31503","ANTONIO MARCOS BARBOSA MONTEIRO","057.220.268-75","FOLHA DE PAGAMENTO","2020-01-01","TRF1 - Folha Ordinária - Janeiro/2020 - Base :TRF1.","ATIVO","MATRICULA","SEQUD","CPF","SERVIDOR","RUBRICA","VALOR ","MT31503",0,"057.220.268-75",999999,27586.52,"ANTONIO MARCOS BARBOSA MONTEIRO"]
["MT16903","ANTONIO SILVANO DA SILVA","005.001.588-51","FOLHA DE PAGAMENTO","2020-01-01","TRF1 - Folha Ordinária - Janeiro/2020 - Base :TRF1.","ATIVO","MATRICULA","SEQUD","CPF","SERVIDOR","RUBRICA","VALOR ","MT16903",0,"005.001.588-51",999999,6301.8,"ANTONIO SILVANO DA SILVA"]
["MT21403","AQUIMIR BENEDITO GALVAO","263.457.061-91","FOLHA DE PAGAMENTO","2020-01-01","TRF1 - Folha Ordinária - Janeiro/2020 - Base :TRF1.","ATIVO","MATRICULA","SEQUD","CPF","SERVIDOR","RUBRICA","VALOR ","MT21403",0,"263.457.061-91",999999,15686.54,"AQUIMIR BENEDITO GALVAO"]
["MT30903","ARIADNE LACERDA DA COSTA","812.634.141-68","FOLHA DE PAGAMENTO","2020-01-01","TRF1 - Folha Ordinária - Janeiro/2020 - Base :TRF1.","ATIVO","MATRICULA","SEQUD","CPF","SERVIDOR","RUBRICA","VALOR ","MT30903",0,"812.634.141-68",999999,17811.740000000002,"ARIADNE LACERDA DA COSTA"]
["MT36216","ARIANA CRISTINA NOVAES DA SILVA","017.780.291-08","FOLHA DE PAGAMENTO","2020-01-01","TRF1 - Folha Ordinária - Janeiro/2020 - Base :TRF1.","ATIVO","MATRICULA","SEQUD","CPF","SERVIDOR","RUBRICA","VALOR ","MT36216",0,"017.780.291-08",999999,11481.72,"ARIANA CRISTINA NOVAES DA SILVA"]
["MT36301","ARIANNE BISPO BODNAR","731.696.171-68","FOLHA DE PAGAMENTO","2020-01-01","TRF1 - Folha Ordinária - Janeiro/2020 - Base :TRF1.","ATIVO","MATRICULA","SEQUD","CPF","SERVIDOR","RUBRICA","VALOR ","MT36301",0,"731.696.171-68",999999,10844.24,"ARIANNE BISPO BODNAR"]
["MT36248","ARIEL AFONSO PINHO","012.355.441-17","FOLHA DE PAGAMENTO","2020-01-01","TRF1 - Folha Ordinária - Janeiro/2020 - Base :TRF1.","ATIVO","MATRICULA","SEQUD","CPF","SERVIDOR","RUBRICA","VALOR ","MT36248",0,"012.355.441-17",999999,12388.58,"ARIEL AFONSO PINHO"]
["MT36284","ARILENE RODRIGUES AQUINO","839.890.729-00","FOLHA DE PAGAMENTO","2020-01-01","TRF1 - Folha Ordinária - Janeiro/2020 - Base :TRF1.","ATIVO","MATRICULA","SEQUD","CPF","SERVIDOR","RUBRICA","VALOR ","MT36284",0,"839.890.729-00",999999,12508.6,"ARILENE RODRIGUES AQUINO"]
["MT36153","AURISON RONDON BARBOSA","788.869.451-91","FOLHA DE PAGAMENTO","2020-01-01","TRF1 - Folha Ordinária - Janeiro/2020 - Base :TRF1.","ATIVO","MATRICULA","SEQUD","CPF","SERVIDOR","RUBRICA","VALOR ","MT36153",0,"788.869.451-91",999999,11114.55,"AURISON RONDON BARBOSA"]
["MT36041","BARK HEVES CAPISTRANO DIAS CARDOSO BUENO","001.011.081-09","FOLHA DE PAGAMENTO","2020-01-01","TRF1 - Folha Ordinária - Janeiro/2020 - Base :TRF1.","ATIVO","MATRICULA","SEQUD","CPF","SERVIDOR","RUBRICA","VALOR ","MT36041",0,"001.011.081-09",999999,25154.94,"BARK HEVES CAPISTRANO DIAS CARDOSO BUENO"]
["MT29603","BRAULIO JUNIOR DA SILVA","503.394.861-04","FOLHA DE PAGAMENTO","2020-01-01","TRF1 - Folha Ordinária - Janeiro/2020 - Base :TRF1.","ATIVO","MATRICULA","SEQUD","CPF","SERVIDOR","RUBRICA","VALOR ","MT29603",0,"503.394.861-04",999999,14847.36,"BRAULIO JUNIOR DA SILVA"]
["MT36225","BRENDA SANCHES SULI","459.763.171-20","FOLHA DE PAGAMENTO","2020-01-01","TRF1 - Folha Ordinária - Janeiro/2020 - Base :TRF1.","ATIVO","MATRICULA","SEQUD","CPF","SERVIDOR","RUBRICA","VALOR ","MT36225",0,"459.763.171-20",999999,23678.17,"BRENDA SANCHES SULI"]
["MT36424","BRUNA DA SILVA PEREIRA CAMARGO","110.281.217-09","FOLHA DE PAGAMENTO","2020-01-01","TRF1 - Folha Ordinária - Janeiro/2020 - Base :TRF1.","ATIVO","MATRICULA","SEQUD","CPF","SERVIDOR","RUBRICA","VALOR ","MT36424",0,"110.281.217-09",999999,12759.84,"BRUNA DA SILVA PEREIRA CAMARGO"]
["MT36447","BRUNA GOMES DA SILVA","010.396.761-38","FOLHA DE PAGAMENTO","2020-01-01","TRF1 - Folha Ordinária - Janeiro/2020 - Base :TRF1.","ATIVO","MATRICULA","SEQUD","CPF","SERVIDOR","RUBRICA","VALOR ","MT36447",0,"010.396.761-38",999999,19810.68,"BRUNA GOMES DA SILVA"]
["MT36024","BRUNA VIRGINIA BATISTA DE OLIVEIRA LEITE","007.313.991-29","FOLHA DE PAGAMENTO","2020-01-01","TRF1 - Folha Ordinária - Janeiro/2020 - Base :TRF1.","ATIVO","MATRICULA","SEQUD","CPF","SERVIDOR","RUBRICA","VALOR ","MT36024",0,"007.313.991-29",999999,19182.04,"BRUNA VIRGINIA BATISTA DE OLIVEIRA LEITE"]
["MT36156","BRUNO CESAR DOS SANTOS PEREIRA","014.811.401-67","FOLHA DE PAGAMENTO","2020-01-01","TRF1 - Folha Ordinária - Janeiro/2020 - Base :TRF1.","ATIVO","MATRICULA","SEQUD","CPF","SERVIDOR","RUBRICA","VALOR ","MT36156",0,"014.811.401-67",999999,16824.93,"BRUNO CESAR DOS SANTOS PEREIRA"]
["MT36254","CAMILA ALBUQUERQUE LINHARES ROMEIRO","004.512.201-61","FOLHA DE PAGAMENTO","2020-01-01","TRF1 - Folha Ordinária - Janeiro/2020 - Base :TRF1.","ATIVO","MATRICULA","SEQUD","CPF","SERVIDOR","RUBRICA","VALOR ","MT36254",0,"004.512.201-61",999999,22678.66,"CAMILA ALBUQUERQUE LINHARES ROMEIRO"]
["MT36329","CAMILA BELIZARIO DA SILVA NASCIMENTO","018.550.841-39","FOLHA DE PAGAMENTO","2020-01-01","TRF1 - Folha Ordinária - Janeiro/2020 - Base :TRF1.","ATIVO","MATRICULA","SEQUD","CPF","SERVIDOR","RUBRICA","VALOR ","MT36329",0,"018.550.841-39",999999,11780.19,"CAMILA BELIZARIO DA SILVA NASCIMENTO"]
["JU729","CAMILA DECHICHA PARAHYBA","057.352.664-89","FOLHA DE PAGAMENTO","2020-01-01","TRF1 - Folha Ordinária - Janeiro/2020 - Base :TRF1.","ATIVO","MATRICULA","SEQUD","CPF","SERVIDOR","RUBRICA","VALOR ","JU729",0,"057.352.664-89",999999,33298.019999999997,"CAMILA DECHICHA PARAHYBA"]
["JU447","CAMILE LIMA SANTOS","779.345.475-87","FOLHA DE PAGAMENTO","2020-01-01","TRF1 - Folha Ordinária - Janeiro/2020 - Base :TRF1.","ATIVO","MATRICULA","SEQUD","CPF","SERVIDOR","RUBRICA","VALOR ","JU447",0,"779.345.475-87",999999,40152.629999999997,"CAMILE LIMA SANTOS"]
["JU725","CARINA MICHELON","055.798.719-96","FOLHA DE PAGAMENTO","2020-01-01","TRF1 - Folha Ordinária - Janeiro/2020 - Base :TRF1.","ATIVO","MATRICULA","SEQUD","CPF","SERVIDOR","RUBRICA","VALOR ","JU725",0,"055.798.719-96",999999,37929.300000000003,"CARINA MICHELON"]
["MT8403","CARLOS BEZERRA DA SILVA","275.068.351-34","FOLHA DE PAGAMENTO","2020-01-01","TRF1 - Folha Ordinária - Janeiro/2020 - Base :TRF1.","ATIVO","MATRICULA","SEQUD","CPF","SERVIDOR","RUBRICA","VALOR ","MT8403",0,"275.068.351-34",999999,15436.52,"CARLOS BEZERRA DA SILVA"]
["MT34103","DANIEL FRANSOSI","536.363.411-20","FOLHA DE PAGAMENTO","2020-01-01","TRF1 - Folha Ordinária - Janeiro/2020 - Base :TRF1.","ATIVO","MATRICULA","SEQUD","CPF","SERVIDOR","RUBRICA","VALOR ","MT34103",0,"536.363.411-20",999999,26130.45,"DANIEL FRANSOSI"]
["MT19103","CARLOS EDUARDO BRAZIL BARBOSA","641.664.307-34","FOLHA DE PAGAMENTO","2020-01-01","TRF1 - Folha Ordinária - Janeiro/2020 - Base :TRF1.","ATIVO","MATRICULA","SEQUD","CPF","SERVIDOR","RUBRICA","VALOR ","MT19103",0,"641.664.307-34",999999,26996.06,"CARLOS EDUARDO BRAZIL BARBOSA"]
["MT36434","CARLOS HENRIQUE DA SILVA RODRIGUES","714.711.701-87","FOLHA DE PAGAMENTO","2020-01-01","TRF1 - Folha Ordinária - Janeiro/2020 - Base :TRF1.","ATIVO","MATRICULA","SEQUD","CPF","SERVIDOR","RUBRICA","VALOR ","MT36434",0,"714.711.701-87",999999,3407.28,"CARLOS HENRIQUE DA SILVA RODRIGUES"]
[{"$f":"N70","v":"MT36372"},{"$f":"S70","v":"CARLOS ROBERTO GARCIA SANTANA JUNIOR"},{"$f":"P70","v":"699.740.391-34"},"FOLHA DE PAGAMENTO","2020-01-01","TRF1 - Folha Ordinária - Janeiro/2020 - Base :TRF1.","ATIVO","MATRICULA","SEQUD","CPF","SERVIDOR","RUBRICA","VALOR ","MT36372",0,"699.740.391-34",999999,23965.59,"CARLOS ROBERTO GARCIA SANTANA JUNIOR"]
["MT36217","CAROLINA DE FIGUEIREDO BARROS PIROVANI PASCOTO","655.603.451-72","FOLHA DE PAGAMENTO","2020-01-01","TRF1 - Folha Ordinária - Janeiro/2020 - Base :TRF1.","ATIVO","MATRICULA","SEQUD","CPF","SERVIDOR","RUBRICA","VALOR ","MT36217",0,"655.603.451-72",999999,16430.78,"CAROLINA DE FIGUEIREDO BARROS PIROVANI PASCOTO"]
["MT36321","CAROLINE QUEIROZ REINER","020.396.061-06","FOLHA DE PAGAMENTO","2020-01-01","TRF1 - Folha Ordinária - Janeiro/2020 - Base :TRF1.","ATIVO","MATRICULA","SEQUD","CPF","SERVIDOR","RUBRICA","VALOR ","MT36321",0,"020.396.061-06",999999,13287.03,"CAROLINE QUEIROZ REINER"]
["MT36475","CASSILA DOS SANTOS BARBOSA BRAUM","007.494.671-42","FOLHA DE PAGAMENTO","2020-01-01","TRF1 - Folha Ordinária - Janeiro/2020 - Base :TRF1.","ATIVO","MATRICULA","SEQUD","CPF","SERVIDOR","RUBRICA","VALOR ","MT36475",0,"007.494.671-42",999999,12399.73,"CASSILA DOS SANTOS BARBOSA BRAUM"]
["JU138","CESAR AUGUSTO BEARSI","155.182.388-86","FOLHA DE PAGAMENTO","2020-01-01","TRF1 - Folha Ordinária - Janeiro/2020 - Base :TRF1.","ATIVO","MATRICULA","SEQUD","CPF","SERVIDOR","RUBRICA","VALOR ","JU138",0,"155.182.388-86",999999,35593.550000000003,"CESAR AUGUSTO BEARSI"]
["MT36438","CHARLES RAULMONT MOTA SANTANA","005.545.925-09","FOLHA DE PAGAMENTO","2020-01-01","TRF1 - Folha Ordinária - Janeiro/2020 - Base :TRF1.","ATIVO","MATRICULA","SEQUD","CPF","SERVIDOR","RUBRICA","VALOR ","MT36438",0,"005.545.925-09",999999,13356.6,"CHARLES RAULMONT MOTA SANTANA"]
["JU517","CIRO JOSE DE ANDRADE ARAPIRACA","776.010.095-72","FOLHA DE PAGAMENTO","2020-01-01","TRF1 - Folha Ordinária - Janeiro/2020 - Base :TRF1.","ATIVO","MATRICULA","SEQUD","CPF","SERVIDOR","RUBRICA","VALOR ","JU517",0,"776.010.095-72",999999,39681.629999999997,"CIRO JOSE DE ANDRADE ARAPIRACA"]
["JU503","CLARA DA MOTA SANTOS PIMENTA ALVES","828.400.835-15","FOLHA DE PAGAMENTO","2020-01-01","TRF1 - Folha Ordinária - Janeiro/2020 - Base :TRF1.","ATIVO","MATRICULA","SEQUD","CPF","SERVIDOR","RUBRICA","VALOR ","JU503",0,"828.400.835-15",999999,35376.199999999997,"CLARA DA MOTA SANTOS PIMENTA ALVES"]
["MT8203","CLAUDIA MARIA FERREIRA","442.426.461-00","FOLHA DE PAGAMENTO","2020-01-01","TRF1 - Folha Ordinária - Janeiro/2020 - Base :TRF1.","ATIVO","MATRICULA","SEQUD","CPF","SERVIDOR","RUBRICA","VALOR ","MT8203",0,"442.426.461-00",999999,22805.67,"CLAUDIA MARIA FERREIRA"]
["MT28303","CLAUDIA RODRIGUES ALVES","577.841.086-72","FOLHA DE PAGAMENTO","2020-01-01","TRF1 - Folha Ordinária - Janeiro/2020 - Base :TRF1.","ATIVO","MATRICULA","SEQUD","CPF","SERVIDOR","RUBRICA","VALOR ","MT28303",0,"577.841.086-72",999999,33041.32,"CLAUDIA RODRIGUES ALVES"]
["MT36359","CLAUDIA SCATOLIN DE OLIVEIRA","838.572.731-00","FOLHA DE PAGAMENTO","2020-01-01","TRF1 - Folha Ordinária - Janeiro/2020 - Base :TRF1.","ATIVO","MATRICULA","SEQUD","CPF","SERVIDOR","RUBRICA","VALOR ","MT36359",0,"838.572.731-00",999999,21410.880000000001,"CLAUDIA SCATOLIN DE OLIVEIRA"]
["MT4703","CLAUDIO APARECIDO DA SILVA","393.758.891-49","FOLHA DE PAGAMENTO","2020-01-01","TRF1 - Folha Ordinária - Janeiro/2020 - Base :TRF1.","ATIVO","MATRICULA","SEQUD","CPF","SERVIDOR","RUBRICA","VALOR ","MT4703",0,"393.758.891-49",999999,14325.97,"CLAUDIO APARECIDO DA SILVA"]
["MT16703","CLEONICE ROSANGELA DE MORAES","340.461.601-44","FOLHA DE PAGAMENTO","2020-01-01","TRF1 - Folha Ordinária - Janeiro/2020 - Base :TRF1.","ATIVO","MATRICULA","SEQUD","CPF","SERVIDOR","RUBRICA","VALOR ","MT16703",0,"340.461.601-44",999999,15514.5,"CLEONICE ROSANGELA DE MORAES"]
["MT36451","COSME BEZERRA DA SILVA","318.420.201-10","FOLHA DE PAGAMENTO","2020-01-01","TRF1 - Folha Ordinária - Janeiro/2020 - Base :TRF1.","ATIVO","MATRICULA","SEQUD","CPF","SERVIDOR","RUBRICA","VALOR ","MT36451",0,"318.420.201-10",999999,13116.67,"COSME BEZERRA DA SILVA"]
["MT33203","CRISLAINE APARECIDA MENDES DOS SANTOS","569.175.621-49","FOLHA DE PAGAMENTO","2020-01-01","TRF1 - Folha Ordinária - Janeiro/2020 - Base :TRF1.","ATIVO","MATRICULA","SEQUD","CPF","SERVIDOR","RUBRICA","VALOR ","MT33203",0,"569.175.621-49",999999,19178.810000000001,"CRISLAINE APARECIDA MENDES DOS SANTOS"]
["MT27003","CRISTIANE ANDREA GOES RIBEIRO BENEDITO","101.499.648-11","FOLHA DE PAGAMENTO","2020-01-01","TRF1 - Folha Ordinária - Janeiro/2020 - Base :TRF1.","ATIVO","MATRICULA","SEQUD","CPF","SERVIDOR","RUBRICA","VALOR ","MT27003",0,"101.499.648-11",999999,22983.42,"CRISTIANE ANDREA GOES RIBEIRO BENEDITO"]
["MT36365","CRISTIANE BAETA MAGIRIUS","086.203.897-93","FOLHA DE PAGAMENTO","2020-01-01","TRF1 - Folha Ordinária - Janeiro/2020 - Base :TRF1.","ATIVO","MATRICULA","SEQUD","CPF","SERVIDOR","RUBRICA","VALOR ","MT36365",0,"086.203.897-93",999999,17466.150000000001,"CRISTIANE BAETA MAGIRIUS"]
["MT36119","CRISTIANE RAQUEL BORGES DA SILVA","544.465.971-91","FOLHA DE PAGAMENTO","2020-01-01","TRF1 - Folha Ordinária - Janeiro/2020 - Base :TRF1.","ATIVO","MATRICULA","SEQUD","CPF","SERVIDOR","RUBRICA","VALOR ","MT36119",0,"544.465.971-91",999999,15641.86,"CRISTIANE RAQUEL BORGES DA SILVA"]
["MT36081","CRISTIANE ROSA DE CERQUEIRA GOMES DE PAIVA","705.204.531-15","FOLHA DE PAGAMENTO","2020-01-01","TRF1 - Folha Ordinária - Janeiro/2020 - Base :TRF1.","ATIVO","MATRICULA","SEQUD","CPF","SERVIDOR","RUBRICA","VALOR ","MT36081",0,"705.204.531-15",999999,32545.35,"CRISTIANE ROSA DE CERQUEIRA GOMES DE PAIVA"]
["MT36465","CRISTIELI MASSIGNAN SCHMIDT","025.608.151-41","FOLHA DE PAGAMENTO","2020-01-01","TRF1 - Folha Ordinária - Janeiro/2020 - Base :TRF1.","ATIVO","MATRICULA","SEQUD","CPF","SERVIDOR","RUBRICA","VALOR ","MT36465",0,"025.608.151-41",999999,14465.07,"CRISTIELI MASSIGNAN SCHMIDT"]
["MT36266","CRISTIELLE MOREIRA DE SOUZA","932.924.301-00","FOLHA DE PAGAMENTO","2020-01-01","TRF1 - Folha Ordinária - Janeiro/2020 - Base :TRF1.","ATIVO","MATRICULA","SEQUD","CPF","SERVIDOR","RUBRICA","VALOR ","MT36266",0,"932.924.301-00",999999,20021.400000000001,"CRISTIELLE MOREIRA DE SOUZA"]
["MT34203","CRISTINA KALIL PORTO","818.233.801-82","FOLHA DE PAGAMENTO","2020-01-01","TRF1 - Folha Ordinária - Janeiro/2020 - Base :TRF1.","ATIVO","MATRICULA","SEQUD","CPF","SERVIDOR","RUBRICA","VALOR ","MT34203",0,"818.233.801-82",999999,18332.32,"CRISTINA KALIL PORTO"]
["MT36412","CYBELE QUITERIA SANCHES","807.367.771-72","FOLHA DE PAGAMENTO","2020-01-01","TRF1 - Folha Ordinária - Janeiro/2020 - Base :TRF1.","ATIVO","MATRICULA","SEQUD","CPF","SERVIDOR","RUBRICA","VALOR ","MT36412",0,"807.367.771-72",999999,14128.37,"CYBELE QUITERIA SANCHES"]
["MT36482","DAIANE EVELYN CAMILO CAMPOS","001.385.951-00","FOLHA DE PAGAMENTO","2020-01-01","TRF1 - Folha Ordinária - Janeiro/2020 - Base :TRF1.","ATIVO","MATRICULA","SEQUD","CPF","SERVIDOR","RUBRICA","VALOR ","MT36482",0,"001.385.951-00",999999,18068.3,"DAIANE EVELYN CAMILO CAMPOS"]
["MT36023","DAIANE REGINA DOS SANTOS PORTELA","008.828.931-14","FOLHA DE PAGAMENTO","2020-01-01","TRF1 - Folha Ordinária - Janeiro/2020 - Base :TRF1.","ATIVO","MATRICULA","SEQUD","CPF","SERVIDOR","RUBRICA","VALOR ","MT36023",0,"008.828.931-14",999999,15493.12,"DAIANE REGINA DOS SANTOS PORTELA"]
["MT17103","DAINA EUNICE CUTTIER DE MEDEIROS","888.230.241-53","FOLHA DE PAGAMENTO","2020-01-01","TRF1 - Folha Ordinária - Janeiro/2020 - Base :TRF1.","ATIVO","MATRICULA","SEQUD","CPF","SERVIDOR","RUBRICA","VALOR ","MT17103",0,"888.230.241-53",999999,12767.69,"DAINA EUNICE CUTTIER DE MEDEIROS"]
["MT36387","DANIEL DE SOUZA FURQUIM","847.645.111-34","FOLHA DE PAGAMENTO","2020-01-01","TRF1 - Folha Ordinária - Janeiro/2020 - Base :TRF1.","ATIVO","MATRICULA","SEQUD","CPF","SERVIDOR","RUBRICA","VALOR ","MT36387",0,"847.645.111-34",999999,17788.87,"DANIEL DE SOUZA FURQUIM"]
["MT36045","DANIEL DIAS GARDIN","010.000.271-47","FOLHA DE PAGAMENTO","2020-01-01","TRF1 - Folha Ordinária - Janeiro/2020 - Base :TRF1.","ATIVO","MATRICULA","SEQUD","CPF","SERVIDOR","RUBRICA","VALOR ","MT36045",0,"010.000.271-47",999999,17473.52,"DANIEL DIAS GARDIN"]
["MT36283","EDUARDO RODRIGUES FERREIRA","991.285.001-72","FOLHA DE PAGAMENTO","2020-01-01","TRF1 - Folha Ordinária - Janeiro/2020 - Base :TRF1.","ATIVO","MATRICULA","SEQUD","CPF","SERVIDOR","RUBRICA","VALOR ","MT36283",0,"991.285.001-72",999999,13315.08,"EDUARDO RODRIGUES FERREIRA"]
["MT34103","DANIEL FRANSOSI","536.363.411-20","FOLHA DE PAGAMENTO","2020-01-01","TRF1 - Folha Ordinária - Janeiro/2020 - Base :TRF1.","ATIVO","MATRICULA","SEQUD","CPF","SERVIDOR","RUBRICA","VALOR ","MT34103",0,"536.363.411-20",999999,26130.45,"DANIEL FRANSOSI"]
["MT36128","DANIEL MANZANO SARTI","010.563.041-11","FOLHA DE PAGAMENTO","2020-01-01","TRF1 - Folha Ordinária - Janeiro/2020 - Base :TRF1.","ATIVO","MATRICULA","SEQUD","CPF","SERVIDOR","RUBRICA","VALOR ","MT36128",0,"010.563.041-11",999999,14029.86,"DANIEL MANZANO SARTI"]
["MT36256","DANIEL MENDONCA MOLINA","006.661.167-92","FOLHA DE PAGAMENTO","2020-01-01","TRF1 - Folha Ordinária - Janeiro/2020 - Base :TRF1.","ATIVO","MATRICULA","SEQUD","CPF","SERVIDOR","RUBRICA","VALOR ","MT36256",0,"006.661.167-92",999999,23271.21,"DANIEL MENDONCA MOLINA"]
["MT36267","DANIELE CORREA REIS","603.791.461-34","FOLHA DE PAGAMENTO","2020-01-01","TRF1 - Folha Ordinária - Janeiro/2020 - Base :TRF1.","ATIVO","MATRICULA","SEQUD","CPF","SERVIDOR","RUBRICA","VALOR ","MT36267",0,"603.791.461-34",999999,21675.66,"DANIELE CORREA REIS"]
["MT36022","DANIELE NASCIMENTO CESAR SILVA","632.290.991-68","FOLHA DE PAGAMENTO","2020-01-01","TRF1 - Folha Ordinária - Janeiro/2020 - Base :TRF1.","ATIVO","MATRICULA","SEQUD","CPF","SERVIDOR","RUBRICA","VALOR ","MT36022",0,"632.290.991-68",999999,26387.67,"DANIELE NASCIMENTO CESAR SILVA"]
["JU592","DANILA GONCALVES DE ALMEIDA","007.771.301-06","FOLHA DE PAGAMENTO","2020-01-01","TRF1 - Folha Ordinária - Janeiro/2020 - Base :TRF1.","ATIVO","MATRICULA","SEQUD","CPF","SERVIDOR","RUBRICA","VALOR ","JU592",0,"007.771.301-06",999999,42162.400000000001,"DANILA GONCALVES DE ALMEIDA"]
["MT36428","DEBORA CAMPAGNARO GOMES","927.217.371-04","FOLHA DE PAGAMENTO","2020-01-01","TRF1 - Folha Ordinária - Janeiro/2020 - Base :TRF1.","ATIVO","MATRICULA","SEQUD","CPF","SERVIDOR","RUBRICA","VALOR ","MT36428",0,"927.217.371-04",999999,22132.68,"DEBORA CAMPAGNARO GOMES"]
["MT36452","DEBORA SILVEIRA HOEPPNER","996.056.941-15","FOLHA DE PAGAMENTO","2020-01-01","TRF1 - Folha Ordinária - Janeiro/2020 - Base :TRF1.","ATIVO","MATRICULA","SEQUD","CPF","SERVIDOR","RUBRICA","VALOR ","MT36452",0,"996.056.941-15",999999,22222.06,"DEBORA SILVEIRA HOEPPNER"]
["MT36227","DEIVISON ANDREW DA SILVA ORMOND","019.296.111-02","FOLHA DE PAGAMENTO","2020-01-01","TRF1 - Folha Ordinária - Janeiro/2020 - Base :TRF1.","ATIVO","MATRICULA","SEQUD","CPF","SERVIDOR","RUBRICA","VALOR ","MT36227",0,"019.296.111-02",999999,20177.2,"DEIVISON ANDREW DA SILVA ORMOND"]
["MT36373","DENEA REGIANI FREIBERGER PEREIRA","568.758.511-72","FOLHA DE PAGAMENTO","2020-01-01","TRF1 - Folha Ordinária - Janeiro/2020 - Base :TRF1.","ATIVO","MATRICULA","SEQUD","CPF","SERVIDOR","RUBRICA","VALOR ","MT36373",0,"568.758.511-72",999999,2687.66,"DENEA REGIANI FREIBERGER PEREIRA"]
["MT36352","DENIS LEITE GOMES","616.801.922-72","FOLHA DE PAGAMENTO","2020-01-01","TRF1 - Folha Ordinária - Janeiro/2020 - Base :TRF1.","ATIVO","MATRICULA","SEQUD","CPF","SERVIDOR","RUBRICA","VALOR ","MT36352",0,"616.801.922-72",999999,17980.46,"DENIS LEITE GOMES"]
["MT27903","DIANA GONCALINA RONDON MARQUES","822.759.471-91","FOLHA DE PAGAMENTO","2020-01-01","TRF1 - Folha Ordinária - Janeiro/2020 - Base :TRF1.","ATIVO","MATRICULA","SEQUD","CPF","SERVIDOR","RUBRICA","VALOR ","MT27903",0,"822.759.471-91",999999,19075.5,"DIANA GONCALINA RONDON MARQUES"]
["MT36479","DIEGO FERNANDES FONSECA DA SILVA","079.058.576-62","FOLHA DE PAGAMENTO","2020-01-01","TRF1 - Folha Ordinária - Janeiro/2020 - Base :TRF1.","ATIVO","MATRICULA","SEQUD","CPF","SERVIDOR","RUBRICA","VALOR ","MT36479",0,"079.058.576-62",999999,12145.36,"DIEGO FERNANDES FONSECA DA SILVA"]
["MT36026","DIEGO ODYNEI PEDROSO","001.328.311-12","FOLHA DE PAGAMENTO","2020-01-01","TRF1 - Folha Ordinária - Janeiro/2020 - Base :TRF1.","ATIVO","MATRICULA","SEQUD","CPF","SERVIDOR","RUBRICA","VALOR ","MT36026",0,"001.328.311-12",999999,12960.43,"DIEGO ODYNEI PEDROSO"]
["MT36288","DIEGO SILVA","010.427.801-37","FOLHA DE PAGAMENTO","2020-01-01","TRF1 - Folha Ordinária - Janeiro/2020 - Base :TRF1.","ATIVO","MATRICULA","SEQUD","CPF","SERVIDOR","RUBRICA","VALOR ","MT36288",0,"010.427.801-37",999999,15393.19,"DIEGO SILVA"]
["MT36116","DILSON ANTONIO DE MIRANDA","396.294.571-72","FOLHA DE PAGAMENTO","2020-01-01","TRF1 - Folha Ordinária - Janeiro/2020 - Base :TRF1.","ATIVO","MATRICULA","SEQUD","CPF","SERVIDOR","RUBRICA","VALOR ","MT36116",0,"396.294.571-72",999999,19740.810000000001,"DILSON ANTONIO DE MIRANDA"]
["MT36383","DIOVANE FRANCO RODRIGUES","028.770.681-88","FOLHA DE PAGAMENTO","2020-01-01","TRF1 - Folha Ordinária - Janeiro/2020 - Base :TRF1.","ATIVO","MATRICULA","SEQUD","CPF","SERVIDOR","RUBRICA","VALOR ","MT36383",0,"028.770.681-88",999999,1826.61,"DIOVANE FRANCO RODRIGUES"]
["MT36108","DOUGLAS ALBERTO DE BRITO","934.226.281-34","FOLHA DE PAGAMENTO","2020-01-01","TRF1 - Folha Ordinária - Janeiro/2020 - Base :TRF1.","ATIVO","MATRICULA","SEQUD","CPF","SERVIDOR","RUBRICA","VALOR ","MT36108",0,"934.226.281-34",999999,12108.16,"DOUGLAS ALBERTO DE BRITO"]
["MT36212","DOUGLAS DIAS FONSECA","004.725.031-38","FOLHA DE PAGAMENTO","2020-01-01","TRF1 - Folha Ordinária - Janeiro/2020 - Base :TRF1.","ATIVO","MATRICULA","SEQUD","CPF","SERVIDOR","RUBRICA","VALOR ","MT36212",0,"004.725.031-38",999999,23041.27,"DOUGLAS DIAS FONSECA"]
["MT26603","DOVAIR CARMONA COGO","109.243.718-54","FOLHA DE PAGAMENTO","2020-01-01","TRF1 - Folha Ordinária - Janeiro/2020 - Base :TRF1.","ATIVO","MATRICULA","SEQUD","CPF","SERVIDOR","RUBRICA","VALOR ","MT26603",0,"109.243.718-54",999999,28389.200000000001,"DOVAIR CARMONA COGO"]
["MT33303","DURVAL MOREIRA JUNIOR","536.432.241-68","FOLHA DE PAGAMENTO","2020-01-01","TRF1 - Folha Ordinária - Janeiro/2020 - Base :TRF1.","ATIVO","MATRICULA","SEQUD","CPF","SERVIDOR","RUBRICA","VALOR ","MT33303",0,"536.432.241-68",999999,16717.349999999999,"DURVAL MOREIRA JUNIOR"]
["MT36180","EDIMILSON DE SOUZA","638.382.491-00","FOLHA DE PAGAMENTO","2020-01-01","TRF1 - Folha Ordinária - Janeiro/2020 - Base :TRF1.","ATIVO","MATRICULA","SEQUD","CPF","SERVIDOR","RUBRICA","VALOR ","MT36180",0,"638.382.491-00",999999,12123.45,"EDIMILSON DE SOUZA"]
["MT20103","EDINEI AUXILIADORA DE OLIVEIRA YOSHIDA","353.648.821-87","FOLHA DE PAGAMENTO","2020-01-01","TRF1 - Folha Ordinária - Janeiro/2020 - Base :TRF1.","ATIVO","MATRICULA","SEQUD","CPF","SERVIDOR","RUBRICA","VALOR ","MT20103",0,"353.648.821-87",999999,15565.54,"EDINEI AUXILIADORA DE OLIVEIRA YOSHIDA"]
["MT36130","EDINETE DE FATIMA DE OLIVEIRA","689.364.431-00","FOLHA DE PAGAMENTO","2020-01-01","TRF1 - Folha Ordinária - Janeiro/2020 - Base :TRF1.","ATIVO","MATRICULA","SEQUD","CPF","SERVIDOR","RUBRICA","VALOR ","MT36130",0,"689.364.431-00",999999,18965.349999999999,"EDINETE DE FATIMA DE OLIVEIRA"]
["MT36003","EDMAR ALVES DOS REIS","253.362.311-34","FOLHA DE PAGAMENTO","2020-01-01","TRF1 - Folha Ordinária - Janeiro/2020 - Base :TRF1.","ATIVO","MATRICULA","SEQUD","CPF","SERVIDOR","RUBRICA","VALOR ","MT36003",0,"253.362.311-34",999999,15557.05,"EDMAR ALVES DOS REIS"]
["MT16103","EDSON DE CARVALHO RANGEL","496.007.611-91","FOLHA DE PAGAMENTO","2020-01-01","TRF1 - Folha Ordinária - Janeiro/2020 - Base :TRF1.","ATIVO","MATRICULA","SEQUD","CPF","SERVIDOR","RUBRICA","VALOR ","MT16103",0,"496.007.611-91",999999,29007.08,"EDSON DE CARVALHO RANGEL"]
["MT303","EDSON PAIVA SERRA","138.802.501-97","FOLHA DE PAGAMENTO","2020-01-01","TRF1 - Folha Ordinária - Janeiro/2020 - Base :TRF1.","ATIVO","MATRICULA","SEQUD","CPF","SERVIDOR","RUBRICA","VALOR ","MT303",0,"138.802.501-97",999999,8394.89,"EDSON PAIVA SERRA"]
["MT35203","EDUARDO DA SILVA MOTA","803.450.261-87","FOLHA DE PAGAMENTO","2020-01-01","TRF1 - Folha Ordinária - Janeiro/2020 - Base :TRF1.","ATIVO","MATRICULA","SEQUD","CPF","SERVIDOR","RUBRICA","VALOR ","MT35203",0,"803.450.261-87",999999,15479.82,"EDUARDO DA SILVA MOTA"]
["MT36271","EDUARDO DE CARVALHO MAZZARO","300.753.088-19","FOLHA DE PAGAMENTO","2020-01-01","TRF1 - Folha Ordinária - Janeiro/2020 - Base :TRF1.","ATIVO","MATRICULA","SEQUD","CPF","SERVIDOR","RUBRICA","VALOR ","MT36271",0,"300.753.088-19",999999,14837.88,"EDUARDO DE CARVALHO MAZZARO"]
["MT36282","EDUARDO OLIVEIRA FIUZA","965.796.331-15","FOLHA DE PAGAMENTO","2020-01-01","TRF1 - Folha Ordinária - Janeiro/2020 - Base :TRF1.","ATIVO","MATRICULA","SEQUD","CPF","SERVIDOR","RUBRICA","VALOR ","MT36282",0,"965.796.331-15",999999,15005.56,"EDUARDO OLIVEIRA FIUZA"]
["MT36404","FELIPE MONTEIRO SANTOS COSTA","025.184.705-57","FOLHA DE PAGAMENTO","2020-01-01","TRF1 - Folha Ordinária - Janeiro/2020 - Base :TRF1.","ATIVO","MATRICULA","SEQUD","CPF","SERVIDOR","RUBRICA","VALOR ","MT36404",0,"025.184.705-57",999999,16045.84,"FELIPE MONTEIRO SANTOS COSTA"]
["MT36283","EDUARDO RODRIGUES FERREIRA","991.285.001-72","FOLHA DE PAGAMENTO","2020-01-01","TRF1 - Folha Ordinária - Janeiro/2020 - Base :TRF1.","ATIVO","MATRICULA","SEQUD","CPF","SERVIDOR","RUBRICA","VALOR ","MT36283",0,"991.285.001-72",999999,13315.08,"EDUARDO RODRIGUES FERREIRA"]
["MT36038","EDUARDO SILVA RAMOS","000.796.356-44","FOLHA DE PAGAMENTO","2020-01-01","TRF1 - Folha Ordinária - Janeiro/2020 - Base :TRF1.","ATIVO","MATRICULA","SEQUD","CPF","SERVIDOR","RUBRICA","VALOR ","MT36038",0,"000.796.356-44",999999,22326.21,"EDUARDO SILVA RAMOS"]
["MT36252","ELADIR LURDES VEIGA DA FONSECA CARLI","522.786.201-00","FOLHA DE PAGAMENTO","2020-01-01","TRF1 - Folha Ordinária - Janeiro/2020 - Base :TRF1.","ATIVO","MATRICULA","SEQUD","CPF","SERVIDOR","RUBRICA","VALOR ","MT36252",0,"522.786.201-00",999999,12044.17,"ELADIR LURDES VEIGA DA FONSECA CARLI"]
["MT15203","ELIANE DE OLIVEIRA BARROS","405.886.611-04","FOLHA DE PAGAMENTO","2020-01-01","TRF1 - Folha Ordinária - Janeiro/2020 - Base :TRF1.","ATIVO","MATRICULA","SEQUD","CPF","SERVIDOR","RUBRICA","VALOR ","MT15203",0,"405.886.611-04",999999,29818.73,"ELIANE DE OLIVEIRA BARROS"]
[{"$f":"N134","v":"MT21603"},{"$f":"S134","v":"ELINA NASCIMENTO DE MORAES OLIVEIRA"},{"$f":"P134","v":"362.023.801-44"},"FOLHA DE PAGAMENTO","2020-01-01","TRF1 - Folha Ordinária - Janeiro/2020 - Base :TRF1.","ATIVO","MATRICULA","SEQUD","CPF","SERVIDOR","RUBRICA","VALOR ","MT21603",0,"362.023.801-44",999999,21213.49,"ELINA NASCIMENTO DE MORAES OLIVEIRA"]
["MT36403","ELIS REGINA OLIVEIRA CAMPOS","023.791.135-30","FOLHA DE PAGAMENTO","2020-01-01","TRF1 - Folha Ordinária - Janeiro/2020 - Base :TRF1.","ATIVO","MATRICULA","SEQUD","CPF","SERVIDOR","RUBRICA","VALOR ","MT36403",0,"023.791.135-30",999999,13740.49,"ELIS REGINA OLIVEIRA CAMPOS"]
["MT32903","ELISEU DO CARMO SOUZA","384.640.551-53","FOLHA DE PAGAMENTO","2020-01-01","TRF1 - Folha Ordinária - Janeiro/2020 - Base :TRF1.","ATIVO","MATRICULA","SEQUD","CPF","SERVIDOR","RUBRICA","VALOR ","MT32903",0,"384.640.551-53",999999,16003.51,"ELISEU DO CARMO SOUZA"]
["MT36344","ELLEN CRISTINA OENNING ROMERO","888.386.251-15","FOLHA DE PAGAMENTO","2020-01-01","TRF1 - Folha Ordinária - Janeiro/2020 - Base :TRF1.","ATIVO","MATRICULA","SEQUD","CPF","SERVIDOR","RUBRICA","VALOR ","MT36344",0,"888.386.251-15",999999,21682.55,"ELLEN CRISTINA OENNING ROMERO"]
["MT36088","ELTON BONFANTI","364.913.731-34","FOLHA DE PAGAMENTO","2020-01-01","TRF1 - Folha Ordinária - Janeiro/2020 - Base :TRF1.","ATIVO","MATRICULA","SEQUD","CPF","SERVIDOR","RUBRICA","VALOR ","MT36088",0,"364.913.731-34",999999,23722.9,"ELTON BONFANTI"]
["MT29703","EMANUEL DE ARRUDA FARIA","872.369.231-68","FOLHA DE PAGAMENTO","2020-01-01","TRF1 - Folha Ordinária - Janeiro/2020 - Base :TRF1.","ATIVO","MATRICULA","SEQUD","CPF","SERVIDOR","RUBRICA","VALOR ","MT29703",0,"872.369.231-68",999999,15533.79,"EMANUEL DE ARRUDA FARIA"]
["MT36233","EMMANUEL FABIANO SABINO SILVESTRE","001.333.841-28","FOLHA DE PAGAMENTO","2020-01-01","TRF1 - Folha Ordinária - Janeiro/2020 - Base :TRF1.","ATIVO","MATRICULA","SEQUD","CPF","SERVIDOR","RUBRICA","VALOR ","MT36233",0,"001.333.841-28",999999,12262.5,"EMMANUEL FABIANO SABINO SILVESTRE"]
["MT36313","ERICA CRISTINA ARTICO COMAR SILVA","294.247.168-93","FOLHA DE PAGAMENTO","2020-01-01","TRF1 - Folha Ordinária - Janeiro/2020 - Base :TRF1.","ATIVO","MATRICULA","SEQUD","CPF","SERVIDOR","RUBRICA","VALOR ","MT36313",0,"294.247.168-93",999999,22668.46,"ERICA CRISTINA ARTICO COMAR SILVA"]
["MT36292","ETIENE MARCIANO CANGUSSU CARVALHO","918.135.061-91","FOLHA DE PAGAMENTO","2020-01-01","TRF1 - Folha Ordinária - Janeiro/2020 - Base :TRF1.","ATIVO","MATRICULA","SEQUD","CPF","SERVIDOR","RUBRICA","VALOR ","MT36292",0,"918.135.061-91",999999,23288.23,"ETIENE MARCIANO CANGUSSU CARVALHO"]
["MT36055","EVA BEATRIZ MONTEIRO DA SILVA ARRAES","692.061.471-53","FOLHA DE PAGAMENTO","2020-01-01","TRF1 - Folha Ordinária - Janeiro/2020 - Base :TRF1.","ATIVO","MATRICULA","SEQUD","CPF","SERVIDOR","RUBRICA","VALOR ","MT36055",0,"692.061.471-53",999999,1207.17,"EVA BEATRIZ MONTEIRO DA SILVA ARRAES"]
["MT21003","EVANDRO CESAR DA SILVA","432.800.991-53","FOLHA DE PAGAMENTO","2020-01-01","TRF1 - Folha Ordinária - Janeiro/2020 - Base :TRF1.","ATIVO","MATRICULA","SEQUD","CPF","SERVIDOR","RUBRICA","VALOR ","MT21003",0,"432.800.991-53",999999,17569.43,"EVANDRO CESAR DA SILVA"]
["MT36084","EVANDRO SAN MARTIN DIAS","713.253.281-20","FOLHA DE PAGAMENTO","2020-01-01","TRF1 - Folha Ordinária - Janeiro/2020 - Base :TRF1.","ATIVO","MATRICULA","SEQUD","CPF","SERVIDOR","RUBRICA","VALOR ","MT36084",0,"713.253.281-20",999999,25554.68,"EVANDRO SAN MARTIN DIAS"]
["MT36355","EVANYL TAPAJOS DE LIMA MATTOS","427.668.851-53","FOLHA DE PAGAMENTO","2020-01-01","TRF1 - Folha Ordinária - Janeiro/2020 - Base :TRF1.","ATIVO","MATRICULA","SEQUD","CPF","SERVIDOR","RUBRICA","VALOR ","MT36355",0,"427.668.851-53",999999,8675.1,"EVANYL TAPAJOS DE LIMA MATTOS"]
["MT36065","EVERTON DE CARVALHO","015.005.699-09","FOLHA DE PAGAMENTO","2020-01-01","TRF1 - Folha Ordinária - Janeiro/2020 - Base :TRF1.","ATIVO","MATRICULA","SEQUD","CPF","SERVIDOR","RUBRICA","VALOR ","MT36065",0,"015.005.699-09",999999,24314.080000000002,"EVERTON DE CARVALHO"]
["MT14503","EZI MITEL DE SOUZA FLEURY","388.193.251-87","FOLHA DE PAGAMENTO","2020-01-01","TRF1 - Folha Ordinária - Janeiro/2020 - Base :TRF1.","ATIVO","MATRICULA","SEQUD","CPF","SERVIDOR","RUBRICA","VALOR ","MT14503",0,"388.193.251-87",999999,21443.62,"EZI MITEL DE SOUZA FLEURY"]
["MT36287","FABIA REGINA ZYS D OLIVEIRA","828.709.181-00","FOLHA DE PAGAMENTO","2020-01-01","TRF1 - Folha Ordinária - Janeiro/2020 - Base :TRF1.","ATIVO","MATRICULA","SEQUD","CPF","SERVIDOR","RUBRICA","VALOR ","MT36287",0,"828.709.181-00",999999,19855.060000000001,"FABIA REGINA ZYS D OLIVEIRA"]
["MT36177","FABIANA ORTIZ ARANTES BARRETO","987.932.251-72","FOLHA DE PAGAMENTO","2020-01-01","TRF1 - Folha Ordinária - Janeiro/2020 - Base :TRF1.","ATIVO","MATRICULA","SEQUD","CPF","SERVIDOR","RUBRICA","VALOR ","MT36177",0,"987.932.251-72",999999,22250.79,"FABIANA ORTIZ ARANTES BARRETO"]
["MT24003","FABIO DOMINGUES DA SILVA","875.778.101-00","FOLHA DE PAGAMENTO","2020-01-01","TRF1 - Folha Ordinária - Janeiro/2020 - Base :TRF1.","ATIVO","MATRICULA","SEQUD","CPF","SERVIDOR","RUBRICA","VALOR ","MT24003",0,"875.778.101-00",999999,11575.72,"FABIO DOMINGUES DA SILVA"]
["JU501","FABIO HENRIQUE RODRIGUES DE MORAES FIORENZA","709.460.511-00","FOLHA DE PAGAMENTO","2020-01-01","TRF1 - Folha Ordinária - Janeiro/2020 - Base :TRF1.","ATIVO","MATRICULA","SEQUD","CPF","SERVIDOR","RUBRICA","VALOR ","JU501",0,"709.460.511-00",999999,39633.870000000003,"FABIO HENRIQUE RODRIGUES DE MORAES FIORENZA"]
["MT36311","FABIO JUSTINO DE SOUZA","764.221.511-87","FOLHA DE PAGAMENTO","2020-01-01","TRF1 - Folha Ordinária - Janeiro/2020 - Base :TRF1.","ATIVO","MATRICULA","SEQUD","CPF","SERVIDOR","RUBRICA","VALOR ","MT36311",0,"764.221.511-87",999999,15328.34,"FABIO JUSTINO DE SOUZA"]
["MT36374","FABIO LUIZ DA SILVA","945.603.901-34","FOLHA DE PAGAMENTO","2020-01-01","TRF1 - Folha Ordinária - Janeiro/2020 - Base :TRF1.","ATIVO","MATRICULA","SEQUD","CPF","SERVIDOR","RUBRICA","VALOR ","MT36374",0,"945.603.901-34",999999,9948.07,"FABIO LUIZ DA SILVA"]
["MT11203","FABIO PAZ MIRANDA","453.309.641-72","FOLHA DE PAGAMENTO","2020-01-01","TRF1 - Folha Ordinária - Janeiro/2020 - Base :TRF1.","ATIVO","MATRICULA","SEQUD","CPF","SERVIDOR","RUBRICA","VALOR ","MT11203",0,"453.309.641-72",999999,28199.200000000001,"FABIO PAZ MIRANDA"]
["MT36338","FABIO SILVA DE ARAUJO","025.959.377-07","FOLHA DE PAGAMENTO","2020-01-01","TRF1 - Folha Ordinária - Janeiro/2020 - Base :TRF1.","ATIVO","MATRICULA","SEQUD","CPF","SERVIDOR","RUBRICA","VALOR ","MT36338",0,"025.959.377-07",999999,14567.12,"FABIO SILVA DE ARAUJO"]
["MT36269","FATIMA DOS REIS GOMES","759.305.791-72","FOLHA DE PAGAMENTO","2020-01-01","TRF1 - Folha Ordinária - Janeiro/2020 - Base :TRF1.","ATIVO","MATRICULA","SEQUD","CPF","SERVIDOR","RUBRICA","VALOR ","MT36269",0,"759.305.791-72",999999,24638.5,"FATIMA DOS REIS GOMES"]
["MT36393","FELIPE COSTA","026.160.971-84","FOLHA DE PAGAMENTO","2020-01-01","TRF1 - Folha Ordinária - Janeiro/2020 - Base :TRF1.","ATIVO","MATRICULA","SEQUD","CPF","SERVIDOR","RUBRICA","VALOR ","MT36393",0,"026.160.971-84",999999,11427.91,"FELIPE COSTA"]
["MT36105","FELIPE COSTA PONTES","042.898.094-56","FOLHA DE PAGAMENTO","2020-01-01","TRF1 - Folha Ordinária - Janeiro/2020 - Base :TRF1.","ATIVO","MATRICULA","SEQUD","CPF","SERVIDOR","RUBRICA","VALOR ","MT36105",0,"042.898.094-56",999999,21553.93,"FELIPE COSTA PONTES"]
["MT36231","GUSTAVO MASSAHARU TAKETOMI","045.629.829-00","FOLHA DE PAGAMENTO","2020-01-01","TRF1 - Folha Ordinária - Janeiro/2020 - Base :TRF1.","ATIVO","MATRICULA","SEQUD","CPF","SERVIDOR","RUBRICA","VALOR ","MT36231",0,"045.629.829-00",999999,15810.71,"GUSTAVO MASSAHARU TAKETOMI"]
["MT36404","FELIPE MONTEIRO SANTOS COSTA","025.184.705-57","FOLHA DE PAGAMENTO","2020-01-01","TRF1 - Folha Ordinária - Janeiro/2020 - Base :TRF1.","ATIVO","MATRICULA","SEQUD","CPF","SERVIDOR","RUBRICA","VALOR ","MT36404",0,"025.184.705-57",999999,16045.84,"FELIPE MONTEIRO SANTOS COSTA"]
["MT36430","FELIPE TANURE GUEDES","116.898.216-20","FOLHA DE PAGAMENTO","2020-01-01","TRF1 - Folha Ordinária - Janeiro/2020 - Base :TRF1.","ATIVO","MATRICULA","SEQUD","CPF","SERVIDOR","RUBRICA","VALOR ","MT36430",0,"116.898.216-20",999999,17444.150000000001,"FELIPE TANURE GUEDES"]
["MT36335","FELISBELA SARAIVA COSTA","779.649.341-04","FOLHA DE PAGAMENTO","2020-01-01","TRF1 - Folha Ordinária - Janeiro/2020 - Base :TRF1.","ATIVO","MATRICULA","SEQUD","CPF","SERVIDOR","RUBRICA","VALOR ","MT36335",0,"779.649.341-04",999999,9605.5400000000009,"FELISBELA SARAIVA COSTA"]
["MT36398","FERNANDA DE DEUS PEREIRA BARBOZA PALHANO","024.839.171-27","FOLHA DE PAGAMENTO","2020-01-01","TRF1 - Folha Ordinária - Janeiro/2020 - Base :TRF1.","ATIVO","MATRICULA","SEQUD","CPF","SERVIDOR","RUBRICA","VALOR ","MT36398",0,"024.839.171-27",999999,18539.41,"FERNANDA DE DEUS PEREIRA BARBOZA PALHANO"]
["MT36213","FERNANDA GATTASS OLIVEIRA FIDELIS","024.706.781-45","FOLHA DE PAGAMENTO","2020-01-01","TRF1 - Folha Ordinária - Janeiro/2020 - Base :TRF1.","ATIVO","MATRICULA","SEQUD","CPF","SERVIDOR","RUBRICA","VALOR ","MT36213",0,"024.706.781-45",999999,13018.52,"FERNANDA GATTASS OLIVEIRA FIDELIS"]
["MT36234","FERNANDO GALDINO DELGADO","627.923.181-04","FOLHA DE PAGAMENTO","2020-01-01","TRF1 - Folha Ordinária - Janeiro/2020 - Base :TRF1.","ATIVO","MATRICULA","SEQUD","CPF","SERVIDOR","RUBRICA","VALOR ","MT36234",0,"627.923.181-04",999999,11422.96,"FERNANDO GALDINO DELGADO"]
["MT36442","FERNANDO LUIZ BENITEZ OTA","000.284.491-50","FOLHA DE PAGAMENTO","2020-01-01","TRF1 - Folha Ordinária - Janeiro/2020 - Base :TRF1.","ATIVO","MATRICULA","SEQUD","CPF","SERVIDOR","RUBRICA","VALOR ","MT36442",0,"000.284.491-50",999999,10201.65,"FERNANDO LUIZ BENITEZ OTA"]
["MT36078","FLAVIO FERREIRA DEL BARCO","654.667.301-06","FOLHA DE PAGAMENTO","2020-01-01","TRF1 - Folha Ordinária - Janeiro/2020 - Base :TRF1.","ATIVO","MATRICULA","SEQUD","CPF","SERVIDOR","RUBRICA","VALOR ","MT36078",0,"654.667.301-06",999999,16695.55,"FLAVIO FERREIRA DEL BARCO"]
["MT36223","FLAVIO MENDES","001.068.231-75","FOLHA DE PAGAMENTO","2020-01-01","TRF1 - Folha Ordinária - Janeiro/2020 - Base :TRF1.","ATIVO","MATRICULA","SEQUD","CPF","SERVIDOR","RUBRICA","VALOR ","MT36223",0,"001.068.231-75",999999,23199.19,"FLAVIO MENDES"]
["MT36325","FRANCIELI FERNANDES DA SILVA","036.987.211-80","FOLHA DE PAGAMENTO","2020-01-01","TRF1 - Folha Ordinária - Janeiro/2020 - Base :TRF1.","ATIVO","MATRICULA","SEQUD","CPF","SERVIDOR","RUBRICA","VALOR ","MT36325",0,"036.987.211-80",999999,4234.0200000000004,"FRANCIELI FERNANDES DA SILVA"]
["MT2803","FRANCISCA EVANILDA LIMA","325.709.021-87","FOLHA DE PAGAMENTO","2020-01-01","TRF1 - Folha Ordinária - Janeiro/2020 - Base :TRF1.","ATIVO","MATRICULA","SEQUD","CPF","SERVIDOR","RUBRICA","VALOR ","MT2803",0,"325.709.021-87",999999,20582.560000000001,"FRANCISCA EVANILDA LIMA"]
["JU630","FREDERICO PEREIRA MARTINS","055.287.227-05","FOLHA DE PAGAMENTO","2020-01-01","TRF1 - Folha Ordinária - Janeiro/2020 - Base :TRF1.","ATIVO","MATRICULA","SEQUD","CPF","SERVIDOR","RUBRICA","VALOR ","JU630",0,"055.287.227-05",999999,23235.34,"FREDERICO PEREIRA MARTINS"]
["MT36302","GENIVALDO PINHEIRO DE ANDRADE","543.880.231-91","FOLHA DE PAGAMENTO","2020-01-01","TRF1 - Folha Ordinária - Janeiro/2020 - Base :TRF1.","ATIVO","MATRICULA","SEQUD","CPF","SERVIDOR","RUBRICA","VALOR ","MT36302",0,"543.880.231-91",999999,15108.69,"GENIVALDO PINHEIRO DE ANDRADE"]
["MT21703","GEORGETE ALMEIDA ARRUDA CARLI","779.961.431-53","FOLHA DE PAGAMENTO","2020-01-01","TRF1 - Folha Ordinária - Janeiro/2020 - Base :TRF1.","ATIVO","MATRICULA","SEQUD","CPF","SERVIDOR","RUBRICA","VALOR ","MT21703",0,"779.961.431-53",999999,14154.77,"GEORGETE ALMEIDA ARRUDA CARLI"]
["MT36376","GERVADIO MITSUO OHASHI","587.170.999-00","FOLHA DE PAGAMENTO","2020-01-01","TRF1 - Folha Ordinária - Janeiro/2020 - Base :TRF1.","ATIVO","MATRICULA","SEQUD","CPF","SERVIDOR","RUBRICA","VALOR ","MT36376",0,"587.170.999-00",999999,13638.55,"GERVADIO MITSUO OHASHI"]
["MT36089","GILBERTO CARDOSO DOS SANTOS","805.996.484-49","FOLHA DE PAGAMENTO","2020-01-01","TRF1 - Folha Ordinária - Janeiro/2020 - Base :TRF1.","ATIVO","MATRICULA","SEQUD","CPF","SERVIDOR","RUBRICA","VALOR ","MT36089",0,"805.996.484-49",999999,12844.96,"GILBERTO CARDOSO DOS SANTOS"]
["MT36070","GILBERTO PEREIRA DE JESUS","827.286.311-15","FOLHA DE PAGAMENTO","2020-01-01","TRF1 - Folha Ordinária - Janeiro/2020 - Base :TRF1.","ATIVO","MATRICULA","SEQUD","CPF","SERVIDOR","RUBRICA","VALOR ","MT36070",0,"827.286.311-15",999999,17170.07,"GILBERTO PEREIRA DE JESUS"]
["MT36310","GILMARA RODRIGUES DE OLIVEIRA MATTOS","892.993.451-04","FOLHA DE PAGAMENTO","2020-01-01","TRF1 - Folha Ordinária - Janeiro/2020 - Base :TRF1.","ATIVO","MATRICULA","SEQUD","CPF","SERVIDOR","RUBRICA","VALOR ","MT36310",0,"892.993.451-04",999999,14273.28,"GILMARA RODRIGUES DE OLIVEIRA MATTOS"]
["MT36131","GISELE FRANZE TIEPO","950.688.211-87","FOLHA DE PAGAMENTO","2020-01-01","TRF1 - Folha Ordinária - Janeiro/2020 - Base :TRF1.","ATIVO","MATRICULA","SEQUD","CPF","SERVIDOR","RUBRICA","VALOR ","MT36131",0,"950.688.211-87",999999,19774.27,"GISELE FRANZE TIEPO"]
["MT14203","GLAUCIA MARIA ALVES","498.870.336-34","FOLHA DE PAGAMENTO","2020-01-01","TRF1 - Folha Ordinária - Janeiro/2020 - Base :TRF1.","ATIVO","MATRICULA","SEQUD","CPF","SERVIDOR","RUBRICA","VALOR ","MT14203",0,"498.870.336-34",999999,15569.74,"GLAUCIA MARIA ALVES"]
["MT36029","GLAUCIA MARIA CANAVARROS STEPHAN VICENZI","551.305.180-04","FOLHA DE PAGAMENTO","2020-01-01","TRF1 - Folha Ordinária - Janeiro/2020 - Base :TRF1.","ATIVO","MATRICULA","SEQUD","CPF","SERVIDOR","RUBRICA","VALOR ","MT36029",0,"551.305.180-04",999999,25749.41,"GLAUCIA MARIA CANAVARROS STEPHAN VICENZI"]
["MT24503","GLAUCO ALVES MURAKAMI","581.371.141-49","FOLHA DE PAGAMENTO","2020-01-01","TRF1 - Folha Ordinária - Janeiro/2020 - Base :TRF1.","ATIVO","MATRICULA","SEQUD","CPF","SERVIDOR","RUBRICA","VALOR ","MT24503",0,"581.371.141-49",999999,25419,"GLAUCO ALVES MURAKAMI"]
["MT36056","GLAUCO BARRETO ARRAES","666.741.311-72","FOLHA DE PAGAMENTO","2020-01-01","TRF1 - Folha Ordinária - Janeiro/2020 - Base :TRF1.","ATIVO","MATRICULA","SEQUD","CPF","SERVIDOR","RUBRICA","VALOR ","MT36056",0,"666.741.311-72",999999,1035.6300000000001,"GLAUCO BARRETO ARRAES"]
["MT36158","GLEIDISON DE SOUZA SOARES","011.640.981-95","FOLHA DE PAGAMENTO","2020-01-01","TRF1 - Folha Ordinária - Janeiro/2020 - Base :TRF1.","ATIVO","MATRICULA","SEQUD","CPF","SERVIDOR","RUBRICA","VALOR ","MT36158",0,"011.640.981-95",999999,14498.88,"GLEIDISON DE SOUZA SOARES"]
["MT36136","GRACILEIDE FERREIRA QUEIROZ REINER","744.651.126-53","FOLHA DE PAGAMENTO","2020-01-01","TRF1 - Folha Ordinária - Janeiro/2020 - Base :TRF1.","ATIVO","MATRICULA","SEQUD","CPF","SERVIDOR","RUBRICA","VALOR ","MT36136",0,"744.651.126-53",999999,29015.31,"GRACILEIDE FERREIRA QUEIROZ REINER"]
["MT36264","GRAZIELE AUGUSTA PAPAZIAN","869.684.321-53","FOLHA DE PAGAMENTO","2020-01-01","TRF1 - Folha Ordinária - Janeiro/2020 - Base :TRF1.","ATIVO","MATRICULA","SEQUD","CPF","SERVIDOR","RUBRICA","VALOR ","MT36264",0,"869.684.321-53",999999,22500.31,"GRAZIELE AUGUSTA PAPAZIAN"]
["MT26303","GRAZIELI DUIM CAPELLARI","607.892.801-59","FOLHA DE PAGAMENTO","2020-01-01","TRF1 - Folha Ordinária - Janeiro/2020 - Base :TRF1.","ATIVO","MATRICULA","SEQUD","CPF","SERVIDOR","RUBRICA","VALOR ","MT26303",0,"607.892.801-59",999999,24388.16,"GRAZIELI DUIM CAPELLARI"]
["MT36080","GREICE WEIPPERT DE OLIVEIRA RANGEL","006.375.381-29","FOLHA DE PAGAMENTO","2020-01-01","TRF1 - Folha Ordinária - Janeiro/2020 - Base :TRF1.","ATIVO","MATRICULA","SEQUD","CPF","SERVIDOR","RUBRICA","VALOR ","MT36080",0,"006.375.381-29",999999,18013.560000000001,"GREICE WEIPPERT DE OLIVEIRA RANGEL"]
["MT36473","GUSTAVO BARROS VALENTE","924.350.841-53","FOLHA DE PAGAMENTO","2020-01-01","TRF1 - Folha Ordinária - Janeiro/2020 - Base :TRF1.","ATIVO","MATRICULA","SEQUD","CPF","SERVIDOR","RUBRICA","VALOR ","MT36473",0,"924.350.841-53",999999,15298.62,"GUSTAVO BARROS VALENTE"]
["MT36221","GUSTAVO LUIS DE MOURA PINTO","706.139.311-49","FOLHA DE PAGAMENTO","2020-01-01","TRF1 - Folha Ordinária - Janeiro/2020 - Base :TRF1.","ATIVO","MATRICULA","SEQUD","CPF","SERVIDOR","RUBRICA","VALOR ","MT36221",0,"706.139.311-49",999999,22316.38,"GUSTAVO LUIS DE MOURA PINTO"]
["MT36443","JEYCIANO VON ANCKEN ALVES SIQUEIRA","031.470.301-21","FOLHA DE PAGAMENTO","2020-01-01","TRF1 - Folha Ordinária - Janeiro/2020 - Base :TRF1.","ATIVO","MATRICULA","SEQUD","CPF","SERVIDOR","RUBRICA","VALOR ","MT36443",0,"031.470.301-21",999999,11465.13,"JEYCIANO VON ANCKEN ALVES SIQUEIRA"]
["MT36231","GUSTAVO MASSAHARU TAKETOMI","045.629.829-00","FOLHA DE PAGAMENTO","2020-01-01","TRF1 - Folha Ordinária - Janeiro/2020 - Base :TRF1.","ATIVO","MATRICULA","SEQUD","CPF","SERVIDOR","RUBRICA","VALOR ","MT36231",0,"045.629.829-00",999999,15810.71,"GUSTAVO MASSAHARU TAKETOMI"]
["MT36446","GUSTAVO SOUSA COSTA","091.271.654-18","FOLHA DE PAGAMENTO","2020-01-01","TRF1 - Folha Ordinária - Janeiro/2020 - Base :TRF1.","ATIVO","MATRICULA","SEQUD","CPF","SERVIDOR","RUBRICA","VALOR ","MT36446",0,"091.271.654-18",999999,18045.86,"GUSTAVO SOUSA COSTA"]
["MT36286","HEIDER LUZIANO DE LIMA BARROS","017.309.231-43","FOLHA DE PAGAMENTO","2020-01-01","TRF1 - Folha Ordinária - Janeiro/2020 - Base :TRF1.","ATIVO","MATRICULA","SEQUD","CPF","SERVIDOR","RUBRICA","VALOR ","MT36286",0,"017.309.231-43",999999,13542.32,"HEIDER LUZIANO DE LIMA BARROS"]
["MT1603","HELEN CRISTINE DE SOUZA BREUNIG","328.037.881-87","FOLHA DE PAGAMENTO","2020-01-01","TRF1 - Folha Ordinária - Janeiro/2020 - Base :TRF1.","ATIVO","MATRICULA","SEQUD","CPF","SERVIDOR","RUBRICA","VALOR ","MT1603",0,"328.037.881-87",999999,35648.47,"HELEN CRISTINE DE SOUZA BREUNIG"]
["MT36220","HELENA EMIKO TANAKA NOMURA","638.684.741-53","FOLHA DE PAGAMENTO","2020-01-01","TRF1 - Folha Ordinária - Janeiro/2020 - Base :TRF1.","ATIVO","MATRICULA","SEQUD","CPF","SERVIDOR","RUBRICA","VALOR ","MT36220",0,"638.684.741-53",999999,1777.58,"HELENA EMIKO TANAKA NOMURA"]
["MT20903","HELIO BARBOSA","327.696.601-87","FOLHA DE PAGAMENTO","2020-01-01","TRF1 - Folha Ordinária - Janeiro/2020 - Base :TRF1.","ATIVO","MATRICULA","SEQUD","CPF","SERVIDOR","RUBRICA","VALOR ","MT20903",0,"327.696.601-87",999999,19397.66,"HELIO BARBOSA"]
[{"$f":"N198","v":"MT36415"},{"$f":"S198","v":"HENRIQUE DOUGLAS VIEIRA DO CARMO"},{"$f":"P198","v":"769.940.231-68"},"FOLHA DE PAGAMENTO","2020-01-01","TRF1 - Folha Ordinária - Janeiro/2020 - Base :TRF1.","ATIVO","MATRICULA","SEQUD","CPF","SERVIDOR","RUBRICA","VALOR ","MT36415",0,"769.940.231-68",999999,20039.689999999999,"HENRIQUE DOUGLAS VIEIRA DO CARMO"]
["MT36468","HENRIQUE ORMONDE PORTELA","522.614.761-91","FOLHA DE PAGAMENTO","2020-01-01","TRF1 - Folha Ordinária - Janeiro/2020 - Base :TRF1.","ATIVO","MATRICULA","SEQUD","CPF","SERVIDOR","RUBRICA","VALOR ","MT36468",0,"522.614.761-91",999999,14663.64,"HENRIQUE ORMONDE PORTELA"]
["MT36362","HERNANDES OLIVEIRA DE ARAUJO","012.740.171-73","FOLHA DE PAGAMENTO","2020-01-01","TRF1 - Folha Ordinária - Janeiro/2020 - Base :TRF1.","ATIVO","MATRICULA","SEQUD","CPF","SERVIDOR","RUBRICA","VALOR ","MT36362",0,"012.740.171-73",999999,11014.27,"HERNANDES OLIVEIRA DE ARAUJO"]
["MT36258","HILTON FERNANDES DE CAMPOS JUNIOR","695.249.801-00","FOLHA DE PAGAMENTO","2020-01-01","TRF1 - Folha Ordinária - Janeiro/2020 - Base :TRF1.","ATIVO","MATRICULA","SEQUD","CPF","SERVIDOR","RUBRICA","VALOR ","MT36258",0,"695.249.801-00",999999,27277.48,"HILTON FERNANDES DE CAMPOS JUNIOR"]
["MT31403","HUMBERTO NEGRETTI","229.393.691-00","FOLHA DE PAGAMENTO","2020-01-01","TRF1 - Folha Ordinária - Janeiro/2020 - Base :TRF1.","ATIVO","MATRICULA","SEQUD","CPF","SERVIDOR","RUBRICA","VALOR ","MT31403",0,"229.393.691-00",999999,5477.92,"HUMBERTO NEGRETTI"]
["MT36377","IARA DE FREITAS ENDO","002.979.911-24","FOLHA DE PAGAMENTO","2020-01-01","TRF1 - Folha Ordinária - Janeiro/2020 - Base :TRF1.","ATIVO","MATRICULA","SEQUD","CPF","SERVIDOR","RUBRICA","VALOR ","MT36377",0,"002.979.911-24",999999,12816.34,"IARA DE FREITAS ENDO"]
["MT36047","INGRID ALEXANDRA FERREIRA PAIVA","028.717.956-73","FOLHA DE PAGAMENTO","2020-01-01","TRF1 - Folha Ordinária - Janeiro/2020 - Base :TRF1.","ATIVO","MATRICULA","SEQUD","CPF","SERVIDOR","RUBRICA","VALOR ","MT36047",0,"028.717.956-73",999999,31476.46,"INGRID ALEXANDRA FERREIRA PAIVA"]
["MT36390","ISABELA MOREIRA DA SILVA","394.399.228-42","FOLHA DE PAGAMENTO","2020-01-01","TRF1 - Folha Ordinária - Janeiro/2020 - Base :TRF1.","ATIVO","MATRICULA","SEQUD","CPF","SERVIDOR","RUBRICA","VALOR ","MT36390",0,"394.399.228-42",999999,25954.33,"ISABELA MOREIRA DA SILVA"]
["MT36190","ITAMAR JESUS DE SOUZA","247.258.098-37","FOLHA DE PAGAMENTO","2020-01-01","TRF1 - Folha Ordinária - Janeiro/2020 - Base :TRF1.","ATIVO","MATRICULA","SEQUD","CPF","SERVIDOR","RUBRICA","VALOR ","MT36190",0,"247.258.098-37",999999,15157.82,"ITAMAR JESUS DE SOUZA"]
["MT19203","IVALDO BERNARDES JUNIOR","431.315.651-87","FOLHA DE PAGAMENTO","2020-01-01","TRF1 - Folha Ordinária - Janeiro/2020 - Base :TRF1.","ATIVO","MATRICULA","SEQUD","CPF","SERVIDOR","RUBRICA","VALOR ","MT19203",0,"431.315.651-87",999999,36656.46,"IVALDO BERNARDES JUNIOR"]
["MT36019","JACIR ALBERTO ROHDE","546.543.359-00","FOLHA DE PAGAMENTO","2020-01-01","TRF1 - Folha Ordinária - Janeiro/2020 - Base :TRF1.","ATIVO","MATRICULA","SEQUD","CPF","SERVIDOR","RUBRICA","VALOR ","MT36019",0,"546.543.359-00",999999,27988.59,"JACIR ALBERTO ROHDE"]
["MT36098","JACKELINE FERNANDES DE FREITAS VIEIRA","537.453.611-72","FOLHA DE PAGAMENTO","2020-01-01","TRF1 - Folha Ordinária - Janeiro/2020 - Base :TRF1.","ATIVO","MATRICULA","SEQUD","CPF","SERVIDOR","RUBRICA","VALOR ","MT36098",0,"537.453.611-72",999999,15830.55,"JACKELINE FERNANDES DE FREITAS VIEIRA"]
["MT31603","JACKLINE ALMEIDA ARRUDA","537.312.201-72","FOLHA DE PAGAMENTO","2020-01-01","TRF1 - Folha Ordinária - Janeiro/2020 - Base :TRF1.","ATIVO","MATRICULA","SEQUD","CPF","SERVIDOR","RUBRICA","VALOR ","MT31603",0,"537.312.201-72",999999,27518.639999999999,"JACKLINE ALMEIDA ARRUDA"]
["MT8903","JAILMARA FERREIRA DOURADO","569.857.971-72","FOLHA DE PAGAMENTO","2020-01-01","TRF1 - Folha Ordinária - Janeiro/2020 - Base :TRF1.","ATIVO","MATRICULA","SEQUD","CPF","SERVIDOR","RUBRICA","VALOR ","MT8903",0,"569.857.971-72",999999,23417.61,"JAILMARA FERREIRA DOURADO"]
["MT36324","JAILSON ANTONIO BARBOSA","514.619.431-91","FOLHA DE PAGAMENTO","2020-01-01","TRF1 - Folha Ordinária - Janeiro/2020 - Base :TRF1.","ATIVO","MATRICULA","SEQUD","CPF","SERVIDOR","RUBRICA","VALOR ","MT36324",0,"514.619.431-91",999999,14935.62,"JAILSON ANTONIO BARBOSA"]
["MT36474","JAIRO MOURA DA SILVA","098.601.667-57","FOLHA DE PAGAMENTO","2020-01-01","TRF1 - Folha Ordinária - Janeiro/2020 - Base :TRF1.","ATIVO","MATRICULA","SEQUD","CPF","SERVIDOR","RUBRICA","VALOR ","MT36474",0,"098.601.667-57",999999,19785.830000000002,"JAIRO MOURA DA SILVA"]
["MT36444","JAMERSON LEANDRO DE SOUZA SA","570.202.992-53","FOLHA DE PAGAMENTO","2020-01-01","TRF1 - Folha Ordinária - Janeiro/2020 - Base :TRF1.","ATIVO","MATRICULA","SEQUD","CPF","SERVIDOR","RUBRICA","VALOR ","MT36444",0,"570.202.992-53",999999,14372.85,"JAMERSON LEANDRO DE SOUZA SA"]
["MT36186","JANAINA GRACIELLE DE OLIVEIRA FERRAZ","070.478.976-07","FOLHA DE PAGAMENTO","2020-01-01","TRF1 - Folha Ordinária - Janeiro/2020 - Base :TRF1.","ATIVO","MATRICULA","SEQUD","CPF","SERVIDOR","RUBRICA","VALOR ","MT36186",0,"070.478.976-07",999999,22106.6,"JANAINA GRACIELLE DE OLIVEIRA FERRAZ"]
["MT36318","JAQUELINE CANDIDA GORDIN FREITAS","011.148.481-23","FOLHA DE PAGAMENTO","2020-01-01","TRF1 - Folha Ordinária - Janeiro/2020 - Base :TRF1.","ATIVO","MATRICULA","SEQUD","CPF","SERVIDOR","RUBRICA","VALOR ","MT36318",0,"011.148.481-23",999999,14778.97,"JAQUELINE CANDIDA GORDIN FREITAS"]
["MT36439","JAYLA GEVEZIER LOUREIRO","886.566.161-53","FOLHA DE PAGAMENTO","2020-01-01","TRF1 - Folha Ordinária - Janeiro/2020 - Base :TRF1.","ATIVO","MATRICULA","SEQUD","CPF","SERVIDOR","RUBRICA","VALOR ","MT36439",0,"886.566.161-53",999999,20363.939999999999,"JAYLA GEVEZIER LOUREIRO"]
["MT36332","JEAN ROHLING DUPIM CARVALHO","007.363.451-40","FOLHA DE PAGAMENTO","2020-01-01","TRF1 - Folha Ordinária - Janeiro/2020 - Base :TRF1.","ATIVO","MATRICULA","SEQUD","CPF","SERVIDOR","RUBRICA","VALOR ","MT36332",0,"007.363.451-40",999999,18883.810000000001,"JEAN ROHLING DUPIM CARVALHO"]
["MT36356","JEFERSON LOBO CASTELHANO VIEIRA","709.615.651-87","FOLHA DE PAGAMENTO","2020-01-01","TRF1 - Folha Ordinária - Janeiro/2020 - Base :TRF1.","ATIVO","MATRICULA","SEQUD","CPF","SERVIDOR","RUBRICA","VALOR ","MT36356",0,"709.615.651-87",999999,23057.29,"JEFERSON LOBO CASTELHANO VIEIRA"]
["JU153","JEFERSON SCHNEIDER","571.446.721-34","FOLHA DE PAGAMENTO","2020-01-01","TRF1 - Folha Ordinária - Janeiro/2020 - Base :TRF1.","ATIVO","MATRICULA","SEQUD","CPF","SERVIDOR","RUBRICA","VALOR ","JU153",0,"571.446.721-34",999999,40423.74,"JEFERSON SCHNEIDER"]
["MT22403","JEFFERSON ALECXANDE ARAUJO DA SILVA","693.826.461-91","FOLHA DE PAGAMENTO","2020-01-01","TRF1 - Folha Ordinária - Janeiro/2020 - Base :TRF1.","ATIVO","MATRICULA","SEQUD","CPF","SERVIDOR","RUBRICA","VALOR ","MT22403",0,"693.826.461-91",999999,13145.28,"JEFFERSON ALECXANDE ARAUJO DA SILVA"]
["MT24303","JULLIANO SILVA CONCEICAO","569.180.461-87","FOLHA DE PAGAMENTO","2020-01-01","TRF1 - Folha Ordinária - Janeiro/2020 - Base :TRF1.","ATIVO","MATRICULA","SEQUD","CPF","SERVIDOR","RUBRICA","VALOR ","MT24303",0,"569.180.461-87",999999,15112.87,"JULLIANO SILVA CONCEICAO"]
["MT36443","JEYCIANO VON ANCKEN ALVES SIQUEIRA","031.470.301-21","FOLHA DE PAGAMENTO","2020-01-01","TRF1 - Folha Ordinária - Janeiro/2020 - Base :TRF1.","ATIVO","MATRICULA","SEQUD","CPF","SERVIDOR","RUBRICA","VALOR ","MT36443",0,"031.470.301-21",999999,11465.13,"JEYCIANO VON ANCKEN ALVES SIQUEIRA"]
["MT36396","JHONNY KENJI KATO","018.944.151-83","FOLHA DE PAGAMENTO","2020-01-01","TRF1 - Folha Ordinária - Janeiro/2020 - Base :TRF1.","ATIVO","MATRICULA","SEQUD","CPF","SERVIDOR","RUBRICA","VALOR ","MT36396",0,"018.944.151-83",999999,20548.53,"JHONNY KENJI KATO"]
["MT36274","JILSON MARCOS FARIAS MACIEL","844.123.211-34","FOLHA DE PAGAMENTO","2020-01-01","TRF1 - Folha Ordinária - Janeiro/2020 - Base :TRF1.","ATIVO","MATRICULA","SEQUD","CPF","SERVIDOR","RUBRICA","VALOR ","MT36274",0,"844.123.211-34",999999,17661.14,"JILSON MARCOS FARIAS MACIEL"]
["MT3103","JOADIR JOSE DE FIGUEIREDO","173.406.751-91","FOLHA DE PAGAMENTO","2020-01-01","TRF1 - Folha Ordinária - Janeiro/2020 - Base :TRF1.","ATIVO","MATRICULA","SEQUD","CPF","SERVIDOR","RUBRICA","VALOR ","MT3103",0,"173.406.751-91",999999,18534.689999999999,"JOADIR JOSE DE FIGUEIREDO"]
["MT36257","JOAO BATISTA PEREIRA ROCHA","873.714.721-87","FOLHA DE PAGAMENTO","2020-01-01","TRF1 - Folha Ordinária - Janeiro/2020 - Base :TRF1.","ATIVO","MATRICULA","SEQUD","CPF","SERVIDOR","RUBRICA","VALOR ","MT36257",0,"873.714.721-87",999999,15642.72,"JOAO BATISTA PEREIRA ROCHA"]
["MT27103","JOAO CARLOS DOS SANTOS","327.857.121-53","FOLHA DE PAGAMENTO","2020-01-01","TRF1 - Folha Ordinária - Janeiro/2020 - Base :TRF1.","ATIVO","MATRICULA","SEQUD","CPF","SERVIDOR","RUBRICA","VALOR ","MT27103",0,"327.857.121-53",999999,3049,"JOAO CARLOS DOS SANTOS"]
["MT36150","JOAO VITORIO DOS REIS SGUAREZI","948.277.881-20","FOLHA DE PAGAMENTO","2020-01-01","TRF1 - Folha Ordinária - Janeiro/2020 - Base :TRF1.","ATIVO","MATRICULA","SEQUD","CPF","SERVIDOR","RUBRICA","VALOR ","MT36150",0,"948.277.881-20",999999,15226.14,"JOAO VITORIO DOS REIS SGUAREZI"]
["MT36161","JOCIANE CRISTINA LERNER","850.197.711-04","FOLHA DE PAGAMENTO","2020-01-01","TRF1 - Folha Ordinária - Janeiro/2020 - Base :TRF1.","ATIVO","MATRICULA","SEQUD","CPF","SERVIDOR","RUBRICA","VALOR ","MT36161",0,"850.197.711-04",999999,17001.830000000002,"JOCIANE CRISTINA LERNER"]
["MT36448","JOHNATAN HARRISON COURA QUEIROZ","031.892.331-95","FOLHA DE PAGAMENTO","2020-01-01","TRF1 - Folha Ordinária - Janeiro/2020 - Base :TRF1.","ATIVO","MATRICULA","SEQUD","CPF","SERVIDOR","RUBRICA","VALOR ","MT36448",0,"031.892.331-95",999999,13899.02,"JOHNATAN HARRISON COURA QUEIROZ"]
["MT36478","JONATAS BELISARIO SANTIAGO","033.382.571-39","FOLHA DE PAGAMENTO","2020-01-01","TRF1 - Folha Ordinária - Janeiro/2020 - Base :TRF1.","ATIVO","MATRICULA","SEQUD","CPF","SERVIDOR","RUBRICA","VALOR ","MT36478",0,"033.382.571-39",999999,19065.68,"JONATAS BELISARIO SANTIAGO"]
["MT36154","JONES DOURADO DE ARAUJO","017.610.471-24","FOLHA DE PAGAMENTO","2020-01-01","TRF1 - Folha Ordinária - Janeiro/2020 - Base :TRF1.","ATIVO","MATRICULA","SEQUD","CPF","SERVIDOR","RUBRICA","VALOR ","MT36154",0,"017.610.471-24",999999,23478.95,"JONES DOURADO DE ARAUJO"]
["MT36367","JONNY PABLO JACOMINI BEZ BATTI","722.897.321-68","FOLHA DE PAGAMENTO","2020-01-01","TRF1 - Folha Ordinária - Janeiro/2020 - Base :TRF1.","ATIVO","MATRICULA","SEQUD","CPF","SERVIDOR","RUBRICA","VALOR ","MT36367",0,"722.897.321-68",999999,17378.759999999998,"JONNY PABLO JACOMINI BEZ BATTI"]
["MT20203","JORENICE PEREIRA RIBEIRO","523.045.821-68","FOLHA DE PAGAMENTO","2020-01-01","TRF1 - Folha Ordinária - Janeiro/2020 - Base :TRF1.","ATIVO","MATRICULA","SEQUD","CPF","SERVIDOR","RUBRICA","VALOR ","MT20203",0,"523.045.821-68",999999,27313.45,"JORENICE PEREIRA RIBEIRO"]
["MT11603","JORGE CARDOSO DE SA","203.000.931-87","FOLHA DE PAGAMENTO","2020-01-01","TRF1 - Folha Ordinária - Janeiro/2020 - Base :TRF1.","ATIVO","MATRICULA","SEQUD","CPF","SERVIDOR","RUBRICA","VALOR ","MT11603",0,"203.000.931-87",999999,23186.74,"JORGE CARDOSO DE SA"]
["MT36455","JORGE LUIZ NAPOLEAO MESQUITA","078.777.666-10","FOLHA DE PAGAMENTO","2020-01-01","TRF1 - Folha Ordinária - Janeiro/2020 - Base :TRF1.","ATIVO","MATRICULA","SEQUD","CPF","SERVIDOR","RUBRICA","VALOR ","MT36455",0,"078.777.666-10",999999,23755.15,"JORGE LUIZ NAPOLEAO MESQUITA"]
["MT9003","JORGE REIS FREIRE FARES","513.685.281-04","FOLHA DE PAGAMENTO","2020-01-01","TRF1 - Folha Ordinária - Janeiro/2020 - Base :TRF1.","ATIVO","MATRICULA","SEQUD","CPF","SERVIDOR","RUBRICA","VALOR ","MT9003",0,"513.685.281-04",999999,6886.1,"JORGE REIS FREIRE FARES"]
["MT36436","JOSE AIRTON BEZERRA LIMA JUNIOR","042.259.993-00","FOLHA DE PAGAMENTO","2020-01-01","TRF1 - Folha Ordinária - Janeiro/2020 - Base :TRF1.","ATIVO","MATRICULA","SEQUD","CPF","SERVIDOR","RUBRICA","VALOR ","MT36436",0,"042.259.993-00",999999,14028.55,"JOSE AIRTON BEZERRA LIMA JUNIOR"]
["MT36082","JOSE AMADEU MANDELLO JUNIOR","051.389.786-08","FOLHA DE PAGAMENTO","2020-01-01","TRF1 - Folha Ordinária - Janeiro/2020 - Base :TRF1.","ATIVO","MATRICULA","SEQUD","CPF","SERVIDOR","RUBRICA","VALOR ","MT36082",0,"051.389.786-08",999999,23055.79,"JOSE AMADEU MANDELLO JUNIOR"]
["MT36097","JOSE CANDIDO DE SOUZA LEAO NETO","032.218.614-51","FOLHA DE PAGAMENTO","2020-01-01","TRF1 - Folha Ordinária - Janeiro/2020 - Base :TRF1.","ATIVO","MATRICULA","SEQUD","CPF","SERVIDOR","RUBRICA","VALOR ","MT36097",0,"032.218.614-51",999999,24759.18,"JOSE CANDIDO DE SOUZA LEAO NETO"]
["MT36409","JOSE FRANCISCO DA SILVA NETO","084.080.576-42","FOLHA DE PAGAMENTO","2020-01-01","TRF1 - Folha Ordinária - Janeiro/2020 - Base :TRF1.","ATIVO","MATRICULA","SEQUD","CPF","SERVIDOR","RUBRICA","VALOR ","MT36409",0,"084.080.576-42",999999,7154.36,"JOSE FRANCISCO DA SILVA NETO"]
["MT36015","JOSE HAMILTON DE SOUZA PEXE","362.225.421-15","FOLHA DE PAGAMENTO","2020-01-01","TRF1 - Folha Ordinária - Janeiro/2020 - Base :TRF1.","ATIVO","MATRICULA","SEQUD","CPF","SERVIDOR","RUBRICA","VALOR ","MT36015",0,"362.225.421-15",999999,27569.08,"JOSE HAMILTON DE SOUZA PEXE"]
["MT36385","JOSEFINA JORGE MOREIRA NETA GAMA","362.356.011-15","FOLHA DE PAGAMENTO","2020-01-01","TRF1 - Folha Ordinária - Janeiro/2020 - Base :TRF1.","ATIVO","MATRICULA","SEQUD","CPF","SERVIDOR","RUBRICA","VALOR ","MT36385",0,"362.356.011-15",999999,16176.7,"JOSEFINA JORGE MOREIRA NETA GAMA"]
["MT36191","JUANA RIZZATTI MENDES","042.541.199-09","FOLHA DE PAGAMENTO","2020-01-01","TRF1 - Folha Ordinária - Janeiro/2020 - Base :TRF1.","ATIVO","MATRICULA","SEQUD","CPF","SERVIDOR","RUBRICA","VALOR ","MT36191",0,"042.541.199-09",999999,24518.31,"JUANA RIZZATTI MENDES"]
["MT27603","JUARES MARCAL DA FONSECA","275.190.311-87","FOLHA DE PAGAMENTO","2020-01-01","TRF1 - Folha Ordinária - Janeiro/2020 - Base :TRF1.","ATIVO","MATRICULA","SEQUD","CPF","SERVIDOR","RUBRICA","VALOR ","MT27603",0,"275.190.311-87",999999,5718.92,"JUARES MARCAL DA FONSECA"]
["MT23403","JULIA DE BARROS BERNARDES","702.909.201-59","FOLHA DE PAGAMENTO","2020-01-01","TRF1 - Folha Ordinária - Janeiro/2020 - Base :TRF1.","ATIVO","MATRICULA","SEQUD","CPF","SERVIDOR","RUBRICA","VALOR ","MT23403",0,"702.909.201-59",999999,18680.11,"JULIA DE BARROS BERNARDES"]
["MT36309","JULIANA DE ALBUQUERQUE FERRAZ VILELA MARQUES","053.443.824-56","FOLHA DE PAGAMENTO","2020-01-01","TRF1 - Folha Ordinária - Janeiro/2020 - Base :TRF1.","ATIVO","MATRICULA","SEQUD","CPF","SERVIDOR","RUBRICA","VALOR ","MT36309",0,"053.443.824-56",999999,23867.67,"JULIANA DE ALBUQUERQUE FERRAZ VILELA MARQUES"]
["JU548","JULIANA MARIA DA PAIXAO ARAUJO","853.481.121-00","FOLHA DE PAGAMENTO","2020-01-01","TRF1 - Folha Ordinária - Janeiro/2020 - Base :TRF1.","ATIVO","MATRICULA","SEQUD","CPF","SERVIDOR","RUBRICA","VALOR ","JU548",0,"853.481.121-00",999999,36958.839999999997,"JULIANA MARIA DA PAIXAO ARAUJO"]
["MT36375","JULIANA PEREIRA BESSA","040.169.196-90","FOLHA DE PAGAMENTO","2020-01-01","TRF1 - Folha Ordinária - Janeiro/2020 - Base :TRF1.","ATIVO","MATRICULA","SEQUD","CPF","SERVIDOR","RUBRICA","VALOR ","MT36375",0,"040.169.196-90",999999,22719.43,"JULIANA PEREIRA BESSA"]
["MT36104","JULIANA SANCHEZ DE ABREU","818.304.321-68","FOLHA DE PAGAMENTO","2020-01-01","TRF1 - Folha Ordinária - Janeiro/2020 - Base :TRF1.","ATIVO","MATRICULA","SEQUD","CPF","SERVIDOR","RUBRICA","VALOR ","MT36104",0,"818.304.321-68",999999,17515.37,"JULIANA SANCHEZ DE ABREU"]
["MT15403","JULIO CESAR BACELAR DA SILVA","661.662.257-68","FOLHA DE PAGAMENTO","2020-01-01","TRF1 - Folha Ordinária - Janeiro/2020 - Base :TRF1.","ATIVO","MATRICULA","SEQUD","CPF","SERVIDOR","RUBRICA","VALOR ","MT15403",0,"661.662.257-68",999999,31139.97,"JULIO CESAR BACELAR DA SILVA"]
["MT28503","LUCELIA LEITE DA SILVA","415.582.271-72","FOLHA DE PAGAMENTO","2020-01-01","TRF1 - Folha Ordinária - Janeiro/2020 - Base :TRF1.","ATIVO","MATRICULA","SEQUD","CPF","SERVIDOR","RUBRICA","VALOR ","MT28503",0,"415.582.271-72",999999,23894.28,"LUCELIA LEITE DA SILVA"]
["MT24303","JULLIANO SILVA CONCEICAO","569.180.461-87","FOLHA DE PAGAMENTO","2020-01-01","TRF1 - Folha Ordinária - Janeiro/2020 - Base :TRF1.","ATIVO","MATRICULA","SEQUD","CPF","SERVIDOR","RUBRICA","VALOR ","MT24303",0,"569.180.461-87",999999,15112.87,"JULLIANO SILVA CONCEICAO"]
["MT24203","JUNIA PATRICIA DIAS DA SILVA","802.651.111-53","FOLHA DE PAGAMENTO","2020-01-01","TRF1 - Folha Ordinária - Janeiro/2020 - Base :TRF1.","ATIVO","MATRICULA","SEQUD","CPF","SERVIDOR","RUBRICA","VALOR ","MT24203",0,"802.651.111-53",999999,13960.34,"JUNIA PATRICIA DIAS DA SILVA"]
["MT36200","JURACI PEREIRA SOTERO","551.132.811-15","FOLHA DE PAGAMENTO","2020-01-01","TRF1 - Folha Ordinária - Janeiro/2020 - Base :TRF1.","ATIVO","MATRICULA","SEQUD","CPF","SERVIDOR","RUBRICA","VALOR ","MT36200",0,"551.132.811-15",999999,12840.81,"JURACI PEREIRA SOTERO"]
["JU769","KAREN REGINA OKUBARA","024.236.621-06","FOLHA DE PAGAMENTO","2020-01-01","TRF1 - Folha Ordinária - Janeiro/2020 - Base :TRF1.","ATIVO","MATRICULA","SEQUD","CPF","SERVIDOR","RUBRICA","VALOR ","JU769",0,"024.236.621-06",999999,38498.29,"KAREN REGINA OKUBARA"]
["MT36450","KARINA BOARIM RODRIGUES","036.156.221-70","FOLHA DE PAGAMENTO","2020-01-01","TRF1 - Folha Ordinária - Janeiro/2020 - Base :TRF1.","ATIVO","MATRICULA","SEQUD","CPF","SERVIDOR","RUBRICA","VALOR ","MT36450",0,"036.156.221-70",999999,12132.16,"KARINA BOARIM RODRIGUES"]
["MT36340","KAROLINE DIAS DA SILVA TURBINO","010.675.691-54","FOLHA DE PAGAMENTO","2020-01-01","TRF1 - Folha Ordinária - Janeiro/2020 - Base :TRF1.","ATIVO","MATRICULA","SEQUD","CPF","SERVIDOR","RUBRICA","VALOR ","MT36340",0,"010.675.691-54",999999,23839.08,"KAROLINE DIAS DA SILVA TURBINO"]
["MT11303","KATHIA MARIA CABRAL CHAVES DE OLIVEIRA","256.912.601-20","FOLHA DE PAGAMENTO","2020-01-01","TRF1 - Folha Ordinária - Janeiro/2020 - Base :TRF1.","ATIVO","MATRICULA","SEQUD","CPF","SERVIDOR","RUBRICA","VALOR ","MT11303",0,"256.912.601-20",999999,11392.76,"KATHIA MARIA CABRAL CHAVES DE OLIVEIRA"]
["MT6703","KEILA GOMES LEANHOS","621.866.801-06","FOLHA DE PAGAMENTO","2020-01-01","TRF1 - Folha Ordinária - Janeiro/2020 - Base :TRF1.","ATIVO","MATRICULA","SEQUD","CPF","SERVIDOR","RUBRICA","VALOR ","MT6703",0,"621.866.801-06",999999,15790.91,"KEILA GOMES LEANHOS"]
[{"$f":"N262","v":"MT36481"},{"$f":"S262","v":"KELLISON BEZERRA DE LIMA"},{"$f":"P262","v":"056.969.894-46"},"FOLHA DE PAGAMENTO","2020-01-01","TRF1 - Folha Ordinária - Janeiro/2020 - Base :TRF1.","ATIVO","MATRICULA","SEQUD","CPF","SERVIDOR","RUBRICA","VALOR ","MT36481",0,"056.969.894-46",999999,17737.22,"KELLISON BEZERRA DE LIMA"]
["MT36071","KELLY LISSONI RUEDIGER","930.676.741-20","FOLHA DE PAGAMENTO","2020-01-01","TRF1 - Folha Ordinária - Janeiro/2020 - Base :TRF1.","ATIVO","MATRICULA","SEQUD","CPF","SERVIDOR","RUBRICA","VALOR ","MT36071",0,"930.676.741-20",999999,22104.9,"KELLY LISSONI RUEDIGER"]
["MT36188","LAOR ANTONIO DE CARVALHO PONTES GESTAL JUNIOR","080.825.278-03","FOLHA DE PAGAMENTO","2020-01-01","TRF1 - Folha Ordinária - Janeiro/2020 - Base :TRF1.","ATIVO","MATRICULA","SEQUD","CPF","SERVIDOR","RUBRICA","VALOR ","MT36188",0,"080.825.278-03",999999,20449.560000000001,"LAOR ANTONIO DE CARVALHO PONTES GESTAL JUNIOR"]
["MT36020","LARISSA FERRAZ DE CAMPOS GARCIA SANTANA","006.666.151-01","FOLHA DE PAGAMENTO","2020-01-01","TRF1 - Folha Ordinária - Janeiro/2020 - Base :TRF1.","ATIVO","MATRICULA","SEQUD","CPF","SERVIDOR","RUBRICA","VALOR ","MT36020",0,"006.666.151-01",999999,25043.1,"LARISSA FERRAZ DE CAMPOS GARCIA SANTANA"]
["MT36363","LAURA FRAGA E SILVA","046.505.881-70","FOLHA DE PAGAMENTO","2020-01-01","TRF1 - Folha Ordinária - Janeiro/2020 - Base :TRF1.","ATIVO","MATRICULA","SEQUD","CPF","SERVIDOR","RUBRICA","VALOR ","MT36363",0,"046.505.881-70",999999,13750.62,"LAURA FRAGA E SILVA"]
["MT22003","LAURA MORAES DE PAULA","535.573.101-59","FOLHA DE PAGAMENTO","2020-01-01","TRF1 - Folha Ordinária - Janeiro/2020 - Base :TRF1.","ATIVO","MATRICULA","SEQUD","CPF","SERVIDOR","RUBRICA","VALOR ","MT22003",0,"535.573.101-59",999999,12709.98,"LAURA MORAES DE PAULA"]
["MT36389","LEANDRO DE FIGUEIREDO SANTOS BARBOSA","039.735.381-23","FOLHA DE PAGAMENTO","2020-01-01","TRF1 - Folha Ordinária - Janeiro/2020 - Base :TRF1.","ATIVO","MATRICULA","SEQUD","CPF","SERVIDOR","RUBRICA","VALOR ","MT36389",0,"039.735.381-23",999999,19851.849999999999,"LEANDRO DE FIGUEIREDO SANTOS BARBOSA"]
["MT36069","LEANDRO RIBEIRO FORTUNA","960.170.661-53","FOLHA DE PAGAMENTO","2020-01-01","TRF1 - Folha Ordinária - Janeiro/2020 - Base :TRF1.","ATIVO","MATRICULA","SEQUD","CPF","SERVIDOR","RUBRICA","VALOR ","MT36069",0,"960.170.661-53",999999,15511.52,"LEANDRO RIBEIRO FORTUNA"]
["MT36083","LEONARDO VOLPATO PAZIN","002.105.501-71","FOLHA DE PAGAMENTO","2020-01-01","TRF1 - Folha Ordinária - Janeiro/2020 - Base :TRF1.","ATIVO","MATRICULA","SEQUD","CPF","SERVIDOR","RUBRICA","VALOR ","MT36083",0,"002.105.501-71",999999,26545.33,"LEONARDO VOLPATO PAZIN"]
["MT36483","LETICIA DE PAULA BATISTA MOREIRA","025.751.256-00","FOLHA DE PAGAMENTO","2020-01-01","TRF1 - Folha Ordinária - Janeiro/2020 - Base :TRF1.","ATIVO","MATRICULA","SEQUD","CPF","SERVIDOR","RUBRICA","VALOR ","MT36483",0,"025.751.256-00",999999,14700.99,"LETICIA DE PAULA BATISTA MOREIRA"]
["MT36193","LETICIA VASCONCELOS DE CARVALHO","024.848.721-35","FOLHA DE PAGAMENTO","2020-01-01","TRF1 - Folha Ordinária - Janeiro/2020 - Base :TRF1.","ATIVO","MATRICULA","SEQUD","CPF","SERVIDOR","RUBRICA","VALOR ","MT36193",0,"024.848.721-35",999999,22270.36,"LETICIA VASCONCELOS DE CARVALHO"]
["MT36112","LETICIA YOKO TADANO","616.245.431-20","FOLHA DE PAGAMENTO","2020-01-01","TRF1 - Folha Ordinária - Janeiro/2020 - Base :TRF1.","ATIVO","MATRICULA","SEQUD","CPF","SERVIDOR","RUBRICA","VALOR ","MT36112",0,"616.245.431-20",999999,16001.37,"LETICIA YOKO TADANO"]
["MT29803","LIBERMAN LOPES SILVA","345.712.301-25","FOLHA DE PAGAMENTO","2020-01-01","TRF1 - Folha Ordinária - Janeiro/2020 - Base :TRF1.","ATIVO","MATRICULA","SEQUD","CPF","SERVIDOR","RUBRICA","VALOR ","MT29803",0,"345.712.301-25",999999,13840.66,"LIBERMAN LOPES SILVA"]
["MT36133","LIDIA CRISTINA LOPES BELEM","703.260.961-91","FOLHA DE PAGAMENTO","2020-01-01","TRF1 - Folha Ordinária - Janeiro/2020 - Base :TRF1.","ATIVO","MATRICULA","SEQUD","CPF","SERVIDOR","RUBRICA","VALOR ","MT36133",0,"703.260.961-91",999999,24045.1,"LIDIA CRISTINA LOPES BELEM"]
["MT36075","LIGIA MACIEL DA FONSECA MOURA","869.719.641-87","FOLHA DE PAGAMENTO","2020-01-01","TRF1 - Folha Ordinária - Janeiro/2020 - Base :TRF1.","ATIVO","MATRICULA","SEQUD","CPF","SERVIDOR","RUBRICA","VALOR ","MT36075",0,"869.719.641-87",999999,16134.77,"LIGIA MACIEL DA FONSECA MOURA"]
["MT36319","LIGIA MARTINES MELLO","017.622.121-29","FOLHA DE PAGAMENTO","2020-01-01","TRF1 - Folha Ordinária - Janeiro/2020 - Base :TRF1.","ATIVO","MATRICULA","SEQUD","CPF","SERVIDOR","RUBRICA","VALOR ","MT36319",0,"017.622.121-29",999999,21072.080000000002,"LIGIA MARTINES MELLO"]
["MT36159","LINDOMAR CORREA DE OLIVEIRA","689.316.031-34","FOLHA DE PAGAMENTO","2020-01-01","TRF1 - Folha Ordinária - Janeiro/2020 - Base :TRF1.","ATIVO","MATRICULA","SEQUD","CPF","SERVIDOR","RUBRICA","VALOR ","MT36159",0,"689.316.031-34",999999,16031.06,"LINDOMAR CORREA DE OLIVEIRA"]
["MT27803","LINDOVAL LANDES DA SILVA","615.467.711-15","FOLHA DE PAGAMENTO","2020-01-01","TRF1 - Folha Ordinária - Janeiro/2020 - Base :TRF1.","ATIVO","MATRICULA","SEQUD","CPF","SERVIDOR","RUBRICA","VALOR ","MT27803",0,"615.467.711-15",999999,11688.2,"LINDOVAL LANDES DA SILVA"]
["MT27703","LISSANDRO MACEDO DE OLIVEIRA","655.647.231-04","FOLHA DE PAGAMENTO","2020-01-01","TRF1 - Folha Ordinária - Janeiro/2020 - Base :TRF1.","ATIVO","MATRICULA","SEQUD","CPF","SERVIDOR","RUBRICA","VALOR ","MT27703",0,"655.647.231-04",999999,29214.240000000002,"LISSANDRO MACEDO DE OLIVEIRA"]
["MT36139","LOANI BANDIERA TORRES","940.804.291-34","FOLHA DE PAGAMENTO","2020-01-01","TRF1 - Folha Ordinária - Janeiro/2020 - Base :TRF1.","ATIVO","MATRICULA","SEQUD","CPF","SERVIDOR","RUBRICA","VALOR ","MT36139",0,"940.804.291-34",999999,15011.91,"LOANI BANDIERA TORRES"]
["MT36347","LOISE TALITA BORCHARDT BELFORT","969.471.440-00","FOLHA DE PAGAMENTO","2020-01-01","TRF1 - Folha Ordinária - Janeiro/2020 - Base :TRF1.","ATIVO","MATRICULA","SEQUD","CPF","SERVIDOR","RUBRICA","VALOR ","MT36347",0,"969.471.440-00",999999,11478.23,"LOISE TALITA BORCHARDT BELFORT"]
["MT36226","LORA DE SA RAMPAZZO MAFIOLETI","801.943.111-04","FOLHA DE PAGAMENTO","2020-01-01","TRF1 - Folha Ordinária - Janeiro/2020 - Base :TRF1.","ATIVO","MATRICULA","SEQUD","CPF","SERVIDOR","RUBRICA","VALOR ","MT36226",0,"801.943.111-04",999999,20599.490000000002,"LORA DE SA RAMPAZZO MAFIOLETI"]
["MT29903","MARIA CECILIA SILVA DA COSTA CUSTODIO","580.947.171-49","FOLHA DE PAGAMENTO","2020-01-01","TRF1 - Folha Ordinária - Janeiro/2020 - Base :TRF1.","ATIVO","MATRICULA","SEQUD","CPF","SERVIDOR","RUBRICA","VALOR ","MT29903",0,"580.947.171-49",999999,23883.9,"MARIA CECILIA SILVA DA COSTA CUSTODIO"]
["MT28503","LUCELIA LEITE DA SILVA","415.582.271-72","FOLHA DE PAGAMENTO","2020-01-01","TRF1 - Folha Ordinária - Janeiro/2020 - Base :TRF1.","ATIVO","MATRICULA","SEQUD","CPF","SERVIDOR","RUBRICA","VALOR ","MT28503",0,"415.582.271-72",999999,23894.28,"LUCELIA LEITE DA SILVA"]
["MT10203","LUCI FUJIE UCHIYAMA","078.485.868-39","FOLHA DE PAGAMENTO","2020-01-01","TRF1 - Folha Ordinária - Janeiro/2020 - Base :TRF1.","ATIVO","MATRICULA","SEQUD","CPF","SERVIDOR","RUBRICA","VALOR ","MT10203",0,"078.485.868-39",999999,17961.88,"LUCI FUJIE UCHIYAMA"]
["MT36017","LUCIANA DE DEUS AMORIM","819.781.461-91","FOLHA DE PAGAMENTO","2020-01-01","TRF1 - Folha Ordinária - Janeiro/2020 - Base :TRF1.","ATIVO","MATRICULA","SEQUD","CPF","SERVIDOR","RUBRICA","VALOR ","MT36017",0,"819.781.461-91",999999,26016.28,"LUCIANA DE DEUS AMORIM"]
["MT31003","LUCIANA GARCIA DE MATTOS CAMARGOS","695.885.971-53","FOLHA DE PAGAMENTO","2020-01-01","TRF1 - Folha Ordinária - Janeiro/2020 - Base :TRF1.","ATIVO","MATRICULA","SEQUD","CPF","SERVIDOR","RUBRICA","VALOR ","MT31003",0,"695.885.971-53",999999,17352.400000000001,"LUCIANA GARCIA DE MATTOS CAMARGOS"]
["MT30603","LUCIANA PATRICIA BEZERRA DE MESQUITA BOMFIM","936.768.911-04","FOLHA DE PAGAMENTO","2020-01-01","TRF1 - Folha Ordinária - Janeiro/2020 - Base :TRF1.","ATIVO","MATRICULA","SEQUD","CPF","SERVIDOR","RUBRICA","VALOR ","MT30603",0,"936.768.911-04",999999,17206.79,"LUCIANA PATRICIA BEZERRA DE MESQUITA BOMFIM"]
["MT36380","LUCIANE FIGUEIREDO SANCHES REBELLO","841.741.451-72","FOLHA DE PAGAMENTO","2020-01-01","TRF1 - Folha Ordinária - Janeiro/2020 - Base :TRF1.","ATIVO","MATRICULA","SEQUD","CPF","SERVIDOR","RUBRICA","VALOR ","MT36380",0,"841.741.451-72",999999,12473.09,"LUCIANE FIGUEIREDO SANCHES REBELLO"]
["MT36460","LUCIANO LACERDA NUNES","535.171.301-25","FOLHA DE PAGAMENTO","2020-01-01","TRF1 - Folha Ordinária - Janeiro/2020 - Base :TRF1.","ATIVO","MATRICULA","SEQUD","CPF","SERVIDOR","RUBRICA","VALOR ","MT36460",0,"535.171.301-25",999999,9848.7900000000009,"LUCIANO LACERDA NUNES"]
["MT26703","LUDMILA BEATRIZ OLIVEIRA VIDAL ALCANTARA MORENO","668.044.261-34","FOLHA DE PAGAMENTO","2020-01-01","TRF1 - Folha Ordinária - Janeiro/2020 - Base :TRF1.","ATIVO","MATRICULA","SEQUD","CPF","SERVIDOR","RUBRICA","VALOR ","MT26703",0,"668.044.261-34",999999,23532.06,"LUDMILA BEATRIZ OLIVEIRA VIDAL ALCANTARA MORENO"]
["MT36298","LUDMILA MARCATO MIRANDA","055.664.889-78","FOLHA DE PAGAMENTO","2020-01-01","TRF1 - Folha Ordinária - Janeiro/2020 - Base :TRF1.","ATIVO","MATRICULA","SEQUD","CPF","SERVIDOR","RUBRICA","VALOR ","MT36298",0,"055.664.889-78",999999,18760.86,"LUDMILA MARCATO MIRANDA"]
["MT36215","LUDMILLA BENTO SANTANA","001.285.511-19","FOLHA DE PAGAMENTO","2020-01-01","TRF1 - Folha Ordinária - Janeiro/2020 - Base :TRF1.","ATIVO","MATRICULA","SEQUD","CPF","SERVIDOR","RUBRICA","VALOR ","MT36215",0,"001.285.511-19",999999,12546.35,"LUDMILLA BENTO SANTANA"]
["MT36162","LUIZ CASTANHA","688.605.019-20","FOLHA DE PAGAMENTO","2020-01-01","TRF1 - Folha Ordinária - Janeiro/2020 - Base :TRF1.","ATIVO","MATRICULA","SEQUD","CPF","SERVIDOR","RUBRICA","VALOR ","MT36162",0,"688.605.019-20",999999,15490.9,"LUIZ CASTANHA"]
["MT36361","LUIZ GABRIEL MENDES DA SILVA","011.105.052-99","FOLHA DE PAGAMENTO","2020-01-01","TRF1 - Folha Ordinária - Janeiro/2020 - Base :TRF1.","ATIVO","MATRICULA","SEQUD","CPF","SERVIDOR","RUBRICA","VALOR ","MT36361",0,"011.105.052-99",999999,10134.14,"LUIZ GABRIEL MENDES DA SILVA"]
["MT36144","LUIZ MARCOS FERREIRA DA ROSA","536.008.517-72","FOLHA DE PAGAMENTO","2020-01-01","TRF1 - Folha Ordinária - Janeiro/2020 - Base :TRF1.","ATIVO","MATRICULA","SEQUD","CPF","SERVIDOR","RUBRICA","VALOR ","MT36144",0,"536.008.517-72",999999,17187.2,"LUIZ MARCOS FERREIRA DA ROSA"]
["MT36268","LUIZ RICARDO SOPHIA DORADO","024.938.441-81","FOLHA DE PAGAMENTO","2020-01-01","TRF1 - Folha Ordinária - Janeiro/2020 - Base :TRF1.","ATIVO","MATRICULA","SEQUD","CPF","SERVIDOR","RUBRICA","VALOR ","MT36268",0,"024.938.441-81",999999,21775.05,"LUIZ RICARDO SOPHIA DORADO"]
["MT10803","LUZIA MITIKO NAGAMACHI","399.034.431-53","FOLHA DE PAGAMENTO","2020-01-01","TRF1 - Folha Ordinária - Janeiro/2020 - Base :TRF1.","ATIVO","MATRICULA","SEQUD","CPF","SERVIDOR","RUBRICA","VALOR ","MT10803",0,"399.034.431-53",999999,21825.86,"LUZIA MITIKO NAGAMACHI"]
["MT32403","LUZIA TEODORO DE MELO","458.461.971-91","FOLHA DE PAGAMENTO","2020-01-01","TRF1 - Folha Ordinária - Janeiro/2020 - Base :TRF1.","ATIVO","MATRICULA","SEQUD","CPF","SERVIDOR","RUBRICA","VALOR ","MT32403",0,"458.461.971-91",999999,16054.03,"LUZIA TEODORO DE MELO"]
["MT36351","LYZANDRA PIMENTA PIZZATTO","022.835.531-13","FOLHA DE PAGAMENTO","2020-01-01","TRF1 - Folha Ordinária - Janeiro/2020 - Base :TRF1.","ATIVO","MATRICULA","SEQUD","CPF","SERVIDOR","RUBRICA","VALOR ","MT36351",0,"022.835.531-13",999999,12891.03,"LYZANDRA PIMENTA PIZZATTO"]
["MT36348","MAIRSON VIEIRA BARROS","383.966.451-91","FOLHA DE PAGAMENTO","2020-01-01","TRF1 - Folha Ordinária - Janeiro/2020 - Base :TRF1.","ATIVO","MATRICULA","SEQUD","CPF","SERVIDOR","RUBRICA","VALOR ","MT36348",0,"383.966.451-91",999999,16663.2,"MAIRSON VIEIRA BARROS"]
["MT36464","MANA ALVES PIRES DE LACERDA","723.087.101-87","FOLHA DE PAGAMENTO","2020-01-01","TRF1 - Folha Ordinária - Janeiro/2020 - Base :TRF1.","ATIVO","MATRICULA","SEQUD","CPF","SERVIDOR","RUBRICA","VALOR ","MT36464",0,"723.087.101-87",999999,12768.79,"MANA ALVES PIRES DE LACERDA"]
["JU573","MARCEL QUEIROZ LINHARES","003.993.389-00","FOLHA DE PAGAMENTO","2020-01-01","TRF1 - Folha Ordinária - Janeiro/2020 - Base :TRF1.","ATIVO","MATRICULA","SEQUD","CPF","SERVIDOR","RUBRICA","VALOR ","JU573",0,"003.993.389-00",999999,39541.79,"MARCEL QUEIROZ LINHARES"]
["MT36420","MARCELO FRAZAO DE MORAES","029.251.691-63","FOLHA DE PAGAMENTO","2020-01-01","TRF1 - Folha Ordinária - Janeiro/2020 - Base :TRF1.","ATIVO","MATRICULA","SEQUD","CPF","SERVIDOR","RUBRICA","VALOR ","MT36420",0,"029.251.691-63",999999,12507.6,"MARCELO FRAZAO DE MORAES"]
["MT36027","MARCELO LAET DO NASCIMENTO","003.794.611-02","FOLHA DE PAGAMENTO","2020-01-01","TRF1 - Folha Ordinária - Janeiro/2020 - Base :TRF1.","ATIVO","MATRICULA","SEQUD","CPF","SERVIDOR","RUBRICA","VALOR ","MT36027",0,"003.794.611-02",999999,17264.439999999999,"MARCELO LAET DO NASCIMENTO"]
["MT36357","MARCELO MACEDO CASTRO","795.331.751-68","FOLHA DE PAGAMENTO","2020-01-01","TRF1 - Folha Ordinária - Janeiro/2020 - Base :TRF1.","ATIVO","MATRICULA","SEQUD","CPF","SERVIDOR","RUBRICA","VALOR ","MT36357",0,"795.331.751-68",999999,4841.62,"MARCELO MACEDO CASTRO"]
["MT36423","MARCIA APARECIDA DE OLIVEIRA","429.686.821-72","FOLHA DE PAGAMENTO","2020-01-01","TRF1 - Folha Ordinária - Janeiro/2020 - Base :TRF1.","ATIVO","MATRICULA","SEQUD","CPF","SERVIDOR","RUBRICA","VALOR ","MT36423",0,"429.686.821-72",999999,4234.0200000000004,"MARCIA APARECIDA DE OLIVEIRA"]
["MT17903","MARCIA MIDORI SAITO","629.465.361-49","FOLHA DE PAGAMENTO","2020-01-01","TRF1 - Folha Ordinária - Janeiro/2020 - Base :TRF1.","ATIVO","MATRICULA","SEQUD","CPF","SERVIDOR","RUBRICA","VALOR ","MT17903",0,"629.465.361-49",999999,18611.71,"MARCIA MIDORI SAITO"]
["MT36194","MARCIA REGINA RODRIGUES TORTATO","894.044.409-49","FOLHA DE PAGAMENTO","2020-01-01","TRF1 - Folha Ordinária - Janeiro/2020 - Base :TRF1.","ATIVO","MATRICULA","SEQUD","CPF","SERVIDOR","RUBRICA","VALOR ","MT36194",0,"894.044.409-49",999999,22677.93,"MARCIA REGINA RODRIGUES TORTATO"]
["MT36120","MARCILENE MARINA DE JORGI","709.555.221-53","FOLHA DE PAGAMENTO","2020-01-01","TRF1 - Folha Ordinária - Janeiro/2020 - Base :TRF1.","ATIVO","MATRICULA","SEQUD","CPF","SERVIDOR","RUBRICA","VALOR ","MT36120",0,"709.555.221-53",999999,16386.53,"MARCILENE MARINA DE JORGI"]
["MT36371","MARCONDES NONATO BENTO DA SILVA","572.234.322-68","FOLHA DE PAGAMENTO","2020-01-01","TRF1 - Folha Ordinária - Janeiro/2020 - Base :TRF1.","ATIVO","MATRICULA","SEQUD","CPF","SERVIDOR","RUBRICA","VALOR ","MT36371",0,"572.234.322-68",999999,7090.75,"MARCONDES NONATO BENTO DA SILVA"]
["MT36378","MARCOS ANTONIO BERNARDI","047.497.339-54","FOLHA DE PAGAMENTO","2020-01-01","TRF1 - Folha Ordinária - Janeiro/2020 - Base :TRF1.","ATIVO","MATRICULA","SEQUD","CPF","SERVIDOR","RUBRICA","VALOR ","MT36378",0,"047.497.339-54",999999,14809.24,"MARCOS ANTONIO BERNARDI"]
["MT16603","MARCOS PEREIRA DE SA","417.768.524-00","FOLHA DE PAGAMENTO","2020-01-01","TRF1 - Folha Ordinária - Janeiro/2020 - Base :TRF1.","ATIVO","MATRICULA","SEQUD","CPF","SERVIDOR","RUBRICA","VALOR ","MT16603",0,"417.768.524-00",999999,7226.78,"MARCOS PEREIRA DE SA"]
["MT36176","NAGIB BARREIRAS DE SOUZA","006.678.831-50","FOLHA DE PAGAMENTO","2020-01-01","TRF1 - Folha Ordinária - Janeiro/2020 - Base :TRF1.","ATIVO","MATRICULA","SEQUD","CPF","SERVIDOR","RUBRICA","VALOR ","MT36176",0,"006.678.831-50",999999,16763.7,"NAGIB BARREIRAS DE SOUZA"]
["MT29903","MARIA CECILIA SILVA DA COSTA CUSTODIO","580.947.171-49","FOLHA DE PAGAMENTO","2020-01-01","TRF1 - Folha Ordinária - Janeiro/2020 - Base :TRF1.","ATIVO","MATRICULA","SEQUD","CPF","SERVIDOR","RUBRICA","VALOR ","MT29903",0,"580.947.171-49",999999,23883.9,"MARIA CECILIA SILVA DA COSTA CUSTODIO"]
["MT4203","MARIA CLARA SILVA VILELA","396.137.391-49","FOLHA DE PAGAMENTO","2020-01-01","TRF1 - Folha Ordinária - Janeiro/2020 - Base :TRF1.","ATIVO","MATRICULA","SEQUD","CPF","SERVIDOR","RUBRICA","VALOR ","MT4203",0,"396.137.391-49",999999,22564.9,"MARIA CLARA SILVA VILELA"]
["MT30803","MARIA HELENA LATURNER","314.207.101-68","FOLHA DE PAGAMENTO","2020-01-01","TRF1 - Folha Ordinária - Janeiro/2020 - Base :TRF1.","ATIVO","MATRICULA","SEQUD","CPF","SERVIDOR","RUBRICA","VALOR ","MT30803",0,"314.207.101-68",999999,19340.830000000002,"MARIA HELENA LATURNER"]
["MT25103","MARIA LUCIA RIBEIRO VIANA","848.223.091-34","FOLHA DE PAGAMENTO","2020-01-01","TRF1 - Folha Ordinária - Janeiro/2020 - Base :TRF1.","ATIVO","MATRICULA","SEQUD","CPF","SERVIDOR","RUBRICA","VALOR ","MT25103",0,"848.223.091-34",999999,15583.58,"MARIA LUCIA RIBEIRO VIANA"]
["MT7303","MARIA SOLANGE GREIN","359.704.139-68","FOLHA DE PAGAMENTO","2020-01-01","TRF1 - Folha Ordinária - Janeiro/2020 - Base :TRF1.","ATIVO","MATRICULA","SEQUD","CPF","SERVIDOR","RUBRICA","VALOR ","MT7303",0,"359.704.139-68",999999,30451.8,"MARIA SOLANGE GREIN"]
["MT30003","MARIA VILANY REIS ARAUJO","108.488.782-72","FOLHA DE PAGAMENTO","2020-01-01","TRF1 - Folha Ordinária - Janeiro/2020 - Base :TRF1.","ATIVO","MATRICULA","SEQUD","CPF","SERVIDOR","RUBRICA","VALOR ","MT30003",0,"108.488.782-72",999999,13207.02,"MARIA VILANY REIS ARAUJO"]
["MT36113","MARILU ALONSO","908.758.939-53","FOLHA DE PAGAMENTO","2020-01-01","TRF1 - Folha Ordinária - Janeiro/2020 - Base :TRF1.","ATIVO","MATRICULA","SEQUD","CPF","SERVIDOR","RUBRICA","VALOR ","MT36113",0,"908.758.939-53",999999,13519.9,"MARILU ALONSO"]
["MT36304","MARINA DEBORA BARETTA VANONI","725.651.871-49","FOLHA DE PAGAMENTO","2020-01-01","TRF1 - Folha Ordinária - Janeiro/2020 - Base :TRF1.","ATIVO","MATRICULA","SEQUD","CPF","SERVIDOR","RUBRICA","VALOR ","MT36304",0,"725.651.871-49",999999,14458.62,"MARINA DEBORA BARETTA VANONI"]
["MT11403","MARIO CENTORIANO","253.335.770-72","FOLHA DE PAGAMENTO","2020-01-01","TRF1 - Folha Ordinária - Janeiro/2020 - Base :TRF1.","ATIVO","MATRICULA","SEQUD","CPF","SERVIDOR","RUBRICA","VALOR ","MT11403",0,"253.335.770-72",999999,24251.86,"MARIO CENTORIANO"]
["MT17503","MARISA DOS ANJOS FERNANDES","714.240.241-53","FOLHA DE PAGAMENTO","2020-01-01","TRF1 - Folha Ordinária - Janeiro/2020 - Base :TRF1.","ATIVO","MATRICULA","SEQUD","CPF","SERVIDOR","RUBRICA","VALOR ","MT17503",0,"714.240.241-53",999999,15774.9,"MARISA DOS ANJOS FERNANDES"]
[{"$f":"N326","v":"MT36239"},{"$f":"S326","v":"MARIZETH ARRUDA DE ALMEIDA CARAMELLO"},{"$f":"P326","v":"768.956.611-15"},"FOLHA DE PAGAMENTO","2020-01-01","TRF1 - Folha Ordinária - Janeiro/2020 - Base :TRF1.","ATIVO","MATRICULA","SEQUD","CPF","SERVIDOR","RUBRICA","VALOR ","MT36239",0,"768.956.611-15",999999,22753.01,"MARIZETH ARRUDA DE ALMEIDA CARAMELLO"]
["MT36238","MARLON APARECIDO PACHECO","017.625.131-61","FOLHA DE PAGAMENTO","2020-01-01","TRF1 - Folha Ordinária - Janeiro/2020 - Base :TRF1.","ATIVO","MATRICULA","SEQUD","CPF","SERVIDOR","RUBRICA","VALOR ","MT36238",0,"017.625.131-61",999999,14868.95,"MARLON APARECIDO PACHECO"]
["MT27203","MARTA SUKERT MARTINS","502.295.671-34","FOLHA DE PAGAMENTO","2020-01-01","TRF1 - Folha Ordinária - Janeiro/2020 - Base :TRF1.","ATIVO","MATRICULA","SEQUD","CPF","SERVIDOR","RUBRICA","VALOR ","MT27203",0,"502.295.671-34",999999,26399.52,"MARTA SUKERT MARTINS"]
["MT36400","MAURICIO MORAES DE SOUSA","024.671.471-93","FOLHA DE PAGAMENTO","2020-01-01","TRF1 - Folha Ordinária - Janeiro/2020 - Base :TRF1.","ATIVO","MATRICULA","SEQUD","CPF","SERVIDOR","RUBRICA","VALOR ","MT36400",0,"024.671.471-93",999999,18740.759999999998,"MAURICIO MORAES DE SOUSA"]
["JU599","MAURO CESAR GARCIA PATINI","218.594.538-64","FOLHA DE PAGAMENTO","2020-01-01","TRF1 - Folha Ordinária - Janeiro/2020 - Base :TRF1.","ATIVO","MATRICULA","SEQUD","CPF","SERVIDOR","RUBRICA","VALOR ","JU599",0,"218.594.538-64",999999,43066.720000000001,"MAURO CESAR GARCIA PATINI"]
["MT36111","MAURO CESAR TOMAZ","569.751.391-72","FOLHA DE PAGAMENTO","2020-01-01","TRF1 - Folha Ordinária - Janeiro/2020 - Base :TRF1.","ATIVO","MATRICULA","SEQUD","CPF","SERVIDOR","RUBRICA","VALOR ","MT36111",0,"569.751.391-72",999999,10711.14,"MAURO CESAR TOMAZ"]
["MT36477","MAXWELL NEPONOCENO RIBEIRO","033.753.101-37","FOLHA DE PAGAMENTO","2020-01-01","TRF1 - Folha Ordinária - Janeiro/2020 - Base :TRF1.","ATIVO","MATRICULA","SEQUD","CPF","SERVIDOR","RUBRICA","VALOR ","MT36477",0,"033.753.101-37",999999,19785.900000000001,"MAXWELL NEPONOCENO RIBEIRO"]
["MT36459","MAYARA SOUZA HARTUIQ","131.220.337-47","FOLHA DE PAGAMENTO","2020-01-01","TRF1 - Folha Ordinária - Janeiro/2020 - Base :TRF1.","ATIVO","MATRICULA","SEQUD","CPF","SERVIDOR","RUBRICA","VALOR ","MT36459",0,"131.220.337-47",999999,12411.39,"MAYARA SOUZA HARTUIQ"]
["MT36467","MAYRA SANTIAGO GOMES","123.273.087-47","FOLHA DE PAGAMENTO","2020-01-01","TRF1 - Folha Ordinária - Janeiro/2020 - Base :TRF1.","ATIVO","MATRICULA","SEQUD","CPF","SERVIDOR","RUBRICA","VALOR ","MT36467",0,"123.273.087-47",999999,11152.21,"MAYRA SANTIAGO GOMES"]
["MT36236","MICHELLE DE MOURA APOITIA MARTINS CHAVES","003.258.881-08","FOLHA DE PAGAMENTO","2020-01-01","TRF1 - Folha Ordinária - Janeiro/2020 - Base :TRF1.","ATIVO","MATRICULA","SEQUD","CPF","SERVIDOR","RUBRICA","VALOR ","MT36236",0,"003.258.881-08",999999,14410.84,"MICHELLE DE MOURA APOITIA MARTINS CHAVES"]
["MT28603","MIRELLA MARIA MONTEIRO TOSONCIN","482.427.051-00","FOLHA DE PAGAMENTO","2020-01-01","TRF1 - Folha Ordinária - Janeiro/2020 - Base :TRF1.","ATIVO","MATRICULA","SEQUD","CPF","SERVIDOR","RUBRICA","VALOR ","MT28603",0,"482.427.051-00",999999,27449.02,"MIRELLA MARIA MONTEIRO TOSONCIN"]
["MT36203","MISNAI FRANCIELE ROSA","070.252.476-00","FOLHA DE PAGAMENTO","2020-01-01","TRF1 - Folha Ordinária - Janeiro/2020 - Base :TRF1.","ATIVO","MATRICULA","SEQUD","CPF","SERVIDOR","RUBRICA","VALOR ","MT36203",0,"070.252.476-00",999999,21124.95,"MISNAI FRANCIELE ROSA"]
["MT36300","MOISES DE SOUZA BOTELHO","074.181.106-50","FOLHA DE PAGAMENTO","2020-01-01","TRF1 - Folha Ordinária - Janeiro/2020 - Base :TRF1.","ATIVO","MATRICULA","SEQUD","CPF","SERVIDOR","RUBRICA","VALOR ","MT36300",0,"074.181.106-50",999999,12344.08,"MOISES DE SOUZA BOTELHO"]
["MT25703","MOISES ELI DANTAS DE SOUZA","529.014.401-34","FOLHA DE PAGAMENTO","2020-01-01","TRF1 - Folha Ordinária - Janeiro/2020 - Base :TRF1.","ATIVO","MATRICULA","SEQUD","CPF","SERVIDOR","RUBRICA","VALOR ","MT25703",0,"529.014.401-34",999999,25116.61,"MOISES ELI DANTAS DE SOUZA"]
["MT30103","MONICA OLIVEIRA CASTRO PIMENTA","570.979.411-20","FOLHA DE PAGAMENTO","2020-01-01","TRF1 - Folha Ordinária - Janeiro/2020 - Base :TRF1.","ATIVO","MATRICULA","SEQUD","CPF","SERVIDOR","RUBRICA","VALOR ","MT30103",0,"570.979.411-20",999999,18801.86,"MONICA OLIVEIRA CASTRO PIMENTA"]
["JU628","MONIQUE MARTINS SARAIVA","966.161.643-49","FOLHA DE PAGAMENTO","2020-01-01","TRF1 - Folha Ordinária - Janeiro/2020 - Base :TRF1.","ATIVO","MATRICULA","SEQUD","CPF","SERVIDOR","RUBRICA","VALOR ","JU628",0,"966.161.643-49",999999,12225.67,"MONIQUE MARTINS SARAIVA"]
["MT36457","MONIZE ATEYEH ZAROUR","000.724.321-95","FOLHA DE PAGAMENTO","2020-01-01","TRF1 - Folha Ordinária - Janeiro/2020 - Base :TRF1.","ATIVO","MATRICULA","SEQUD","CPF","SERVIDOR","RUBRICA","VALOR ","MT36457",0,"000.724.321-95",999999,13257.91,"MONIZE ATEYEH ZAROUR"]
["MT36205","MURILO JOSE MONTEIRO AMORIM","023.266.301-73","FOLHA DE PAGAMENTO","2020-01-01","TRF1 - Folha Ordinária - Janeiro/2020 - Base :TRF1.","ATIVO","MATRICULA","SEQUD","CPF","SERVIDOR","RUBRICA","VALOR ","MT36205",0,"023.266.301-73",999999,25883.61,"MURILO JOSE MONTEIRO AMORIM"]
["JU444","MURILO MENDES","533.081.909-15","FOLHA DE PAGAMENTO","2020-01-01","TRF1 - Folha Ordinária - Janeiro/2020 - Base :TRF1.","ATIVO","MATRICULA","SEQUD","CPF","SERVIDOR","RUBRICA","VALOR ","JU444",0,"533.081.909-15",999999,38272.57,"MURILO MENDES"]
["MT36366","NADJA NAYRA VIANNY DA COSTA","696.908.201-68","FOLHA DE PAGAMENTO","2020-01-01","TRF1 - Folha Ordinária - Janeiro/2020 - Base :TRF1.","ATIVO","MATRICULA","SEQUD","CPF","SERVIDOR","RUBRICA","VALOR ","MT36366",0,"696.908.201-68",999999,15676.13,"NADJA NAYRA VIANNY DA COSTA"]
["MT36068","RAQUEL MOLOSSI ESCHER","503.960.481-53","FOLHA DE PAGAMENTO","2020-01-01","TRF1 - Folha Ordinária - Janeiro/2020 - Base :TRF1.","ATIVO","MATRICULA","SEQUD","CPF","SERVIDOR","RUBRICA","VALOR ","MT36068",0,"503.960.481-53",999999,15977.06,"RAQUEL MOLOSSI ESCHER"]
["MT36176","NAGIB BARREIRAS DE SOUZA","006.678.831-50","FOLHA DE PAGAMENTO","2020-01-01","TRF1 - Folha Ordinária - Janeiro/2020 - Base :TRF1.","ATIVO","MATRICULA","SEQUD","CPF","SERVIDOR","RUBRICA","VALOR ","MT36176",0,"006.678.831-50",999999,16763.7,"NAGIB BARREIRAS DE SOUZA"]
["MT36125","NARA CAROLINA CARNEIRO FEIJO SOUSA","006.607.783-43","FOLHA DE PAGAMENTO","2020-01-01","TRF1 - Folha Ordinária - Janeiro/2020 - Base :TRF1.","ATIVO","MATRICULA","SEQUD","CPF","SERVIDOR","RUBRICA","VALOR ","MT36125",0,"006.607.783-43",999999,13851.95,"NARA CAROLINA CARNEIRO FEIJO SOUSA"]
["MT36245","NATALIA HELENA DE CAMPOS COUTINHO","036.258.221-13","FOLHA DE PAGAMENTO","2020-01-01","TRF1 - Folha Ordinária - Janeiro/2020 - Base :TRF1.","ATIVO","MATRICULA","SEQUD","CPF","SERVIDOR","RUBRICA","VALOR ","MT36245",0,"036.258.221-13",999999,14222.43,"NATALIA HELENA DE CAMPOS COUTINHO"]
["MT36413","NATASHA CRISTINA HENRIQUE DE AGUIAR","987.813.672-87","FOLHA DE PAGAMENTO","2020-01-01","TRF1 - Folha Ordinária - Janeiro/2020 - Base :TRF1.","ATIVO","MATRICULA","SEQUD","CPF","SERVIDOR","RUBRICA","VALOR ","MT36413",0,"987.813.672-87",999999,12444.91,"NATASHA CRISTINA HENRIQUE DE AGUIAR"]
["MT18503","NERZI DIAS PINA","458.789.431-15","FOLHA DE PAGAMENTO","2020-01-01","TRF1 - Folha Ordinária - Janeiro/2020 - Base :TRF1.","ATIVO","MATRICULA","SEQUD","CPF","SERVIDOR","RUBRICA","VALOR ","MT18503",0,"458.789.431-15",999999,17091.349999999999,"NERZI DIAS PINA"]
["MT17603","NEUZA ACOSTA CAMARGOS","327.495.201-00","FOLHA DE PAGAMENTO","2020-01-01","TRF1 - Folha Ordinária - Janeiro/2020 - Base :TRF1.","ATIVO","MATRICULA","SEQUD","CPF","SERVIDOR","RUBRICA","VALOR ","MT17603",0,"327.495.201-00",999999,13759.56,"NEUZA ACOSTA CAMARGOS"]
["MT36079","OSIAS PEREIRA DA MOTA","067.488.018-85","FOLHA DE PAGAMENTO","2020-01-01","TRF1 - Folha Ordinária - Janeiro/2020 - Base :TRF1.","ATIVO","MATRICULA","SEQUD","CPF","SERVIDOR","RUBRICA","VALOR ","MT36079",0,"067.488.018-85",999999,11812.39,"OSIAS PEREIRA DA MOTA"]
["MT21903","OTILIA FERNANDES ALENCASTRO","582.028.381-34","FOLHA DE PAGAMENTO","2020-01-01","TRF1 - Folha Ordinária - Janeiro/2020 - Base :TRF1.","ATIVO","MATRICULA","SEQUD","CPF","SERVIDOR","RUBRICA","VALOR ","MT21903",0,"582.028.381-34",999999,15087.72,"OTILIA FERNANDES ALENCASTRO"]
["MT35503","OZAIR ALVES DA SILVA JUNIOR","619.794.906-78","FOLHA DE PAGAMENTO","2020-01-01","TRF1 - Folha Ordinária - Janeiro/2020 - Base :TRF1.","ATIVO","MATRICULA","SEQUD","CPF","SERVIDOR","RUBRICA","VALOR ","MT35503",0,"619.794.906-78",999999,27406.78,"OZAIR ALVES DA SILVA JUNIOR"]
["MT36339","PATRICIA MENDES DA SILVA CARVALHO","007.622.121-01","FOLHA DE PAGAMENTO","2020-01-01","TRF1 - Folha Ordinária - Janeiro/2020 - Base :TRF1.","ATIVO","MATRICULA","SEQUD","CPF","SERVIDOR","RUBRICA","VALOR ","MT36339",0,"007.622.121-01",999999,21958.03,"PATRICIA MENDES DA SILVA CARVALHO"]
["MT36077","PATRICIA MENEZES TAVARES","770.137.513-91","FOLHA DE PAGAMENTO","2020-01-01","TRF1 - Folha Ordinária - Janeiro/2020 - Base :TRF1.","ATIVO","MATRICULA","SEQUD","CPF","SERVIDOR","RUBRICA","VALOR ","MT36077",0,"770.137.513-91",999999,14536.59,"PATRICIA MENEZES TAVARES"]
["MT5503","PATRICIA NARCISO DE REZENDE","613.947.261-04","FOLHA DE PAGAMENTO","2020-01-01","TRF1 - Folha Ordinária - Janeiro/2020 - Base :TRF1.","ATIVO","MATRICULA","SEQUD","CPF","SERVIDOR","RUBRICA","VALOR ","MT5503",0,"613.947.261-04",999999,31267.55,"PATRICIA NARCISO DE REZENDE"]
["MT36328","PATRICIA VELHO DOS SANTOS HOLSBACH","916.792.650-91","FOLHA DE PAGAMENTO","2020-01-01","TRF1 - Folha Ordinária - Janeiro/2020 - Base :TRF1.","ATIVO","MATRICULA","SEQUD","CPF","SERVIDOR","RUBRICA","VALOR ","MT36328",0,"916.792.650-91",999999,23690.36,"PATRICIA VELHO DOS SANTOS HOLSBACH"]
["MT36030","PAULA DE QUEIROZ RIBEIRO CUNHA","992.915.681-04","FOLHA DE PAGAMENTO","2020-01-01","TRF1 - Folha Ordinária - Janeiro/2020 - Base :TRF1.","ATIVO","MATRICULA","SEQUD","CPF","SERVIDOR","RUBRICA","VALOR ","MT36030",0,"992.915.681-04",999999,18796.18,"PAULA DE QUEIROZ RIBEIRO CUNHA"]
["MT36072","PAULA REGINA CARDOSO REZENDE SELEM","053.271.959-02","FOLHA DE PAGAMENTO","2020-01-01","TRF1 - Folha Ordinária - Janeiro/2020 - Base :TRF1.","ATIVO","MATRICULA","SEQUD","CPF","SERVIDOR","RUBRICA","VALOR ","MT36072",0,"053.271.959-02",999999,10942.95,"PAULA REGINA CARDOSO REZENDE SELEM"]
["MT36461","PAULO CESAR RIBEIRO DE ARAUJO","009.084.001-10","FOLHA DE PAGAMENTO","2020-01-01","TRF1 - Folha Ordinária - Janeiro/2020 - Base :TRF1.","ATIVO","MATRICULA","SEQUD","CPF","SERVIDOR","RUBRICA","VALOR ","MT36461",0,"009.084.001-10",999999,2687.66,"PAULO CESAR RIBEIRO DE ARAUJO"]
["JU235","PAULO CEZAR ALVES SODRE","396.316.561-87","FOLHA DE PAGAMENTO","2020-01-01","TRF1 - Folha Ordinária - Janeiro/2020 - Base :TRF1.","ATIVO","MATRICULA","SEQUD","CPF","SERVIDOR","RUBRICA","VALOR ","JU235",0,"396.316.561-87",999999,37971.15,"PAULO CEZAR ALVES SODRE"]
["MT36067","PAULO EDUARDO ESCHER","374.225.610-68","FOLHA DE PAGAMENTO","2020-01-01","TRF1 - Folha Ordinária - Janeiro/2020 - Base :TRF1.","ATIVO","MATRICULA","SEQUD","CPF","SERVIDOR","RUBRICA","VALOR ","MT36067",0,"374.225.610-68",999999,10420.870000000001,"PAULO EDUARDO ESCHER"]
["MT36453","PAULO MARCELO RUIZ","039.957.679-74","FOLHA DE PAGAMENTO","2020-01-01","TRF1 - Folha Ordinária - Janeiro/2020 - Base :TRF1.","ATIVO","MATRICULA","SEQUD","CPF","SERVIDOR","RUBRICA","VALOR ","MT36453",0,"039.957.679-74",999999,9290.39,"PAULO MARCELO RUIZ"]
["MT36202","PAULO ROBERTO BREUNIG","424.299.351-04","FOLHA DE PAGAMENTO","2020-01-01","TRF1 - Folha Ordinária - Janeiro/2020 - Base :TRF1.","ATIVO","MATRICULA","SEQUD","CPF","SERVIDOR","RUBRICA","VALOR ","MT36202",0,"424.299.351-04",999999,8639.5499999999993,"PAULO ROBERTO BREUNIG"]
["MT5603","PAULO SERGIO DE JESUS SILVA","460.914.671-15","FOLHA DE PAGAMENTO","2020-01-01","TRF1 - Folha Ordinária - Janeiro/2020 - Base :TRF1.","ATIVO","MATRICULA","SEQUD","CPF","SERVIDOR","RUBRICA","VALOR ","MT5603",0,"460.914.671-15",999999,20152.05,"PAULO SERGIO DE JESUS SILVA"]
["MT36214","PEDRO ANGELO DITZ","570.090.661-91","FOLHA DE PAGAMENTO","2020-01-01","TRF1 - Folha Ordinária - Janeiro/2020 - Base :TRF1.","ATIVO","MATRICULA","SEQUD","CPF","SERVIDOR","RUBRICA","VALOR ","MT36214",0,"570.090.661-91",999999,15393.34,"PEDRO ANGELO DITZ"]
["JU186","PEDRO FRANCISCO DA SILVA","353.749.931-00","FOLHA DE PAGAMENTO","2020-01-01","TRF1 - Folha Ordinária - Janeiro/2020 - Base :TRF1.","ATIVO","MATRICULA","SEQUD","CPF","SERVIDOR","RUBRICA","VALOR ","JU186",0,"353.749.931-00",999999,37661.81,"PEDRO FRANCISCO DA SILVA"]
["MT36175","PYERRE DE ALCANTARA CAMPOS SOUSA","688.998.581-87","FOLHA DE PAGAMENTO","2020-01-01","TRF1 - Folha Ordinária - Janeiro/2020 - Base :TRF1.","ATIVO","MATRICULA","SEQUD","CPF","SERVIDOR","RUBRICA","VALOR ","MT36175",0,"688.998.581-87",999999,12334.05,"PYERRE DE ALCANTARA CAMPOS SOUSA"]
["MT36445","RAFAEL DAMIAN","956.089.231-20","FOLHA DE PAGAMENTO","2020-01-01","TRF1 - Folha Ordinária - Janeiro/2020 - Base :TRF1.","ATIVO","MATRICULA","SEQUD","CPF","SERVIDOR","RUBRICA","VALOR ","MT36445",0,"956.089.231-20",999999,19516.16,"RAFAEL DAMIAN"]
["JU558","RAFAEL LEITE PAULO","036.199.694-26","FOLHA DE PAGAMENTO","2020-01-01","TRF1 - Folha Ordinária - Janeiro/2020 - Base :TRF1.","ATIVO","MATRICULA","SEQUD","CPF","SERVIDOR","RUBRICA","VALOR ","JU558",0,"036.199.694-26",999999,38436.43,"RAFAEL LEITE PAULO"]
["MT36466","RAFAEL RIBEIRO","036.928.601-45","FOLHA DE PAGAMENTO","2020-01-01","TRF1 - Folha Ordinária - Janeiro/2020 - Base :TRF1.","ATIVO","MATRICULA","SEQUD","CPF","SERVIDOR","RUBRICA","VALOR ","MT36466",0,"036.928.601-45",999999,11349.09,"RAFAEL RIBEIRO"]
["MT36306","RAFAELA SILVA MARCIO","009.181.821-40","FOLHA DE PAGAMENTO","2020-01-01","TRF1 - Folha Ordinária - Janeiro/2020 - Base :TRF1.","ATIVO","MATRICULA","SEQUD","CPF","SERVIDOR","RUBRICA","VALOR ","MT36306",0,"009.181.821-40",999999,23347.33,"RAFAELA SILVA MARCIO"]
["MT36323","RAFFAELA GARCIA DE MATTOS","020.882.911-30","FOLHA DE PAGAMENTO","2020-01-01","TRF1 - Folha Ordinária - Janeiro/2020 - Base :TRF1.","ATIVO","MATRICULA","SEQUD","CPF","SERVIDOR","RUBRICA","VALOR ","MT36323",0,"020.882.911-30",999999,14717.98,"RAFFAELA GARCIA DE MATTOS"]
["JU448","RAPHAEL CASELLA DE ALMEIDA CARVALHO","121.648.128-83","FOLHA DE PAGAMENTO","2020-01-01","TRF1 - Folha Ordinária - Janeiro/2020 - Base :TRF1.","ATIVO","MATRICULA","SEQUD","CPF","SERVIDOR","RUBRICA","VALOR ","JU448",0,"121.648.128-83",999999,12489.23,"RAPHAEL CASELLA DE ALMEIDA CARVALHO"]
["MT36246","SAMUEL GOMES DA ROCHA","067.338.896-41","FOLHA DE PAGAMENTO","2020-01-01","TRF1 - Folha Ordinária - Janeiro/2020 - Base :TRF1.","ATIVO","MATRICULA","SEQUD","CPF","SERVIDOR","RUBRICA","VALOR ","MT36246",0,"067.338.896-41",999999,15840.28,"SAMUEL GOMES DA ROCHA"]
["MT36068","RAQUEL MOLOSSI ESCHER","503.960.481-53","FOLHA DE PAGAMENTO","2020-01-01","TRF1 - Folha Ordinária - Janeiro/2020 - Base :TRF1.","ATIVO","MATRICULA","SEQUD","CPF","SERVIDOR","RUBRICA","VALOR ","MT36068",0,"503.960.481-53",999999,15977.06,"RAQUEL MOLOSSI ESCHER"]
["MT36441","REBECCA DE PAULA TEIXEIRA FIGUEIREDO","023.516.131-47","FOLHA DE PAGAMENTO","2020-01-01","TRF1 - Folha Ordinária - Janeiro/2020 - Base :TRF1.","ATIVO","MATRICULA","SEQUD","CPF","SERVIDOR","RUBRICA","VALOR ","MT36441",0,"023.516.131-47",999999,3990.82,"REBECCA DE PAULA TEIXEIRA FIGUEIREDO"]
["MT36207","REGILANE MARAYA CARVALHO ANIZ","986.885.291-91","FOLHA DE PAGAMENTO","2020-01-01","TRF1 - Folha Ordinária - Janeiro/2020 - Base :TRF1.","ATIVO","MATRICULA","SEQUD","CPF","SERVIDOR","RUBRICA","VALOR ","MT36207",0,"986.885.291-91",999999,12750.94,"REGILANE MARAYA CARVALHO ANIZ"]
["MT36187","REGINALDO ACHRE SIQUEIRA","017.929.571-30","FOLHA DE PAGAMENTO","2020-01-01","TRF1 - Folha Ordinária - Janeiro/2020 - Base :TRF1.","ATIVO","MATRICULA","SEQUD","CPF","SERVIDOR","RUBRICA","VALOR ","MT36187",0,"017.929.571-30",999999,13714.94,"REGINALDO ACHRE SIQUEIRA"]
["MT36251","RENATA AUGUSTO LOPES GONCALES","044.958.449-62","FOLHA DE PAGAMENTO","2020-01-01","TRF1 - Folha Ordinária - Janeiro/2020 - Base :TRF1.","ATIVO","MATRICULA","SEQUD","CPF","SERVIDOR","RUBRICA","VALOR ","MT36251",0,"044.958.449-62",999999,21833.22,"RENATA AUGUSTO LOPES GONCALES"]
["MT36031","RENATO DE BARROS PEREIRA DOS SANTOS","023.425.261-80","FOLHA DE PAGAMENTO","2020-01-01","TRF1 - Folha Ordinária - Janeiro/2020 - Base :TRF1.","ATIVO","MATRICULA","SEQUD","CPF","SERVIDOR","RUBRICA","VALOR ","MT36031",0,"023.425.261-80",999999,14698.26,"RENATO DE BARROS PEREIRA DOS SANTOS"]
["MT7603","RENATO FREITAS GARCIA","387.995.291-49","FOLHA DE PAGAMENTO","2020-01-01","TRF1 - Folha Ordinária - Janeiro/2020 - Base :TRF1.","ATIVO","MATRICULA","SEQUD","CPF","SERVIDOR","RUBRICA","VALOR ","MT7603",0,"387.995.291-49",999999,30218.880000000001,"RENATO FREITAS GARCIA"]
["MT36476","RENATO MOURA DUETI SILVA","017.835.471-62","FOLHA DE PAGAMENTO","2020-01-01","TRF1 - Folha Ordinária - Janeiro/2020 - Base :TRF1.","ATIVO","MATRICULA","SEQUD","CPF","SERVIDOR","RUBRICA","VALOR ","MT36476",0,"017.835.471-62",999999,10949.56,"RENATO MOURA DUETI SILVA"]
["MT22503","RICARDO AUGUSTO MONTEIRO BASTOS","415.885.921-20","FOLHA DE PAGAMENTO","2020-01-01","TRF1 - Folha Ordinária - Janeiro/2020 - Base :TRF1.","ATIVO","MATRICULA","SEQUD","CPF","SERVIDOR","RUBRICA","VALOR ","MT22503",0,"415.885.921-20",999999,18163.61,"RICARDO AUGUSTO MONTEIRO BASTOS"]
["MT36021","RICARDO LUDWIG","043.202.069-16","FOLHA DE PAGAMENTO","2020-01-01","TRF1 - Folha Ordinária - Janeiro/2020 - Base :TRF1.","ATIVO","MATRICULA","SEQUD","CPF","SERVIDOR","RUBRICA","VALOR ","MT36021",0,"043.202.069-16",999999,25182.09,"RICARDO LUDWIG"]
["MT36463","RICARDO MOREIRA AGUIAR","983.222.061-00","FOLHA DE PAGAMENTO","2020-01-01","TRF1 - Folha Ordinária - Janeiro/2020 - Base :TRF1.","ATIVO","MATRICULA","SEQUD","CPF","SERVIDOR","RUBRICA","VALOR ","MT36463",0,"983.222.061-00",999999,21995.67,"RICARDO MOREIRA AGUIAR"]
["MT15603","RINALDO PEREIRA LOCATELLI FLORES","667.882.501-20","FOLHA DE PAGAMENTO","2020-01-01","TRF1 - Folha Ordinária - Janeiro/2020 - Base :TRF1.","ATIVO","MATRICULA","SEQUD","CPF","SERVIDOR","RUBRICA","VALOR ","MT15603",0,"667.882.501-20",999999,26604.01,"RINALDO PEREIRA LOCATELLI FLORES"]
[{"$f":"N390","v":"MT29003"},{"$f":"S390","v":"RITA CASSIA GONCALVES PINTO"},{"$f":"P390","v":"346.050.961-91"},"FOLHA DE PAGAMENTO","2020-01-01","TRF1 - Folha Ordinária - Janeiro/2020 - Base :TRF1.","ATIVO","MATRICULA","SEQUD","CPF","SERVIDOR","RUBRICA","VALOR ","MT29003",0,"346.050.961-91",999999,28717.95,"RITA CASSIA GONCALVES PINTO"]
["MT36074","RITA ENEIDA OLIVEIRA","697.472.101-34","FOLHA DE PAGAMENTO","2020-01-01","TRF1 - Folha Ordinária - Janeiro/2020 - Base :TRF1.","ATIVO","MATRICULA","SEQUD","CPF","SERVIDOR","RUBRICA","VALOR ","MT36074",0,"697.472.101-34",999999,23706.14,"RITA ENEIDA OLIVEIRA"]
["MT22203","ROBERTO GOMES LUCAS DE AMORIM","483.557.981-04","FOLHA DE PAGAMENTO","2020-01-01","TRF1 - Folha Ordinária - Janeiro/2020 - Base :TRF1.","ATIVO","MATRICULA","SEQUD","CPF","SERVIDOR","RUBRICA","VALOR ","MT22203",0,"483.557.981-04",999999,15322.02,"ROBERTO GOMES LUCAS DE AMORIM"]
["MT36299","ROBSON ALBERTO MAKIYAMA SALES","008.405.541-33","FOLHA DE PAGAMENTO","2020-01-01","TRF1 - Folha Ordinária - Janeiro/2020 - Base :TRF1.","ATIVO","MATRICULA","SEQUD","CPF","SERVIDOR","RUBRICA","VALOR ","MT36299",0,"008.405.541-33",999999,14069.42,"ROBSON ALBERTO MAKIYAMA SALES"]
["MT36178","ROBSON ALBERTO OLIVEIRA DA CRUZ","545.166.331-91","FOLHA DE PAGAMENTO","2020-01-01","TRF1 - Folha Ordinária - Janeiro/2020 - Base :TRF1.","ATIVO","MATRICULA","SEQUD","CPF","SERVIDOR","RUBRICA","VALOR ","MT36178",0,"545.166.331-91",999999,14755.6,"ROBSON ALBERTO OLIVEIRA DA CRUZ"]
["MT6503","ROBSON DE SOUZA ALVES","344.018.491-91","FOLHA DE PAGAMENTO","2020-01-01","TRF1 - Folha Ordinária - Janeiro/2020 - Base :TRF1.","ATIVO","MATRICULA","SEQUD","CPF","SERVIDOR","RUBRICA","VALOR ","MT6503",0,"344.018.491-91",999999,18360.48,"ROBSON DE SOUZA ALVES"]
["MT36392","ROBSON SANTIAGO MICHELS","040.635.479-06","FOLHA DE PAGAMENTO","2020-01-01","TRF1 - Folha Ordinária - Janeiro/2020 - Base :TRF1.","ATIVO","MATRICULA","SEQUD","CPF","SERVIDOR","RUBRICA","VALOR ","MT36392",0,"040.635.479-06",999999,21388.87,"ROBSON SANTIAGO MICHELS"]
["MT36472","RODOLFO SOARES BUONO","055.423.309-67","FOLHA DE PAGAMENTO","2020-01-01","TRF1 - Folha Ordinária - Janeiro/2020 - Base :TRF1.","ATIVO","MATRICULA","SEQUD","CPF","SERVIDOR","RUBRICA","VALOR ","MT36472",0,"055.423.309-67",999999,12329.13,"RODOLFO SOARES BUONO"]
["MT36124","RODRIGO ALVES DE LIMA","712.988.511-49","FOLHA DE PAGAMENTO","2020-01-01","TRF1 - Folha Ordinária - Janeiro/2020 - Base :TRF1.","ATIVO","MATRICULA","SEQUD","CPF","SERVIDOR","RUBRICA","VALOR ","MT36124",0,"712.988.511-49",999999,23779.119999999999,"RODRIGO ALVES DE LIMA"]
["JU797","RODRIGO BAHIA ACCIOLY LINS","793.030.645-34","FOLHA DE PAGAMENTO","2020-01-01","TRF1 - Folha Ordinária - Janeiro/2020 - Base :TRF1.","ATIVO","MATRICULA","SEQUD","CPF","SERVIDOR","RUBRICA","VALOR ","JU797",0,"793.030.645-34",999999,38171.49,"RODRIGO BAHIA ACCIOLY LINS"]
["MT36360","RODRIGO GUSMAO ABDO","929.607.661-72","FOLHA DE PAGAMENTO","2020-01-01","TRF1 - Folha Ordinária - Janeiro/2020 - Base :TRF1.","ATIVO","MATRICULA","SEQUD","CPF","SERVIDOR","RUBRICA","VALOR ","MT36360",0,"929.607.661-72",999999,8873.56,"RODRIGO GUSMAO ABDO"]
["MT24903","ROMULO MIRAPALHETE DE MEDEIROS","499.994.000-00","FOLHA DE PAGAMENTO","2020-01-01","TRF1 - Folha Ordinária - Janeiro/2020 - Base :TRF1.","ATIVO","MATRICULA","SEQUD","CPF","SERVIDOR","RUBRICA","VALOR ","MT24903",0,"499.994.000-00",999999,23032.81,"ROMULO MIRAPALHETE DE MEDEIROS"]
["MT36085","RONALDO PAES LEME FERREIRA","545.029.771-87","FOLHA DE PAGAMENTO","2020-01-01","TRF1 - Folha Ordinária - Janeiro/2020 - Base :TRF1.","ATIVO","MATRICULA","SEQUD","CPF","SERVIDOR","RUBRICA","VALOR ","MT36085",0,"545.029.771-87",999999,9785.27,"RONALDO PAES LEME FERREIRA"]
["MT23003","ROSA MARIA STEFANELLO","844.428.321-53","FOLHA DE PAGAMENTO","2020-01-01","TRF1 - Folha Ordinária - Janeiro/2020 - Base :TRF1.","ATIVO","MATRICULA","SEQUD","CPF","SERVIDOR","RUBRICA","VALOR ","MT23003",0,"844.428.321-53",999999,26991.98,"ROSA MARIA STEFANELLO"]
["MT36230","ROSANA MORENO MERCADO","545.119.681-87","FOLHA DE PAGAMENTO","2020-01-01","TRF1 - Folha Ordinária - Janeiro/2020 - Base :TRF1.","ATIVO","MATRICULA","SEQUD","CPF","SERVIDOR","RUBRICA","VALOR ","MT36230",0,"545.119.681-87",999999,14719.16,"ROSANA MORENO MERCADO"]
["MT36437","ROSANGELA MENDES CAVALCANTE","473.928.511-87","FOLHA DE PAGAMENTO","2020-01-01","TRF1 - Folha Ordinária - Janeiro/2020 - Base :TRF1.","ATIVO","MATRICULA","SEQUD","CPF","SERVIDOR","RUBRICA","VALOR ","MT36437",0,"473.928.511-87",999999,2978.69,"ROSANGELA MENDES CAVALCANTE"]
["MT31203","ROSIMEIRE ZERBINATO BEZERRA","289.738.522-72","FOLHA DE PAGAMENTO","2020-01-01","TRF1 - Folha Ordinária - Janeiro/2020 - Base :TRF1.","ATIVO","MATRICULA","SEQUD","CPF","SERVIDOR","RUBRICA","VALOR ","MT31203",0,"289.738.522-72",999999,26867.45,"ROSIMEIRE ZERBINATO BEZERRA"]
["MT27503","ROSINETE RULIM DA SILVA","474.241.921-91","FOLHA DE PAGAMENTO","2020-01-01","TRF1 - Folha Ordinária - Janeiro/2020 - Base :TRF1.","ATIVO","MATRICULA","SEQUD","CPF","SERVIDOR","RUBRICA","VALOR ","MT27503",0,"474.241.921-91",999999,16151.78,"ROSINETE RULIM DA SILVA"]
["MT11003","VALERIA MARIA VIANA ASSIS LANNA","641.101.256-34","FOLHA DE PAGAMENTO","2020-01-01","TRF1 - Folha Ordinária - Janeiro/2020 - Base :TRF1.","ATIVO","MATRICULA","SEQUD","CPF","SERVIDOR","RUBRICA","VALOR ","MT11003",0,"641.101.256-34",999999,18447.509999999998,"VALERIA MARIA VIANA ASSIS LANNA"]
["MT36246","SAMUEL GOMES DA ROCHA","067.338.896-41","FOLHA DE PAGAMENTO","2020-01-01","TRF1 - Folha Ordinária - Janeiro/2020 - Base :TRF1.","ATIVO","MATRICULA","SEQUD","CPF","SERVIDOR","RUBRICA","VALOR ","MT36246",0,"067.338.896-41",999999,15840.28,"SAMUEL GOMES DA ROCHA"]
["MT36090","SANDRA BACANI","705.118.531-49","FOLHA DE PAGAMENTO","2020-01-01","TRF1 - Folha Ordinária - Janeiro/2020 - Base :TRF1.","ATIVO","MATRICULA","SEQUD","CPF","SERVIDOR","RUBRICA","VALOR ","MT36090",0,"705.118.531-49",999999,16795.09,"SANDRA BACANI"]
["MT36164","SANDRA DE JESUS DA ROCHA BORGES FREITAS","159.189.818-88","FOLHA DE PAGAMENTO","2020-01-01","TRF1 - Folha Ordinária - Janeiro/2020 - Base :TRF1.","ATIVO","MATRICULA","SEQUD","CPF","SERVIDOR","RUBRICA","VALOR ","MT36164",0,"159.189.818-88",999999,2423.09,"SANDRA DE JESUS DA ROCHA BORGES FREITAS"]
["MT36422","SEBASTIANA CAROLINE RAMOS ZATTAR","703.479.211-91","FOLHA DE PAGAMENTO","2020-01-01","TRF1 - Folha Ordinária - Janeiro/2020 - Base :TRF1.","ATIVO","MATRICULA","SEQUD","CPF","SERVIDOR","RUBRICA","VALOR ","MT36422",0,"703.479.211-91",999999,3698.31,"SEBASTIANA CAROLINE RAMOS ZATTAR"]
["MT36402","SHEINNI DA CRUZ OLIVEIRA DE FREITAS","033.771.491-63","FOLHA DE PAGAMENTO","2020-01-01","TRF1 - Folha Ordinária - Janeiro/2020 - Base :TRF1.","ATIVO","MATRICULA","SEQUD","CPF","SERVIDOR","RUBRICA","VALOR ","MT36402",0,"033.771.491-63",999999,19311.52,"SHEINNI DA CRUZ OLIVEIRA DE FREITAS"]
["MT36322","SIDNEI RODRIGUES DE SOUSA","024.334.561-50","FOLHA DE PAGAMENTO","2020-01-01","TRF1 - Folha Ordinária - Janeiro/2020 - Base :TRF1.","ATIVO","MATRICULA","SEQUD","CPF","SERVIDOR","RUBRICA","VALOR ","MT36322",0,"024.334.561-50",999999,18695.45,"SIDNEI RODRIGUES DE SOUSA"]
["MT10503","SILVANA FREITAS GARCIA","427.766.271-49","FOLHA DE PAGAMENTO","2020-01-01","TRF1 - Folha Ordinária - Janeiro/2020 - Base :TRF1.","ATIVO","MATRICULA","SEQUD","CPF","SERVIDOR","RUBRICA","VALOR ","MT10503",0,"427.766.271-49",999999,34664.410000000003,"SILVANA FREITAS GARCIA"]
["MT34303","SILVANIA PACHECO EPIFANIO","536.584.931-00","FOLHA DE PAGAMENTO","2020-01-01","TRF1 - Folha Ordinária - Janeiro/2020 - Base :TRF1.","ATIVO","MATRICULA","SEQUD","CPF","SERVIDOR","RUBRICA","VALOR ","MT34303",0,"536.584.931-00",999999,17452.919999999998,"SILVANIA PACHECO EPIFANIO"]
["MT36109","SILVIA REGINA DOS SANTOS AMORIM","805.298.871-34","FOLHA DE PAGAMENTO","2020-01-01","TRF1 - Folha Ordinária - Janeiro/2020 - Base :TRF1.","ATIVO","MATRICULA","SEQUD","CPF","SERVIDOR","RUBRICA","VALOR ","MT36109",0,"805.298.871-34",999999,16682.060000000001,"SILVIA REGINA DOS SANTOS AMORIM"]
["MT36285","SIMONE ANDREIA RITTER DE ARAUJO","944.193.700-25","FOLHA DE PAGAMENTO","2020-01-01","TRF1 - Folha Ordinária - Janeiro/2020 - Base :TRF1.","ATIVO","MATRICULA","SEQUD","CPF","SERVIDOR","RUBRICA","VALOR ","MT36285",0,"944.193.700-25",999999,21818.13,"SIMONE ANDREIA RITTER DE ARAUJO"]
["MT4403","SIRLENE DIAS DA SILVA","459.576.221-68","FOLHA DE PAGAMENTO","2020-01-01","TRF1 - Folha Ordinária - Janeiro/2020 - Base :TRF1.","ATIVO","MATRICULA","SEQUD","CPF","SERVIDOR","RUBRICA","VALOR ","MT4403",0,"459.576.221-68",999999,17474.349999999999,"SIRLENE DIAS DA SILVA"]
["MT25903","SIRLENE FATIMA FERRER BRANDAO","293.344.381-34","FOLHA DE PAGAMENTO","2020-01-01","TRF1 - Folha Ordinária - Janeiro/2020 - Base :TRF1.","ATIVO","MATRICULA","SEQUD","CPF","SERVIDOR","RUBRICA","VALOR ","MT25903",0,"293.344.381-34",999999,32342.68,"SIRLENE FATIMA FERRER BRANDAO"]
["MT22303","SOFIA FERNANDEZ MOURA DE PAULA","537.802.481-15","FOLHA DE PAGAMENTO","2020-01-01","TRF1 - Folha Ordinária - Janeiro/2020 - Base :TRF1.","ATIVO","MATRICULA","SEQUD","CPF","SERVIDOR","RUBRICA","VALOR ","MT22303",0,"537.802.481-15",999999,24161.45,"SOFIA FERNANDEZ MOURA DE PAULA"]
["MT36418","STEFANIA APARECIDA SERVILHA TORTORA","920.775.361-87","FOLHA DE PAGAMENTO","2020-01-01","TRF1 - Folha Ordinária - Janeiro/2020 - Base :TRF1.","ATIVO","MATRICULA","SEQUD","CPF","SERVIDOR","RUBRICA","VALOR ","MT36418",0,"920.775.361-87",999999,21800.07,"STEFANIA APARECIDA SERVILHA TORTORA"]
["MT36333","TAINAH MARIA DIOGO OLIVEIRA BECKER","957.429.481-15","FOLHA DE PAGAMENTO","2020-01-01","TRF1 - Folha Ordinária - Janeiro/2020 - Base :TRF1.","ATIVO","MATRICULA","SEQUD","CPF","SERVIDOR","RUBRICA","VALOR ","MT36333",0,"957.429.481-15",999999,24354.09,"TAINAH MARIA DIOGO OLIVEIRA BECKER"]
["JU796","TAINARA LEAO MARQUES LEAL","030.707.321-19","FOLHA DE PAGAMENTO","2020-01-01","TRF1 - Folha Ordinária - Janeiro/2020 - Base :TRF1.","ATIVO","MATRICULA","SEQUD","CPF","SERVIDOR","RUBRICA","VALOR ","JU796",0,"030.707.321-19",999999,46538.28,"TAINARA LEAO MARQUES LEAL"]
["MT36118","TALISON MOTTA RAMOS","019.313.601-54","FOLHA DE PAGAMENTO","2020-01-01","TRF1 - Folha Ordinária - Janeiro/2020 - Base :TRF1.","ATIVO","MATRICULA","SEQUD","CPF","SERVIDOR","RUBRICA","VALOR ","MT36118",0,"019.313.601-54",999999,12966.58,"TALISON MOTTA RAMOS"]
["MT36369","TAMIRYS CELESTINO LOUZADA","021.623.221-02","FOLHA DE PAGAMENTO","2020-01-01","TRF1 - Folha Ordinária - Janeiro/2020 - Base :TRF1.","ATIVO","MATRICULA","SEQUD","CPF","SERVIDOR","RUBRICA","VALOR ","MT36369",0,"021.623.221-02",999999,14198.5,"TAMIRYS CELESTINO LOUZADA"]
["MT36152","TARLES TREVISAN","031.523.179-30","FOLHA DE PAGAMENTO","2020-01-01","TRF1 - Folha Ordinária - Janeiro/2020 - Base :TRF1.","ATIVO","MATRICULA","SEQUD","CPF","SERVIDOR","RUBRICA","VALOR ","MT36152",0,"031.523.179-30",999999,17234.47,"TARLES TREVISAN"]
["MT36320","TATIANA CARVALHO LACERDA","052.872.086-42","FOLHA DE PAGAMENTO","2020-01-01","TRF1 - Folha Ordinária - Janeiro/2020 - Base :TRF1.","ATIVO","MATRICULA","SEQUD","CPF","SERVIDOR","RUBRICA","VALOR ","MT36320",0,"052.872.086-42",999999,18856.71,"TATIANA CARVALHO LACERDA"]
["MT36025","THAIZA SANTOS SIQUEIRA LOPES","011.507.781-21","FOLHA DE PAGAMENTO","2020-01-01","TRF1 - Folha Ordinária - Janeiro/2020 - Base :TRF1.","ATIVO","MATRICULA","SEQUD","CPF","SERVIDOR","RUBRICA","VALOR ","MT36025",0,"011.507.781-21",999999,12012.18,"THAIZA SANTOS SIQUEIRA LOPES"]
["MT36432","THALES MACEDO CARVALHO","111.522.416-64","FOLHA DE PAGAMENTO","2020-01-01","TRF1 - Folha Ordinária - Janeiro/2020 - Base :TRF1.","ATIVO","MATRICULA","SEQUD","CPF","SERVIDOR","RUBRICA","VALOR ","MT36432",0,"111.522.416-64",999999,12939.51,"THALES MACEDO CARVALHO"]
["MT36397","THAYNA PEREIRA BASTOS","024.995.301-38","FOLHA DE PAGAMENTO","2020-01-01","TRF1 - Folha Ordinária - Janeiro/2020 - Base :TRF1.","ATIVO","MATRICULA","SEQUD","CPF","SERVIDOR","RUBRICA","VALOR ","MT36397",0,"024.995.301-38",999999,19890.45,"THAYNA PEREIRA BASTOS"]
["MT36449","THIAGO DE SOUZA CUNHA","969.579.561-72","FOLHA DE PAGAMENTO","2020-01-01","TRF1 - Folha Ordinária - Janeiro/2020 - Base :TRF1.","ATIVO","MATRICULA","SEQUD","CPF","SERVIDOR","RUBRICA","VALOR ","MT36449",0,"969.579.561-72",999999,19857.03,"THIAGO DE SOUZA CUNHA"]
["MT36142","THIAGO MILHOMEM DE SOUZA BATISTA","016.810.991-36","FOLHA DE PAGAMENTO","2020-01-01","TRF1 - Folha Ordinária - Janeiro/2020 - Base :TRF1.","ATIVO","MATRICULA","SEQUD","CPF","SERVIDOR","RUBRICA","VALOR ","MT36142",0,"016.810.991-36",999999,16360.02,"THIAGO MILHOMEM DE SOUZA BATISTA"]
["MT36388","THIAGO TULIO MARQUES FONSECA FERREIRA","031.892.504-48","FOLHA DE PAGAMENTO","2020-01-01","TRF1 - Folha Ordinária - Janeiro/2020 - Base :TRF1.","ATIVO","MATRICULA","SEQUD","CPF","SERVIDOR","RUBRICA","VALOR ","MT36388",0,"031.892.504-48",999999,21764.02,"THIAGO TULIO MARQUES FONSECA FERREIRA"]
["MT36278","THIAGO VINICIUS DO PRADO","045.016.689-97","FOLHA DE PAGAMENTO","2020-01-01","TRF1 - Folha Ordinária - Janeiro/2020 - Base :TRF1.","ATIVO","MATRICULA","SEQUD","CPF","SERVIDOR","RUBRICA","VALOR ","MT36278",0,"045.016.689-97",999999,14994.11,"THIAGO VINICIUS DO PRADO"]
["MT36327","TIAGO CESAR PELISSARI","943.297.291-72","FOLHA DE PAGAMENTO","2020-01-01","TRF1 - Folha Ordinária - Janeiro/2020 - Base :TRF1.","ATIVO","MATRICULA","SEQUD","CPF","SERVIDOR","RUBRICA","VALOR ","MT36327",0,"943.297.291-72",999999,15873.5,"TIAGO CESAR PELISSARI"]
["MT36277","TIAGO RODRIGUES PEREIRA","014.286.851-54","FOLHA DE PAGAMENTO","2020-01-01","TRF1 - Folha Ordinária - Janeiro/2020 - Base :TRF1.","ATIVO","MATRICULA","SEQUD","CPF","SERVIDOR","RUBRICA","VALOR ","MT36277",0,"014.286.851-54",999999,26033.42,"TIAGO RODRIGUES PEREIRA"]
["MT36247","VALDEMIR SCARPARI ROZIN","023.429.561-93","FOLHA DE PAGAMENTO","2020-01-01","TRF1 - Folha Ordinária - Janeiro/2020 - Base :TRF1.","ATIVO","MATRICULA","SEQUD","CPF","SERVIDOR","RUBRICA","VALOR ","MT36247",0,"023.429.561-93",999999,16033.15,"VALDEMIR SCARPARI ROZIN"]
["MT11003","VALERIA MARIA VIANA ASSIS LANNA","641.101.256-34","FOLHA DE PAGAMENTO","2020-01-01","TRF1 - Folha Ordinária - Janeiro/2020 - Base :TRF1.","ATIVO","MATRICULA","SEQUD","CPF","SERVIDOR","RUBRICA","VALOR ","MT11003",0,"641.101.256-34",999999,18447.509999999998,"VALERIA MARIA VIANA ASSIS LANNA",439,8186887.2300000004," TOTAL DE SERVIDORES "]
["MT30703","VALERIA PEREIRA MIDON","876.235.441-87","FOLHA DE PAGAMENTO","2020-01-01","TRF1 - Folha Ordinária - Janeiro/2020 - Base :TRF1.","ATIVO","MATRICULA","SEQUD","CPF","SERVIDOR","RUBRICA","VALOR ","MT30703",0,"876.235.441-87",999999,21868.91,"VALERIA PEREIRA MIDON",439,8186887.2300000004," TOTAL DE SERVIDORES "]
["MT28703","VALESKA VILAS BOAS ALVES FERREIRA DA SILVA","559.229.611-87","FOLHA DE PAGAMENTO","2020-01-01","TRF1 - Folha Ordinária - Janeiro/2020 - Base :TRF1.","ATIVO","MATRICULA","SEQUD","CPF","SERVIDOR","RUBRICA","VALOR ","MT28703",0,"559.229.611-87",999999,18211.73,"VALESKA VILAS BOAS ALVES FERREIRA DA SILVA",439,8186887.2300000004," TOTAL DE SERVIDORES "]
["MT36290","VANESSA CRISTINA DA SILVA","253.035.288-71","FOLHA DE PAGAMENTO","2020-01-01","TRF1 - Folha Ordinária - Janeiro/2020 - Base :TRF1.","ATIVO","MATRICULA","SEQUD","CPF","SERVIDOR","RUBRICA","VALOR ","MT36290",0,"253.035.288-71",999999,16318.86,"VANESSA CRISTINA DA SILVA",439,8186887.2300000004," TOTAL DE SERVIDORES "]
["JU344","VANESSA CURTI PERENHA GASQUES","621.658.441-34","FOLHA DE PAGAMENTO","2020-01-01","TRF1 - Folha Ordinária - Janeiro/2020 - Base :TRF1.","ATIVO","MATRICULA","SEQUD","CPF","SERVIDOR","RUBRICA","VALOR ","JU344",0,"621.658.441-34",999999,40813.660000000003,"VANESSA CURTI PERENHA GASQUES",439,8186887.2300000004," TOTAL DE SERVIDORES "]
["MT36148","VANUCIA COSTA MARQUES LAGE","769.495.671-20","FOLHA DE PAGAMENTO","2020-01-01","TRF1 - Folha Ordinária - Janeiro/2020 - Base :TRF1.","ATIVO","MATRICULA","SEQUD","CPF","SERVIDOR","RUBRICA","VALOR ","MT36148",0,"769.495.671-20",999999,15315.41,"VANUCIA COSTA MARQUES LAGE",439,8186887.2300000004," TOTAL DE SERVIDORES "]
["JU650","VICTOR DE CARVALHO SABOYA ALBUQUERQUE","069.826.324-31","FOLHA DE PAGAMENTO","2020-01-01","TRF1 - Folha Ordinária - Janeiro/2020 - Base :TRF1.","ATIVO","MATRICULA","SEQUD","CPF","SERVIDOR","RUBRICA","VALOR ","JU650",0,"069.826.324-31",999999,40126.61,"VICTOR DE CARVALHO SABOYA ALBUQUERQUE",439,8186887.2300000004," TOTAL DE SERVIDORES "]
["MT36341","VINICIUS BARROS RIBEIRO","038.846.361-97","FOLHA DE PAGAMENTO","2020-01-01","TRF1 - Folha Ordinária - Janeiro/2020 - Base :TRF1.","ATIVO","MATRICULA","SEQUD","CPF","SERVIDOR","RUBRICA","VALOR ","MT36341",0,"038.846.361-97",999999,12984.18,"VINICIUS BARROS RIBEIRO",439,8186887.2300000004," TOTAL DE SERVIDORES "]
["MT36096","VINICIUS NUNES FERREIRA","067.377.926-26","FOLHA DE PAGAMENTO","2020-01-01","TRF1 - Folha Ordinária - Janeiro/2020 - Base :TRF1.","ATIVO","MATRICULA","SEQUD","CPF","SERVIDOR","RUBRICA","VALOR ","MT36096",0,"067.377.926-26",999999,24292.12,"VINICIUS NUNES FERREIRA",439,8186887.2300000004," TOTAL DE SERVIDORES "]
["MT36165","VIVIAN JESUS DE OLIVEIRA NOVAIS","303.564.198-60","FOLHA DE PAGAMENTO","2020-01-01","TRF1 - Folha Ordinária - Janeiro/2020 - Base :TRF1.","ATIVO","MATRICULA","SEQUD","CPF","SERVIDOR","RUBRICA","VALOR ","MT36165",0,"303.564.198-60",999999,1400.18,"VIVIAN JESUS DE OLIVEIRA NOVAIS",439,8186887.2300000004," TOTAL DE SERVIDORES "]
["MT36237","VIVIANE CORREA LEITAO AGUENA","004.621.211-60","FOLHA DE PAGAMENTO","2020-01-01","TRF1 - Folha Ordinária - Janeiro/2020 - Base :TRF1.","ATIVO","MATRICULA","SEQUD","CPF","SERVIDOR","RUBRICA","VALOR ","MT36237",0,"004.621.211-60",999999,7650.35,"VIVIANE CORREA LEITAO AGUENA",439,8186887.2300000004," TOTAL DE SERVIDORES "]
["MT36391","VIVIANE SANTOS PINHEIRO OLIVEIRA","019.734.771-14","FOLHA DE PAGAMENTO","2020-01-01","TRF1 - Folha Ordinária - Janeiro/2020 - Base :TRF1.","ATIVO","MATRICULA","SEQUD","CPF","SERVIDOR","RUBRICA","VALOR ","MT36391",0,"019.734.771-14",999999,21810.720000000001,"VIVIANE SANTOS PINHEIRO OLIVEIRA",439,8186887.2300000004," TOTAL DE SERVIDORES "]
["MT36053","WALDIR ANDRADE ALENCAR","164.399.291-00","FOLHA DE PAGAMENTO","2020-01-01","TRF1 - Folha Ordinária - Janeiro/2020 - Base :TRF1.","ATIVO","MATRICULA","SEQUD","CPF","SERVIDOR","RUBRICA","VALOR ","MT36053",0,"164.399.291-00",999999,33039.19,"WALDIR ANDRADE ALENCAR",439,8186887.2300000004," TOTAL DE SERVIDORES "]
["MT36052","WANILDO ZANETE FERRARI","893.538.381-34","FOLHA DE PAGAMENTO","2020-01-01","TRF1 - Folha Ordinária - Janeiro/2020 - Base :TRF1.","ATIVO","MATRICULA","SEQUD","CPF","SERVIDOR","RUBRICA","VALOR ","MT36052",0,"893.538.381-34",999999,4953.6400000000003,"WANILDO ZANETE FERRARI",439,8186887.2300000004," TOTAL DE SERVIDORES "]
["MT36291","WELSON DA COSTA RODRIGUES","014.596.691-77","FOLHA DE PAGAMENTO","2020-01-01","TRF1 - Folha Ordinária - Janeiro/2020 - Base :TRF1.","ATIVO","MATRICULA","SEQUD","CPF","SERVIDOR","RUBRICA","VALOR ","MT36291",0,"014.596.691-77",999999,23209.14,"WELSON DA COSTA RODRIGUES",439,8186887.2300000004," TOTAL DE SERVIDORES "]
[{"$f":"N454","v":"MT36307"},{"$f":"S454","v":"WELTON DA COSTA RODRIGUES"},{"$f":"P454","v":"015.162.771-12"},"FOLHA DE PAGAMENTO","2020-01-01","TRF1 - Folha Ordinária - Janeiro/2020 - Base :TRF1.","ATIVO","MATRICULA","SEQUD","CPF","SERVIDOR","RUBRICA","VALOR ","MT36307",0,"015.162.771-12",999999,22088.21,"WELTON DA COSTA RODRIGUES",439,8186887.2300000004," TOTAL DE SERVIDORES "]
["MT36401","WILLIAN DE FIGUEIREDO SANTOS BARBOSA","039.737.611-16","FOLHA DE PAGAMENTO","2020-01-01","TRF1 - Folha Ordinária - Janeiro/2020 - Base :TRF1.","ATIVO","MATRICULA","SEQUD","CPF","SERVIDOR","RUBRICA","VALOR ","MT36401",0,"039.737.611-16",999999,20997.26,"WILLIAN DE FIGUEIREDO SANTOS BARBOSA",439,8186887.2300000004," TOTAL DE SERVIDORES "]
["MT36454","WILSON OLIVEIRA SOBRINHO","318.413.091-68","FOLHA DE PAGAMENTO","2020-01-01","TRF1 - Folha Ordinária - Janeiro/2020 - Base :TRF1.","ATIVO","MATRICULA","SEQUD","CPF","SERVIDOR","RUBRICA","VALOR ","MT36454",0,"318.413.091-68",999999,17708.830000000002,"WILSON OLIVEIRA SOBRINHO",439,8186887.2300000004," TOTAL DE SERVIDORES "]
["MT21503","WISSES DE SOUZA CAMPOS","208.419.301-04","FOLHA DE PAGAMENTO","2020-01-01","TRF1 - Folha Ordinária - Janeiro/2020 - Base :TRF1.","ATIVO","MATRICULA","SEQUD","CPF","SERVIDOR","RUBRICA","VALOR ","MT21503",0,"208.419.301-04",999999,14253.95,"WISSES DE SOUZA CAMPOS",439,8186887.2300000004," TOTAL DE SERVIDORES "]
["MT36317","ADILZA DA CONCEICAO SILVA","326.294.861-68","FOLHA DE PAGAMENTO","2020-01-01","TRF1 - Folha Ordinária - Janeiro/2020 - Base :TRF1.","INATIVO","MATRICULA","SEQUD","CPF","SERVIDOR","RUBRICA","VALOR ","MT36317",0,"326.294.861-68",999999,18276.009999999998,"ADILZA DA CONCEICAO SILVA"]
["MT5803","ANTONIO CARLOS PORTO","427.951.761-49","FOLHA DE PAGAMENTO","2020-01-01","TRF1 - Folha Ordinária - Janeiro/2020 - Base :TRF1.","INATIVO","MATRICULA","SEQUD","CPF","SERVIDOR","RUBRICA","VALOR ","MT5803",0,"427.951.761-49",999999,10486.8,"ANTONIO CARLOS PORTO"]
["MT30203","AJAX FURQUIM NETO","102.802.781-87","FOLHA DE PAGAMENTO","2020-01-01","TRF1 - Folha Ordinária - Janeiro/2020 - Base :TRF1.","INATIVO","MATRICULA","SEQUD","CPF","SERVIDOR","RUBRICA","VALOR ","MT30203",0,"102.802.781-87",999999,10417.76,"AJAX FURQUIM NETO"]
["MT14003","ALBERTO HENRIQUE DE PAULA MENEZES","221.772.806-72","FOLHA DE PAGAMENTO","2020-01-01","TRF1 - Folha Ordinária - Janeiro/2020 - Base :TRF1.","INATIVO","MATRICULA","SEQUD","CPF","SERVIDOR","RUBRICA","VALOR ","MT14003",0,"221.772.806-72",999999,16081.72,"ALBERTO HENRIQUE DE PAULA MENEZES"]
["MT2111","ALFREDO FERREIRA DA SILVA","091.028.501-25","FOLHA DE PAGAMENTO","2020-01-01","TRF1 - Folha Ordinária - Janeiro/2020 - Base :TRF1.","INATIVO","MATRICULA","SEQUD","CPF","SERVIDOR","RUBRICA","VALOR ","MT2111",0,"091.028.501-25",999999,34922.129999999997,"ALFREDO FERREIRA DA SILVA"]
["MT10103","ALMERINDA ROSA DUARTE DE BARROS","378.746.081-00","FOLHA DE PAGAMENTO","2020-01-01","TRF1 - Folha Ordinária - Janeiro/2020 - Base :TRF1.","INATIVO","MATRICULA","SEQUD","CPF","SERVIDOR","RUBRICA","VALOR ","MT10103",0,"378.746.081-00",999999,13536.79,"ALMERINDA ROSA DUARTE DE BARROS"]
["MT8113","ANA JAEGER","423.060.009-72","FOLHA DE PAGAMENTO","2020-01-01","TRF1 - Folha Ordinária - Janeiro/2020 - Base :TRF1.","INATIVO","MATRICULA","SEQUD","CPF","SERVIDOR","RUBRICA","VALOR ","MT8113",0,"423.060.009-72",999999,16939.72,"ANA JAEGER"]
["MT13111","ANNA MONTEIRO TOSONCIN","002.179.211-91","FOLHA DE PAGAMENTO","2020-01-01","TRF1 - Folha Ordinária - Janeiro/2020 - Base :TRF1.","INATIVO","MATRICULA","SEQUD","CPF","SERVIDOR","RUBRICA","VALOR ","MT13111",0,"002.179.211-91",999999,22356.26,"ANNA MONTEIRO TOSONCIN"]
["MT8813","JACIRA PEREIRA DA SILVA","066.130.631-34","FOLHA DE PAGAMENTO","2020-01-01","TRF1 - Folha Ordinária - Janeiro/2020 - Base :TRF1.","INATIVO","MATRICULA","SEQUD","CPF","SERVIDOR","RUBRICA","VALOR ","MT8813",0,"066.130.631-34",999999,15047.02,"JACIRA PEREIRA DA SILVA"]
["MT36317","ADILZA DA CONCEICAO SILVA","326.294.861-68","FOLHA DE PAGAMENTO","2020-01-01","TRF1 - Folha Ordinária - Janeiro/2020 - Base :TRF1.","INATIVO","MATRICULA","SEQUD","CPF","SERVIDOR","RUBRICA","VALOR ","MT36317",0,"326.294.861-68",999999,18276.009999999998,"ADILZA DA CONCEICAO SILVA"]
["MT30203","AJAX FURQUIM NETO","102.802.781-87","FOLHA DE PAGAMENTO","2020-01-01","TRF1 - Folha Ordinária - Janeiro/2020 - Base :TRF1.","INATIVO","MATRICULA","SEQUD","CPF","SERVIDOR","RUBRICA","VALOR ","MT30203",0,"102.802.781-87",999999,10417.76,"AJAX FURQUIM NETO"]
["MT14003","ALBERTO HENRIQUE DE PAULA MENEZES","221.772.806-72","FOLHA DE PAGAMENTO","2020-01-01","TRF1 - Folha Ordinária - Janeiro/2020 - Base :TRF1.","INATIVO","MATRICULA","SEQUD","CPF","SERVIDOR","RUBRICA","VALOR ","MT14003",0,"221.772.806-72",999999,16081.72,"ALBERTO HENRIQUE DE PAULA MENEZES"]
["MT2111","ALFREDO FERREIRA DA SILVA","091.028.501-25","FOLHA DE PAGAMENTO","2020-01-01","TRF1 - Folha Ordinária - Janeiro/2020 - Base :TRF1.","INATIVO","MATRICULA","SEQUD","CPF","SERVIDOR","RUBRICA","VALOR ","MT2111",0,"091.028.501-25",999999,34922.129999999997,"ALFREDO FERREIRA DA SILVA"]
["MT10103","ALMERINDA ROSA DUARTE DE BARROS","378.746.081-00","FOLHA DE PAGAMENTO","2020-01-01","TRF1 - Folha Ordinária - Janeiro/2020 - Base :TRF1.","INATIVO","MATRICULA","SEQUD","CPF","SERVIDOR","RUBRICA","VALOR ","MT10103",0,"378.746.081-00",999999,13536.79,"ALMERINDA ROSA DUARTE DE BARROS"]
["MT8113","ANA JAEGER","423.060.009-72","FOLHA DE PAGAMENTO","2020-01-01","TRF1 - Folha Ordinária - Janeiro/2020 - Base :TRF1.","INATIVO","MATRICULA","SEQUD","CPF","SERVIDOR","RUBRICA","VALOR ","MT8113",0,"423.060.009-72",999999,16939.72,"ANA JAEGER"]
["MT13111","ANNA MONTEIRO TOSONCIN","002.179.211-91","FOLHA DE PAGAMENTO","2020-01-01","TRF1 - Folha Ordinária - Janeiro/2020 - Base :TRF1.","INATIVO","MATRICULA","SEQUD","CPF","SERVIDOR","RUBRICA","VALOR ","MT13111",0,"002.179.211-91",999999,22356.26,"ANNA MONTEIRO TOSONCIN"]
["MT5803","ANTONIO CARLOS PORTO","427.951.761-49","FOLHA DE PAGAMENTO","2020-01-01","TRF1 - Folha Ordinária - Janeiro/2020 - Base :TRF1.","INATIVO","MATRICULA","SEQUD","CPF","SERVIDOR","RUBRICA","VALOR ","MT5803",0,"427.951.761-49",999999,10486.8,"ANTONIO CARLOS PORTO"]
["MT17012","APARECIDA ATAIDE","029.116.498-69","FOLHA DE PAGAMENTO","2020-01-01","TRF1 - Folha Ordinária - Janeiro/2020 - Base :TRF1.","INATIVO","MATRICULA","SEQUD","CPF","SERVIDOR","RUBRICA","VALOR ","MT17012",0,"029.116.498-69",999999,4394.67,"APARECIDA ATAIDE"]
["MT1203","BENEDITA AUXILIADORA BARROS DE OLIVEIRA","452.845.981-72","FOLHA DE PAGAMENTO","2020-01-01","TRF1 - Folha Ordinária - Janeiro/2020 - Base :TRF1.","INATIVO","MATRICULA","SEQUD","CPF","SERVIDOR","RUBRICA","VALOR ","MT1203",0,"452.845.981-72",999999,34145.279999999999,"BENEDITA AUXILIADORA BARROS DE OLIVEIRA"]
["MT36410","BRAULIO MONTEIRO SALGADO","177.273.831-04","FOLHA DE PAGAMENTO","2020-01-01","TRF1 - Folha Ordinária - Janeiro/2020 - Base :TRF1.","INATIVO","MATRICULA","SEQUD","CPF","SERVIDOR","RUBRICA","VALOR ","MT36410",0,"177.273.831-04",999999,10961.25,"BRAULIO MONTEIRO SALGADO"]
["MT14303","CACIA TERESINHA MARIA RIGOTTI","460.363.850-72","FOLHA DE PAGAMENTO","2020-01-01","TRF1 - Folha Ordinária - Janeiro/2020 - Base :TRF1.","INATIVO","MATRICULA","SEQUD","CPF","SERVIDOR","RUBRICA","VALOR ","MT14303",0,"460.363.850-72",999999,11812.16,"CACIA TERESINHA MARIA RIGOTTI"]
["MT413","CARLOS HENRIQUE MOURA","086.507.211-68","FOLHA DE PAGAMENTO","2020-01-01","TRF1 - Folha Ordinária - Janeiro/2020 - Base :TRF1.","INATIVO","MATRICULA","SEQUD","CPF","SERVIDOR","RUBRICA","VALOR ","MT413",0,"086.507.211-68",999999,22956.46,"CARLOS HENRIQUE MOURA"]
["MT7513","CARLOS MAIA DE ALMEIDA","065.816.171-72","FOLHA DE PAGAMENTO","2020-01-01","TRF1 - Folha Ordinária - Janeiro/2020 - Base :TRF1.","INATIVO","MATRICULA","SEQUD","CPF","SERVIDOR","RUBRICA","VALOR ","MT7513",0,"065.816.171-72",999999,23333.200000000001,"CARLOS MAIA DE ALMEIDA"]
["MT12511","CECILIO OSORIO SERRA","021.698.941-87","FOLHA DE PAGAMENTO","2020-01-01","TRF1 - Folha Ordinária - Janeiro/2020 - Base :TRF1.","INATIVO","MATRICULA","SEQUD","CPF","SERVIDOR","RUBRICA","VALOR ","MT12511",0,"021.698.941-87",999999,28375.57,"CECILIO OSORIO SERRA"]
["MT12811","CELIA LOMBARDI CORREA TOCANTINS","001.931.431-00","FOLHA DE PAGAMENTO","2020-01-01","TRF1 - Folha Ordinária - Janeiro/2020 - Base :TRF1.","INATIVO","MATRICULA","SEQUD","CPF","SERVIDOR","RUBRICA","VALOR ","MT12811",0,"001.931.431-00",999999,30333.119999999999,"CELIA LOMBARDI CORREA TOCANTINS"]
["MT13312","CELSO DA SILVA BUENO","177.790.811-68","FOLHA DE PAGAMENTO","2020-01-01","TRF1 - Folha Ordinária - Janeiro/2020 - Base :TRF1.","INATIVO","MATRICULA","SEQUD","CPF","SERVIDOR","RUBRICA","VALOR ","MT13312",0,"177.790.811-68",999999,12842.23,"CELSO DA SILVA BUENO"]
["MT12411","DAISY SEBASTIANA RODRIGUES DE BARROS","046.061.671-49","FOLHA DE PAGAMENTO","2020-01-01","TRF1 - Folha Ordinária - Janeiro/2020 - Base :TRF1.","INATIVO","MATRICULA","SEQUD","CPF","SERVIDOR","RUBRICA","VALOR ","MT12411",0,"046.061.671-49",999999,36306.82,"DAISY SEBASTIANA RODRIGUES DE BARROS"]
["MT14812","DIVINA DE FATIMA PEREIRA","309.002.121-87","FOLHA DE PAGAMENTO","2020-01-01","TRF1 - Folha Ordinária - Janeiro/2020 - Base :TRF1.","INATIVO","MATRICULA","SEQUD","CPF","SERVIDOR","RUBRICA","VALOR ","MT14812",0,"309.002.121-87",999999,18286.04,"DIVINA DE FATIMA PEREIRA"]
["MT3903","DIVINO CELIO CARNEIRO","318.105.431-34","FOLHA DE PAGAMENTO","2020-01-01","TRF1 - Folha Ordinária - Janeiro/2020 - Base :TRF1.","INATIVO","MATRICULA","SEQUD","CPF","SERVIDOR","RUBRICA","VALOR ","MT3903",0,"318.105.431-34",999999,28244.959999999999,"DIVINO CELIO CARNEIRO"]
["MT1013","EDITH FATIMA DA SILVA","142.204.661-34","FOLHA DE PAGAMENTO","2020-01-01","TRF1 - Folha Ordinária - Janeiro/2020 - Base :TRF1.","INATIVO","MATRICULA","SEQUD","CPF","SERVIDOR","RUBRICA","VALOR ","MT1013",0,"142.204.661-34",999999,35807.71,"EDITH FATIMA DA SILVA"]
["MT36061","ELEUZA PEREIRA DOS SANTOS LIMA","205.206.701-91","FOLHA DE PAGAMENTO","2020-01-01","TRF1 - Folha Ordinária - Janeiro/2020 - Base :TRF1.","INATIVO","MATRICULA","SEQUD","CPF","SERVIDOR","RUBRICA","VALOR ","MT36061",0,"205.206.701-91",999999,10259.77,"ELEUZA PEREIRA DOS SANTOS LIMA"]
["MT17203","ELIANE XAVIER DIAS","258.340.456-34","FOLHA DE PAGAMENTO","2020-01-01","TRF1 - Folha Ordinária - Janeiro/2020 - Base :TRF1.","INATIVO","MATRICULA","SEQUD","CPF","SERVIDOR","RUBRICA","VALOR ","MT17203",0,"258.340.456-34",999999,13586.02,"ELIANE XAVIER DIAS"]
["MT3803","ESMAEL JOSE VELOSO","460.065.916-34","FOLHA DE PAGAMENTO","2020-01-01","TRF1 - Folha Ordinária - Janeiro/2020 - Base :TRF1.","INATIVO","MATRICULA","SEQUD","CPF","SERVIDOR","RUBRICA","VALOR ","MT3803",0,"460.065.916-34",999999,32350,"ESMAEL JOSE VELOSO"]
["MT4803","ESTANIA FERREIRA DE ALMEIDA","368.055.721-34","FOLHA DE PAGAMENTO","2020-01-01","TRF1 - Folha Ordinária - Janeiro/2020 - Base :TRF1.","INATIVO","MATRICULA","SEQUD","CPF","SERVIDOR","RUBRICA","VALOR ","MT4803",0,"368.055.721-34",999999,13618.12,"ESTANIA FERREIRA DE ALMEIDA"]
["MT7403","EUDES ARRUDA PORTO DE FIGUEIREDO","466.330.651-91","FOLHA DE PAGAMENTO","2020-01-01","TRF1 - Folha Ordinária - Janeiro/2020 - Base :TRF1.","INATIVO","MATRICULA","SEQUD","CPF","SERVIDOR","RUBRICA","VALOR ","MT7403",0,"466.330.651-91",999999,16342.89,"EUDES ARRUDA PORTO DE FIGUEIREDO"]
["MT6803","GLORIA FERREIRA DA SILVA MACIEL","721.912.447-34","FOLHA DE PAGAMENTO","2020-01-01","TRF1 - Folha Ordinária - Janeiro/2020 - Base :TRF1.","INATIVO","MATRICULA","SEQUD","CPF","SERVIDOR","RUBRICA","VALOR ","MT6803",0,"721.912.447-34",999999,25805.87,"GLORIA FERREIRA DA SILVA MACIEL"]
["MT2303","IVANOR PEREIRA RODRIGUES","308.600.590-49","FOLHA DE PAGAMENTO","2020-01-01","TRF1 - Folha Ordinária - Janeiro/2020 - Base :TRF1.","INATIVO","MATRICULA","SEQUD","CPF","SERVIDOR","RUBRICA","VALOR ","MT2303",0,"308.600.590-49",999999,19513.169999999998,"IVANOR PEREIRA RODRIGUES"]
["MT18403","IVETE DE OLIVEIRA","207.310.781-87","FOLHA DE PAGAMENTO","2020-01-01","TRF1 - Folha Ordinária - Janeiro/2020 - Base :TRF1.","INATIVO","MATRICULA","SEQUD","CPF","SERVIDOR","RUBRICA","VALOR ","MT18403",0,"207.310.781-87",999999,6534.73,"IVETE DE OLIVEIRA"]
["MT16803","IZABETE SANTINA LAZARIN","408.901.209-00","FOLHA DE PAGAMENTO","2020-01-01","TRF1 - Folha Ordinária - Janeiro/2020 - Base :TRF1.","INATIVO","MATRICULA","SEQUD","CPF","SERVIDOR","RUBRICA","VALOR ","MT16803",0,"408.901.209-00",999999,19271.95,"IZABETE SANTINA LAZARIN"]
["MT8813","JACIRA PEREIRA DA SILVA","066.130.631-34","FOLHA DE PAGAMENTO","2020-01-01","TRF1 - Folha Ordinária - Janeiro/2020 - Base :TRF1.","INATIVO","MATRICULA","SEQUD","CPF","SERVIDOR","RUBRICA","VALOR ","MT8813",0,"066.130.631-34",999999,15047.02,"JACIRA PEREIRA DA SILVA"]
["MT513","JANDIRA BRITO DA SILVA BROSSI","078.334.151-20","FOLHA DE PAGAMENTO","2020-01-01","TRF1 - Folha Ordinária - Janeiro/2020 - Base :TRF1.","INATIVO","MATRICULA","SEQUD","CPF","SERVIDOR","RUBRICA","VALOR ","MT513",0,"078.334.151-20",999999,29112.080000000002,"JANDIRA BRITO DA SILVA BROSSI"]
["MT35103","LUCIMARI ROSA DE JESUS","329.096.911-87","FOLHA DE PAGAMENTO","2020-01-01","TRF1 - Folha Ordinária - Janeiro/2020 - Base :TRF1.","INATIVO","MATRICULA","SEQUD","CPF","SERVIDOR","RUBRICA","VALOR ","MT35103",0,"329.096.911-87",999999,22475.15,"LUCIMARI ROSA DE JESUS"]
["MT1312","LUIZ CARLOS SOARES SILVA","137.796.991-68","FOLHA DE PAGAMENTO","2020-01-01","TRF1 - Folha Ordinária - Janeiro/2020 - Base :TRF1.","INATIVO","MATRICULA","SEQUD","CPF","SERVIDOR","RUBRICA","VALOR ","MT1312",0,"137.796.991-68",999999,24153.79,"LUIZ CARLOS SOARES SILVA"]
["MT19412","MANOEL CIPRIANO DE OLIVEIRA","244.783.692-91","FOLHA DE PAGAMENTO","2020-01-01","TRF1 - Folha Ordinária - Janeiro/2020 - Base :TRF1.","INATIVO","MATRICULA","SEQUD","CPF","SERVIDOR","RUBRICA","VALOR ","MT19412",0,"244.783.692-91",999999,23320.67,"MANOEL CIPRIANO DE OLIVEIRA"]
["MT3703","MANOEL VICENTE DE BARROS NETO","352.690.657-20","FOLHA DE PAGAMENTO","2020-01-01","TRF1 - Folha Ordinária - Janeiro/2020 - Base :TRF1.","INATIVO","MATRICULA","SEQUD","CPF","SERVIDOR","RUBRICA","VALOR ","MT3703",0,"352.690.657-20",999999,28697.53,"MANOEL VICENTE DE BARROS NETO"]
["MT3603","MARIA CELIA FABRICIO COSTA","284.770.221-00","FOLHA DE PAGAMENTO","2020-01-01","TRF1 - Folha Ordinária - Janeiro/2020 - Base :TRF1.","INATIVO","MATRICULA","SEQUD","CPF","SERVIDOR","RUBRICA","VALOR ","MT3603",0,"284.770.221-00",999999,27464.14,"MARIA CELIA FABRICIO COSTA"]
["MT12913","MARIA DA GLORIA BEZERRA CHAVES","146.407.911-00","FOLHA DE PAGAMENTO","2020-01-01","TRF1 - Folha Ordinária - Janeiro/2020 - Base :TRF1.","INATIVO","MATRICULA","SEQUD","CPF","SERVIDOR","RUBRICA","VALOR ","MT12913",0,"146.407.911-00",999999,27782.61,"MARIA DA GLORIA BEZERRA CHAVES"]
["MT1903","MARIA ELISABETH DA GAMA LOBO D ECA","376.376.811-49","FOLHA DE PAGAMENTO","2020-01-01","TRF1 - Folha Ordinária - Janeiro/2020 - Base :TRF1.","INATIVO","MATRICULA","SEQUD","CPF","SERVIDOR","RUBRICA","VALOR ","MT1903",0,"376.376.811-49",999999,19853.169999999998,"MARIA ELISABETH DA GAMA LOBO D ECA"]
["MT213","MARIA FERNANDES BARBOZA","078.246.531-53","FOLHA DE PAGAMENTO","2020-01-01","TRF1 - Folha Ordinária - Janeiro/2020 - Base :TRF1.","INATIVO","MATRICULA","SEQUD","CPF","SERVIDOR","RUBRICA","VALOR ","MT213",0,"078.246.531-53",999999,28247.63,"MARIA FERNANDES BARBOZA"]
["MT33503","MARIA JOSE DE OLIVEIRA","142.163.531-34","FOLHA DE PAGAMENTO","2020-01-01","TRF1 - Folha Ordinária - Janeiro/2020 - Base :TRF1.","INATIVO","MATRICULA","SEQUD","CPF","SERVIDOR","RUBRICA","VALOR ","MT33503",0,"142.163.531-34",999999,7662.79,"MARIA JOSE DE OLIVEIRA"]
["MT10603","MARIA LUIZA SORANO MAZZO MIORIM","080.443.528-64","FOLHA DE PAGAMENTO","2020-01-01","TRF1 - Folha Ordinária - Janeiro/2020 - Base :TRF1.","INATIVO","MATRICULA","SEQUD","CPF","SERVIDOR","RUBRICA","VALOR ","MT10603",0,"080.443.528-64",999999,30076.49,"MARIA LUIZA SORANO MAZZO MIORIM"]
["MT15903","MARIA REGINA HENRIQUES MOLINA","208.586.716-20","FOLHA DE PAGAMENTO","2020-01-01","TRF1 - Folha Ordinária - Janeiro/2020 - Base :TRF1.","INATIVO","MATRICULA","SEQUD","CPF","SERVIDOR","RUBRICA","VALOR ","MT15903",0,"208.586.716-20",999999,24347.45,"MARIA REGINA HENRIQUES MOLINA"]
["MT15011","MARIZA RODRIGUES TUNES","708.980.491-72","FOLHA DE PAGAMENTO","2020-01-01","TRF1 - Folha Ordinária - Janeiro/2020 - Base :TRF1.","INATIVO","MATRICULA","SEQUD","CPF","SERVIDOR","RUBRICA","VALOR ","MT15011",0,"708.980.491-72",999999,15811.45,"MARIZA RODRIGUES TUNES"]
["MT8703","NAIRA RODRIGUES DE MELO","143.262.991-34","FOLHA DE PAGAMENTO","2020-01-01","TRF1 - Folha Ordinária - Janeiro/2020 - Base :TRF1.","INATIVO","MATRICULA","SEQUD","CPF","SERVIDOR","RUBRICA","VALOR ","MT8703",0,"143.262.991-34",999999,33199.58,"NAIRA RODRIGUES DE MELO"]
["MT9603","NILA SUELI PRADO DE BARROS","937.955.218-15","FOLHA DE PAGAMENTO","2020-01-01","TRF1 - Folha Ordinária - Janeiro/2020 - Base :TRF1.","INATIVO","MATRICULA","SEQUD","CPF","SERVIDOR","RUBRICA","VALOR ","MT9603",0,"937.955.218-15",999999,13139.75,"NILA SUELI PRADO DE BARROS"]
["MT17703","NILSON DE ALMEIDA","545.517.731-15","FOLHA DE PAGAMENTO","2020-01-01","TRF1 - Folha Ordinária - Janeiro/2020 - Base :TRF1.","INATIVO","MATRICULA","SEQUD","CPF","SERVIDOR","RUBRICA","VALOR ","MT17703",0,"545.517.731-15",999999,10846.35,"NILSON DE ALMEIDA"]
["MT2213","NILZA MARIA TEIXEIRA COSTA SOARES","103.216.671-15","FOLHA DE PAGAMENTO","2020-01-01","TRF1 - Folha Ordinária - Janeiro/2020 - Base :TRF1.","INATIVO","MATRICULA","SEQUD","CPF","SERVIDOR","RUBRICA","VALOR ","MT2213",0,"103.216.671-15",999999,20397.04,"NILZA MARIA TEIXEIRA COSTA SOARES"]
["MT2903","OSVALDO KAZUYUKI FUGIYAMA","031.385.988-46","FOLHA DE PAGAMENTO","2020-01-01","TRF1 - Folha Ordinária - Janeiro/2020 - Base :TRF1.","INATIVO","MATRICULA","SEQUD","CPF","SERVIDOR","RUBRICA","VALOR ","MT2903",0,"031.385.988-46",999999,39959.230000000003,"OSVALDO KAZUYUKI FUGIYAMA"]
["MT703","PALMYRA LOPES GARDES PEDROSO","161.538.201-15","FOLHA DE PAGAMENTO","2020-01-01","TRF1 - Folha Ordinária - Janeiro/2020 - Base :TRF1.","INATIVO","MATRICULA","SEQUD","CPF","SERVIDOR","RUBRICA","VALOR ","MT703",0,"161.538.201-15",999999,30288.32,"PALMYRA LOPES GARDES PEDROSO"]
["MT6903","PAULO HENRIQUE DE OLIVEIRA JUNIOR","207.897.341-68","FOLHA DE PAGAMENTO","2020-01-01","TRF1 - Folha Ordinária - Janeiro/2020 - Base :TRF1.","INATIVO","MATRICULA","SEQUD","CPF","SERVIDOR","RUBRICA","VALOR ","MT6903",0,"207.897.341-68",999999,27257.81,"PAULO HENRIQUE DE OLIVEIRA JUNIOR"]
[{"$f":"N518","v":"MT1803"},{"$f":"S518","v":"PAULO ONEZIO MARTINS"},{"$f":"P518","v":"084.619.451-15"},"FOLHA DE PAGAMENTO","2020-01-01","TRF1 - Folha Ordinária - Janeiro/2020 - Base :TRF1.","INATIVO","MATRICULA","SEQUD","CPF","SERVIDOR","RUBRICA","VALOR ","MT1803",0,"084.619.451-15",999999,16633.46,"PAULO ONEZIO MARTINS"]
["MT13703","ROMAO NUNES DA SILVA FILHO","241.332.051-20","FOLHA DE PAGAMENTO","2020-01-01","TRF1 - Folha Ordinária - Janeiro/2020 - Base :TRF1.","INATIVO","MATRICULA","SEQUD","CPF","SERVIDOR","RUBRICA","VALOR ","MT13703",0,"241.332.051-20",999999,17411.689999999999,"ROMAO NUNES DA SILVA FILHO"]
["MT7003","ROSELENE PEREIRA DOS SANTOS","292.759.381-72","FOLHA DE PAGAMENTO","2020-01-01","TRF1 - Folha Ordinária - Janeiro/2020 - Base :TRF1.","INATIVO","MATRICULA","SEQUD","CPF","SERVIDOR","RUBRICA","VALOR ","MT7003",0,"292.759.381-72",999999,23422.41,"ROSELENE PEREIRA DOS SANTOS"]
["MT14403","SANDRA HATAMURA CARDOSO","521.565.169-87","FOLHA DE PAGAMENTO","2020-01-01","TRF1 - Folha Ordinária - Janeiro/2020 - Base :TRF1.","INATIVO","MATRICULA","SEQUD","CPF","SERVIDOR","RUBRICA","VALOR ","MT14403",0,"521.565.169-87",999999,20935.560000000001,"SANDRA HATAMURA CARDOSO"]
["MT3503","SYLVIA VICTORINO ALVES CORREA","109.033.301-30","FOLHA DE PAGAMENTO","2020-01-01","TRF1 - Folha Ordinária - Janeiro/2020 - Base :TRF1.","INATIVO","MATRICULA","SEQUD","CPF","SERVIDOR","RUBRICA","VALOR ","MT3503",0,"109.033.301-30",999999,13315.3,"SYLVIA VICTORINO ALVES CORREA"]
["MT11803","URSOLINO PEREIRA DE FREITAS","022.410.721-68","FOLHA DE PAGAMENTO","2020-01-01","TRF1 - Folha Ordinária - Janeiro/2020 - Base :TRF1.","INATIVO","MATRICULA","SEQUD","CPF","SERVIDOR","RUBRICA","VALOR ","MT11803",0,"022.410.721-68",999999,24654.42,"URSOLINO PEREIRA DE FREITAS"]
["MT613","WILMA REGINA DE ALMEIDA PEREIRA","104.608.881-53","FOLHA DE PAGAMENTO","2020-01-01","TRF1 - Folha Ordinária - Janeiro/2020 - Base :TRF1.","INATIVO","MATRICULA","SEQUD","CPF","SERVIDOR","RUBRICA","VALOR ","MT613",0,"104.608.881-53",999999,16253.5,"WILMA REGINA DE ALMEIDA PEREIRA"]
["MT3003","WILSON SOARES DA CONCEICAO","207.723.941-72","FOLHA DE PAGAMENTO","2020-01-01","TRF1 - Folha Ordinária - Janeiro/2020 - Base :TRF1.","INATIVO","MATRICULA","SEQUD","CPF","SERVIDOR","RUBRICA","VALOR ","MT3003",0,"207.723.941-72",999999,13913.39,"WILSON SOARES DA CONCEICAO"]
["MT24103","ZENAIDE COSTA","327.801.331-04","FOLHA DE PAGAMENTO","2020-01-01","TRF1 - Folha Ordinária - Janeiro/2020 - Base :TRF1.","INATIVO","MATRICULA","SEQUD","CPF","SERVIDOR","RUBRICA","VALOR ","MT24103",0,"327.801.331-04",999999,28953.17,"ZENAIDE COSTA"]
["MT2712","VALDELICE DE FATIMA MARTINS","460.165.971-04","FOLHA DE PAGAMENTO","2020-01-01","TRF1 - Folha Ordinária - Janeiro/2020 - Base :TRF1.","PENSIONISTA CIVIL","MATRICULA","SEQUD","CPF","SERVIDOR","RUBRICA","VALOR ","MT2712",7,"460.165.971-04",999999,13576.37,"VALDELICE DE FATIMA MARTINS"]
["MT818","ALZIRA TABORDA DE MORAES","318.620.041-53","FOLHA DE PAGAMENTO","2020-01-01","TRF1 - Folha Ordinária - Janeiro/2020 - Base :TRF1.","PENSIONISTA CIVIL","MATRICULA","SEQUD","CPF","SERVIDOR","RUBRICA","VALOR ","MT818",1,"318.620.041-53",999999,15967.75,"ALZIRA TABORDA DE MORAES"]
["MT111","ANA ROSA OLIVEIRA AMORIM","977.051.281-87","FOLHA DE PAGAMENTO","2020-01-01","TRF1 - Folha Ordinária - Janeiro/2020 - Base :TRF1.","PENSIONISTA CIVIL","MATRICULA","SEQUD","CPF","SERVIDOR","RUBRICA","VALOR ","MT111",1,"977.051.281-87",999999,20621.2,"ANA ROSA OLIVEIRA AMORIM"]
["MT1103","ANABEL SEBA","298.656.461-53","FOLHA DE PAGAMENTO","2020-01-01","TRF1 - Folha Ordinária - Janeiro/2020 - Base :TRF1.","PENSIONISTA CIVIL","MATRICULA","SEQUD","CPF","SERVIDOR","RUBRICA","VALOR ","MT1103",8,"298.656.461-53",999999,12040.23,"ANABEL SEBA"]
["MT9218","CLOTILDES ALVES JUVENAL","550.046.011-00","FOLHA DE PAGAMENTO","2020-01-01","TRF1 - Folha Ordinária - Janeiro/2020 - Base :TRF1.","PENSIONISTA CIVIL","MATRICULA","SEQUD","CPF","SERVIDOR","RUBRICA","VALOR ","MT9218",1,"550.046.011-00",999999,20485.37,"CLOTILDES ALVES JUVENAL"]
["MT26803","DANIEL MELO DOS PASSOS","038.846.471-21","FOLHA DE PAGAMENTO","2020-01-01","TRF1 - Folha Ordinária - Janeiro/2020 - Base :TRF1.","PENSIONISTA CIVIL","MATRICULA","SEQUD","CPF","SERVIDOR","RUBRICA","VALOR ","MT26803",3,"038.846.471-21",999999,2514.15,"DANIEL MELO DOS PASSOS"]
["MT903","EDERZILA BARROS DE OLIVEIRA DA SILVA","109.078.231-49","FOLHA DE PAGAMENTO","2020-01-01","TRF1 - Folha Ordinária - Janeiro/2020 - Base :TRF1.","PENSIONISTA CIVIL","MATRICULA","SEQUD","CPF","SERVIDOR","RUBRICA","VALOR ","MT903",5,"109.078.231-49",999999,8944.02,"EDERZILA BARROS DE OLIVEIRA DA SILVA"]
["MT26803","ESTER MELO DOS PASSOS","010.923.961-01","FOLHA DE PAGAMENTO","2020-01-01","TRF1 - Folha Ordinária - Janeiro/2020 - Base :TRF1.","PENSIONISTA CIVIL","MATRICULA","SEQUD","CPF","SERVIDOR","RUBRICA","VALOR ","MT26803",2,"010.923.961-01",999999,2514.15,"ESTER MELO DOS PASSOS"]
["MT36462","HELOISA ANDRADE DE OLIVEIRA","711.334.931-57","FOLHA DE PAGAMENTO","2020-01-01","TRF1 - Folha Ordinária - Janeiro/2020 - Base :TRF1.","PENSIONISTA CIVIL","MATRICULA","SEQUD","CPF","SERVIDOR","RUBRICA","VALOR ","MT36462",1,"711.334.931-57",999999,1250.49,"HELOISA ANDRADE DE OLIVEIRA"]
["MT1418","JANDIRA BRITO DA SILVA BROSSI","078.334.151-20","FOLHA DE PAGAMENTO","2020-01-01","TRF1 - Folha Ordinária - Janeiro/2020 - Base :TRF1.","PENSIONISTA CIVIL","MATRICULA","SEQUD","CPF","SERVIDOR","RUBRICA","VALOR ","MT1418",1,"078.334.151-20",999999,18819.919999999998,"JANDIRA BRITO DA SILVA BROSSI"]
["MT36462","LUCAS ANDRADE DE SOUSA","710.668.171-70","FOLHA DE PAGAMENTO","2020-01-01","TRF1 - Folha Ordinária - Janeiro/2020 - Base :TRF1.","PENSIONISTA CIVIL","MATRICULA","SEQUD","CPF","SERVIDOR","RUBRICA","VALOR ","MT36462",3,"710.668.171-70",999999,1250.49,"LUCAS ANDRADE DE SOUSA"]
["MT12711","MARLUCE GARDES MONTEIRO","631.795.711-87","FOLHA DE PAGAMENTO","2020-01-01","TRF1 - Folha Ordinária - Janeiro/2020 - Base :TRF1.","PENSIONISTA CIVIL","MATRICULA","SEQUD","CPF","SERVIDOR","RUBRICA","VALOR ","MT12711",4,"631.795.711-87",999999,27455,"MARLUCE GARDES MONTEIRO"]
["MT903","NEUZA LEITE DA SILVA","282.689.381-53","FOLHA DE PAGAMENTO","2020-01-01","TRF1 - Folha Ordinária - Janeiro/2020 - Base :TRF1.","PENSIONISTA CIVIL","MATRICULA","SEQUD","CPF","SERVIDOR","RUBRICA","VALOR ","MT903",6,"282.689.381-53",999999,7636.8,"NEUZA LEITE DA SILVA"]
["MT12618","ROSALINA AREVOLO PIRES","138.512.331-15","FOLHA DE PAGAMENTO","2020-01-01","TRF1 - Folha Ordinária - Janeiro/2020 - Base :TRF1.","PENSIONISTA CIVIL","MATRICULA","SEQUD","CPF","SERVIDOR","RUBRICA","VALOR ","MT12618",1,"138.512.331-15",999999,28905.26,"ROSALINA AREVOLO PIRES"]
["MT26803","SILVILENE BRITO DE MELO","593.309.612-15","FOLHA DE PAGAMENTO","2020-01-01","TRF1 - Folha Ordinária - Janeiro/2020 - Base :TRF1.","PENSIONISTA CIVIL","MATRICULA","SEQUD","CPF","SERVIDOR","RUBRICA","VALOR ","MT26803",1,"593.309.612-15",999999,4880.24,"SILVILENE BRITO DE MELO"]
["MT36462","THAYSE DA SILVA OLIVEIRA","963.612.711-53","FOLHA DE PAGAMENTO","2020-01-01","TRF1 - Folha Ordinária - Janeiro/2020 - Base :TRF1.","PENSIONISTA CIVIL","MATRICULA","SEQUD","CPF","SERVIDOR","RUBRICA","VALOR ","MT36462",2,"963.612.711-53",999999,1250.49,"THAYSE DA SILVA OLIVEIRA"]
["MT36368","ELIANE CRISTINE DA COSTA MAGALHAES","411.818.161-49","FOLHA DE PAGAMENTO","2020-01-01","TRF1 - Folha Ordinária - Janeiro/2020 - Base :TRF1.","CELETISTA","MATRICULA","SEQUD","CPF","SERVIDOR","RUBRICA","VALOR ","MT36368",0,"411.818.161-49",999999,2592.86,"ELIANE CRISTINE DA COSTA MAGALHAES",6,63198.68," TOTAL DE SERVIDORES "]
["MT36046","GLAUCIA LANZA SPRICIDO","760.565.381-68","FOLHA DE PAGAMENTO","2020-01-01","TRF1 - Folha Ordinária - Janeiro/2020 - Base :TRF1.","CELETISTA","MATRICULA","SEQUD","CPF","SERVIDOR","RUBRICA","VALOR ","MT36046",0,"760.565.381-68",999999,17149.03,"GLAUCIA LANZA SPRICIDO",6,63198.68," TOTAL DE SERVIDORES "]
["MT36484","JANIAMAR FERNANDES DE SOUSA","073.777.794-03","FOLHA DE PAGAMENTO","2020-01-01","TRF1 - Folha Ordinária - Janeiro/2020 - Base :TRF1.","CELETISTA","MATRICULA","SEQUD","CPF","SERVIDOR","RUBRICA","VALOR ","MT36484",0,"073.777.794-03",999999,17165.28,"JANIAMAR FERNANDES DE SOUSA",6,63198.68," TOTAL DE SERVIDORES "]
["MT36470","MARICELIA DE ARRUDA LINO LACHMAN","522.452.411-34","FOLHA DE PAGAMENTO","2020-01-01","TRF1 - Folha Ordinária - Janeiro/2020 - Base :TRF1.","CELETISTA","MATRICULA","SEQUD","CPF","SERVIDOR","RUBRICA","VALOR ","MT36470",0,"522.452.411-34",999999,2868.37,"MARICELIA DE ARRUDA LINO LACHMAN",6,63198.68," TOTAL DE SERVIDORES "]
["MT36395","RAFAEL FERREIRA AZARA","024.743.411-61","FOLHA DE PAGAMENTO","2020-01-01","TRF1 - Folha Ordinária - Janeiro/2020 - Base :TRF1.","CELETISTA","MATRICULA","SEQUD","CPF","SERVIDOR","RUBRICA","VALOR ","MT36395",0,"024.743.411-61",999999,20830.28,"RAFAEL FERREIRA AZARA",6,63198.68," TOTAL DE SERVIDORES "]
["MT36431","SATIRA MARIA ARCANJA DA SILVA","030.935.235-59","FOLHA DE PAGAMENTO","2020-01-01","TRF1 - Folha Ordinária - Janeiro/2020 - Base :TRF1.","CELETISTA","MATRICULA","SEQUD","CPF","SERVIDOR","RUBRICA","VALOR ","MT36431",0,"030.935.235-59",999999,2592.86,"SATIRA MARIA ARCANJA DA SILVA",6,63198.68," TOTAL DE SERVIDORES "]
["MT818","ALZIRA TABORDA DE MORAES","318.620.041-53","FOLHA DE PAGAMENTO","2020-01-01","TRF1 - Folha Ordinária - Janeiro/2020 - Base :TRF1.","PENSIONISTA CIVIL","MATRICULA","SEQUD","CPF","SERVIDOR","RUBRICA","VALOR ","MT818",1,"318.620.041-53",999999,15967.75,"ALZIRA TABORDA DE MORAES",16,188111.93," TOTAL DE SERVIDORES "]
["MT111","ANA ROSA OLIVEIRA AMORIM","977.051.281-87","FOLHA DE PAGAMENTO","2020-01-01","TRF1 - Folha Ordinária - Janeiro/2020 - Base :TRF1.","PENSIONISTA CIVIL","MATRICULA","SEQUD","CPF","SERVIDOR","RUBRICA","VALOR ","MT111",1,"977.051.281-87",999999,20621.2,"ANA ROSA OLIVEIRA AMORIM",16,188111.93," TOTAL DE SERVIDORES "]
["MT1103","ANABEL SEBA","298.656.461-53","FOLHA DE PAGAMENTO","2020-01-01","TRF1 - Folha Ordinária - Janeiro/2020 - Base :TRF1.","PENSIONISTA CIVIL","MATRICULA","SEQUD","CPF","SERVIDOR","RUBRICA","VALOR ","MT1103",8,"298.656.461-53",999999,12040.23,"ANABEL SEBA",16,188111.93," TOTAL DE SERVIDORES "]
["MT9218","CLOTILDES ALVES JUVENAL","550.046.011-00","FOLHA DE PAGAMENTO","2020-01-01","TRF1 - Folha Ordinária - Janeiro/2020 - Base :TRF1.","PENSIONISTA CIVIL","MATRICULA","SEQUD","CPF","SERVIDOR","RUBRICA","VALOR ","MT9218",1,"550.046.011-00",999999,20485.37,"CLOTILDES ALVES JUVENAL",16,188111.93," TOTAL DE SERVIDORES "]
["MT26803","DANIEL MELO DOS PASSOS","038.846.471-21","FOLHA DE PAGAMENTO","2020-01-01","TRF1 - Folha Ordinária - Janeiro/2020 - Base :TRF1.","PENSIONISTA CIVIL","MATRICULA","SEQUD","CPF","SERVIDOR","RUBRICA","VALOR ","MT26803",3,"038.846.471-21",999999,2514.15,"DANIEL MELO DOS PASSOS",16,188111.93," TOTAL DE SERVIDORES "]
["MT903","EDERZILA BARROS DE OLIVEIRA DA SILVA","109.078.231-49","FOLHA DE PAGAMENTO","2020-01-01","TRF1 - Folha Ordinária - Janeiro/2020 - Base :TRF1.","PENSIONISTA CIVIL","MATRICULA","SEQUD","CPF","SERVIDOR","RUBRICA","VALOR ","MT903",5,"109.078.231-49",999999,8944.02,"EDERZILA BARROS DE OLIVEIRA DA SILVA",16,188111.93," TOTAL DE SERVIDORES "]
["MT26803","ESTER MELO DOS PASSOS","010.923.961-01","FOLHA DE PAGAMENTO","2020-01-01","TRF1 - Folha Ordinária - Janeiro/2020 - Base :TRF1.","PENSIONISTA CIVIL","MATRICULA","SEQUD","CPF","SERVIDOR","RUBRICA","VALOR ","MT26803",2,"010.923.961-01",999999,2514.15,"ESTER MELO DOS PASSOS",16,188111.93," TOTAL DE SERVIDORES "]
["MT36462","HELOISA ANDRADE DE OLIVEIRA","711.334.931-57","FOLHA DE PAGAMENTO","2020-01-01","TRF1 - Folha Ordinária - Janeiro/2020 - Base :TRF1.","PENSIONISTA CIVIL","MATRICULA","SEQUD","CPF","SERVIDOR","RUBRICA","VALOR ","MT36462",1,"711.334.931-57",999999,1250.49,"HELOISA ANDRADE DE OLIVEIRA",16,188111.93," TOTAL DE SERVIDORES "]
["MT1418","JANDIRA BRITO DA SILVA BROSSI","078.334.151-20","FOLHA DE PAGAMENTO","2020-01-01","TRF1 - Folha Ordinária - Janeiro/2020 - Base :TRF1.","PENSIONISTA CIVIL","MATRICULA","SEQUD","CPF","SERVIDOR","RUBRICA","VALOR ","MT1418",1,"078.334.151-20",999999,18819.919999999998,"JANDIRA BRITO DA SILVA BROSSI",16,188111.93," TOTAL DE SERVIDORES "]
["MT36462","LUCAS ANDRADE DE SOUSA","710.668.171-70","FOLHA DE PAGAMENTO","2020-01-01","TRF1 - Folha Ordinária - Janeiro/2020 - Base :TRF1.","PENSIONISTA CIVIL","MATRICULA","SEQUD","CPF","SERVIDOR","RUBRICA","VALOR ","MT36462",3,"710.668.171-70",999999,1250.49,"LUCAS ANDRADE DE SOUSA",16,188111.93," TOTAL DE SERVIDORES "]
["MT12711","MARLUCE GARDES MONTEIRO","631.795.711-87","FOLHA DE PAGAMENTO","2020-01-01","TRF1 - Folha Ordinária - Janeiro/2020 - Base :TRF1.","PENSIONISTA CIVIL","MATRICULA","SEQUD","CPF","SERVIDOR","RUBRICA","VALOR ","MT12711",4,"631.795.711-87",999999,27455,"MARLUCE GARDES MONTEIRO",16,188111.93," TOTAL DE SERVIDORES "]
["MT903","NEUZA LEITE DA SILVA","282.689.381-53","FOLHA DE PAGAMENTO","2020-01-01","TRF1 - Folha Ordinária - Janeiro/2020 - Base :TRF1.","PENSIONISTA CIVIL","MATRICULA","SEQUD","CPF","SERVIDOR","RUBRICA","VALOR ","MT903",6,"282.689.381-53",999999,7636.8,"NEUZA LEITE DA SILVA",16,188111.93," TOTAL DE SERVIDORES "]
["MT12618","ROSALINA AREVOLO PIRES","138.512.331-15","FOLHA DE PAGAMENTO","2020-01-01","TRF1 - Folha Ordinária - Janeiro/2020 - Base :TRF1.","PENSIONISTA CIVIL","MATRICULA","SEQUD","CPF","SERVIDOR","RUBRICA","VALOR ","MT12618",1,"138.512.331-15",999999,28905.26,"ROSALINA AREVOLO PIRES",16,188111.93," TOTAL DE SERVIDORES "]
["MT26803","SILVILENE BRITO DE MELO","593.309.612-15","FOLHA DE PAGAMENTO","2020-01-01","TRF1 - Folha Ordinária - Janeiro/2020 - Base :TRF1.","PENSIONISTA CIVIL","MATRICULA","SEQUD","CPF","SERVIDOR","RUBRICA","VALOR ","MT26803",1,"593.309.612-15",999999,4880.24,"SILVILENE BRITO DE MELO",16,188111.93," TOTAL DE SERVIDORES "]
["MT36462","THAYSE DA SILVA OLIVEIRA","963.612.711-53","FOLHA DE PAGAMENTO","2020-01-01","TRF1 - Folha Ordinária - Janeiro/2020 - Base :TRF1.","PENSIONISTA CIVIL","MATRICULA","SEQUD","CPF","SERVIDOR","RUBRICA","VALOR ","MT36462",2,"963.612.711-53",999999,1250.49,"THAYSE DA SILVA OLIVEIRA",16,188111.93," TOTAL DE SERVIDORES "]
["MT2712","VALDELICE DE FATIMA MARTINS","460.165.971-04","FOLHA DE PAGAMENTO","2020-01-01","TRF1 - Folha Ordinária - Janeiro/2020 - Base :TRF1.","PENSIONISTA CIVIL","MATRICULA","SEQUD","CPF","SERVIDOR","RUBRICA","VALOR ","MT2712",7,"460.165.971-04",999999,13576.37,"VALDELICE DE FATIMA MARTINS",16,188111.93," TOTAL DE SERVIDORES "]
["MT36414","ALINE GUEDES DA SILVA","817.311.751-91","FOLHA DE PAGAMENTO","2020-01-01","TRF1 - Folha Ordinária - Janeiro/2020 - Base :TRF1.","SERVIDOR REMOVIDO","MATRICULA","SEQUD","CPF","SERVIDOR","RUBRICA","VALOR ","MT36414",0,"817.311.751-91",999999,1035.6300000000001,"ALINE GUEDES DA SILVA",1,1035.6300000000001," TOTAL DE SERVIDORES "]
["JU651","RODRIGO GASIGLIA DE SOUZA","897.828.951-72"]
["DF1277703","JOSÉ AFONSO PIRES FERREIRA JÚNIOR","444.020.311-68"]
[0,0,0]
[0,0,0]
[0,0,0]
[0,0,0]
[0,0,0]
[0,0,0]
[0,0,0]
[0,0,0]
[0,0,0]
[0,0,0]
[0,0,0]
[0,0,0]
[0,0,0]
[0,0,0]
[{"$f":"N582","v":0},{"$f":"S582","v":0},{"$f":"P582","v":0}]
[0,0,0]
[0,0,0]
[0,0,0]
[0,0,0]
[0,0,0]
[0,0,0]
[0,0,0]
[0,0,0]
[0,0,0]
[0,0,0]
[0,0,0]
[0,0,0]
[0,0,0]
[0,0,0]
[0,0,0]
[0,0,0]
[0,0,0]
[0,0,0]
[0,0,0]
[0,0,0]
[0,0,0]
[0,0,0]
[0,0,0]
[0,0,0]
[0,0,0]
[0,0,0]
[0,0,0]
[0,0,0]
[0,0,0]
[0,0,0]
[0,0,0]
[0,0,0]
[0,0,0]
[0,0,0]
[0,0,0]
[0,0,0]
[0,0,0]
[0,0,0]
[0,0,0]
[0,0,0]
[0,0,0]
[0,0,0]
[0,0,0]
[0,0,0]
[0,0,0]
[0,0,0]
[0,0,0]
[0,0,0]
[0,0,0]
[0,0,0]
[0,0,0]
[0,0,0]
[0,0,0]
[0,0,0]
[0,0,0]
[0,0,0]
[0,0,0]
[0,0,0]
[0,0,0]
[0,0,0]
[0,0,0]
[0,0,0]
[0,0,0]
[{"$f":"N646","v":0},{"$f":"S646","v":0},{"$f":"P646","v":0}]
[0,0,0]
[0,0,0]
[0,0,0]
[0,0,0]
[0,0,0]
[0,0,0]
[0,0,0]
[0,0,0]
[0,0,0]
[0,0,0]
[0,0,0]
[0,0,0]
[0,0,0]
[0,0,0]
[0,0,0]
[0,0,0]
[0,0,0]
[0,0,0]
[0,0,0]
[0,0,0]
[0,0,0]
[0,0,0]
[0,0,0]
[0,0,0]
[0,0,0]
[0,0,0]
[0,0,0]
[0,0,0]
[0,0,0]
[0,0,0]
[0,0,0]
[0,0,0]
[0,0,0]
[0,0,0]
[0,0,0]
[0,0,0]
[0,0,0]
[0,0,0]
[0,0,0]
[0,0,0]
[0,0,0]
[0,0,0]
[0,0,0]
[0,0,0]
[0,0,0]
[0,0,0]
[0,0,0]
[0,0,0]
[0,0,0]
[0,0,0]
[0,0,0]
[0,0,0]
[0,0,0]
[0,0,0]
[0,0,0]
[0,0,0]
[0,0,0]
[0,0,0]
[0,0,0]
[0,0,0]
[0,0,0]
[0,0,0]
[0,0,0]
[{"$f":"N710","v":0},{"$f":"S710","v":0},{"$f":"P710","v":0}]
[0,0,0]
[0,0,0]
[0,0,0]
[0,0,0]
[0,0,0]
[0,0,0]
[0,0,0]
[0,0,0]
[0,0,0]
[0,0,0]
[0,0,0]
[0,0,0]
[0,0,0]
[0,0,0]
[0,0,0]
[0,0,0]
[0,0,0]
[0,0,0]
[0,0,0]
[0,0,0]
[0,0,0]
[0,0,0]
[0,0,0]
[0,0,0]
[0,0,0]
[0,0,0]
[0,0,0]
[0,0,0]
[0,0,0]
[0,0,0]
[0,0,0]
[0,0,0]
[0,0,0]
[0,0,0]
[0,0,0]
[0,0,0]
[0,0,0]
[0,0,0]
[0,0,0]
[0,0,0]
[0,0,0]
[0,0,0]
[0,0,0]
[0,0,0]
[0,0,0]
[0,0,0]
[0,0,0]
[0,0,0]
[0,0,0]
[0,0,0]
[0,0,0]
[0,0,0]
[0,0,0]
[0,0,0]
[0,0,0]
[0,0,0]
[0,0,0]
[0,0,0]
[0,0,0]
[0,0,0]
[0,0,0]
[0,0,0]
[0,0,0]
[{"$f":"N774","v":0},{"$f":"S774","v":0},{"$f":"P774","v":0}]
[0,0,0]
[0,0,0]
[0,0,0]
[0,0,0]
[0,0,0]
[0,0,0]
[0,0,0]
[0,0,0]
[0,0,0]
[0,0,0]
[0,0,0]
[0,0,0]
[0,0,0]
[0,0,0]
[0,0,0]
[0,0,0]
[0,0,0]
[0,0,0]
[0,0,0]
[0,0,0]
[0,0,0]
[0,0,0]
[0,0,0]
[0,0,0]
[0,0,0]
[0,0,0]
[0,0,0]
[0,0,0]
[0,0,0]
[0,0,0]
[0,0,0]
[0,0,0]
[0,0,0]
[0,0,0]
[0,0,0]
[0,0,0]
[0,0,0]
[0,0,0]
[0,0,0]
[0,0,0]
[0,0,0]
[0,0,0]
[0,0,0]
[0,0,0]
[0,0,0]
[0,0,0]
[0,0,0]
[0,0,0]
[0,0,0]
[0,0,0]
[0,0,0]
[0,0,0]
[0,0,0]
[0,0,0]
[0,0,0]
[0,0,0]
[0,0,0]
[0,0,0]
[0,0,0]
[0,0,0]
[0,0,0]
[0,0,0]
[0,0,0]
[{"$f":"N838","v":0},{"$f":"S838","v":0},{"$f":"P838","v":0}]
[0,0,0]
[0,0,0]
[0,0,0]
[0,0,0]
[0,0,0]
[0,0,0]
[0,0,0]
[0,0,0]
[0,0,0]
[0,0,0]
[0,0,0]
[0,0,0]
[0,0,0]
[0,0,0]
[0,0,0]
[0,0,0]
[0,0,0]
[0,0,0]
[0,0,0]
[0,0,0]
[0,0,0]
[0,0,0]
[0,0,0]
[0,0,0]
[0,0,0]
[0,0,0]
[0,0,0]
[0,0,0]
[0,0,0]
[0,0,0]
[0,0,0]
[0,0,0]
[0,0,0]
[0,0,0]
[0,0,0]
[0,0,0]
[0,0,0]
[0,0,0]
[0,0,0]
[0,0,0]
[0,0,0]
[0,0,0]
[0,0,0]
[0,0,0]
[0,0,0]
[0,0,0]
[0,0,0]
[0,0,0]
[0,0,0]
[0,0,0]
[0,0,0]
[0,0,0]
[0,0,0]
[0,0,0]
[0,0,0]
[0,0,0]
[0,0,0]
[0,0,0]
[0,0,0]
[0,0,0]
[0,0,0]
[0,0,0]
[0,0,0]
[{"$f":"N902","v":0},{"$f":"S902","v":0},{"$f":"P902","v":0}]
[0,0,0]
[0,0,0]
[0,0,0]
[0,0,0]
[0,0,0]
[0,0,0]
[0,0,0]
[0,0,0]
[0,0,0]
[0,0,0]
[0,0,0]
[0,0,0]
[0,0,0]
[0,0,0]
[0,0,0]
[0,0,0]
[0,0,0]
[0,0,0]
[0,0,0]
[0,0,0]
[0,0,0]
[0,0,0]
[0,0,0]
[0,0,0]
[0,0,0]
[0,0,0]
[0,0,0]
[0,0,0]
[0,0,0]
[0,0,0]
[0,0,0]
[0,0,0]
[0,0,0]
[0,0,0]
[0,0,0]
[0,0,0]
[0,0,0]
[0,0,0]
[0,0,0]
[0,0,0]
[0,0,0]
[0,0,0]
[0,0,0]
[0,0,0]
[0,0,0]
[0,0,0]
[0,0,0]
[0,0,0]
[0,0,0]
[0,0,0]
[0,0,0]
[0,0,0]
[0,0,0]
[0,0,0]
[0,0,0]
[0,0,0]
[0,0,0]
[0,0,0]
[0,0,0]
[0,0,0]
[0,0,0]
[0,0,0]
[0,0,0]
[{"$f":"N966","v":0},{"$f":"S966","v":0},{"$f":"P966","v":0}]
[0,0,0]
[0,0,0]
[0,0,0]
[0,0,0]
[0,0,0]
[0,0,0]
[0,0,0]
[0,0,0]
[0,0,0]
[0,0,0]
[0,0,0]
[0,0,0]
[0,0,0]
[0,0,0]
[0,0,0]
[0,0,0]
[0,0,0]
[0,0,0]
[0,0,0]
[0,0,0]
[0,0,0]
[0,0,0]
[0,0,0]
[0,0,0]
[0,0,0]
[0,0,0]
[0,0,0]
[0,0,0]
[0,0,0]
[0,0,0]
[0,0,0]
[0,0,0]
[0,0,0]
[0,0,0]
[0,0,0]
[0,0,0]
[0,0,0]
[0,0,0]
[0,0,0]
[0,0,0]
[0,0,0]
[0,0,0]
[0,0,0]
[0,0,0]
[0,0,0]
[0,0,0]
[0,0,0]
[0,0,0]
[0,0,0]
[0,0,0]
[0,0,0]
[0,0,0]
[0,0,0]
[0,0,0]
[0,0,0]
[0,0,0]
[0,0,0]
[0,0,0]
[0,0,0]
[0,0,0]
[0,0,0]
[0,0,0]
[0,0,0]
[{"$f":"N1030","v":0},{"$f":"S1030","v":0},{"$f":"P1030","v":0}]
[0,0,0]
[0,0,0]
[0,0,0]
[0,0,0]
[0,0,0]
[0,0,0]
[0,0,0]
[0,0,0]
[0,0,0]
[0,0,0]
[0,0,0]
[0,0,0]
[0,0,0]
[0,0,0]
[0,0,0]
[0,0,0]
[0,0,0]
[0,0,0]
[0,0,0]
[0,0,0]
[0,0,0]
[0,0,0]
[0,0,0]
[0,0,0]
[0,0,0]
[0,0,0]
[0,0,0]
[0,0,0]
[0,0,0]
[0,0,0]
[0,0,0]
[0,0,0]
[0,0,0]
[0,0,0]
[0,0,0]
[0,0,0]
[0,0,0]
[0,0,0]
[0,0,0]
[0,0,0]
[0,0,0]
[0,0,0]
[0,0,0]
[0,0,0]
[0,0,0]
[0,0,0]
[0,0,0]
[0,0,0]
[0,0,0]
[0,0,0]
[0,0,0]
[0,0,0]
[0,0,0]
[0,0,0]
[0,0,0]
[0,0,0]
[0,0,0]
[0,0,0]
[0,0,0]
[0,0,0]
[0,0,0]
[0,0,0]
[0,0,0]
[{"$f":"N1094","v":0},{"$f":"S1094","v":0},{"$f":"P1094","v":0}]
[0,0,0]
[0,0,0]
[0,0,0]
[0,0,0]
[0,0,0]
[0,0,0]
[0,0,0]
[0,0,0]
[0,0,0]
[0,0,0]
[0,0,0]
[0,0,0]
[0,0,0]
[0,0,0]
[0,0,0]
[0,0,0]
[0,0,0]
[0,0,0]
[0,0,0]
[0,0,0]
[0,0,0]
[0,0,0]
[0,0,0]
[0,0,0]
[0,0,0]
[0,0,0]
[0,0,0]
[0,0,0]
[0,0,0]
[0,0,0]
[0,0,0]
[0,0,0]
[0,0,0]
[0,0,0]
[0,0,0]
[0,0,0]
[0,0,0]
[0,0,0]
[0,0,0]
[0,0,0]
[0,0,0]
[0,0,0]
[0,0,0]
[0,0,0]
[0,0,0]
[0,0,0]
[0,0,0]
[0,0,0]
[0,0,0]
[0,0,0]
[0,0,0]
[0,0,0]
[0,0,0]
[0,0,0]
[0,0,0]
[0,0,0]
[0,0,0]
[0,0,0]
[0,0,0]
[0,0,0]
[0,0,0]
[0,0,0]
[0,0,0]
[{"$f":"N1158","v":0},{"$f":"S1158","v":0},{"$f":"P1158","v":0}]
[0,0,0]
[0,0,0]
[0,0,0]
[0,0,0]
[0,0,0]
[0,0,0]
[0,0,0]
[0,0,0]
[0,0,0]
[0,0,0]
[0,0,0]
[0,0,0]
[0,0,0]
[0,0,0]
[0,0,0]
[0,0,0]
[0,0,0]
[0,0,0]
[0,0,0]
[0,0,0]
[0,0,0]
[0,0,0]
[0,0,0]
[0,0,0]
[0,0,0]
[0,0,0]
[0,0,0]
[0,0,0]
[0,0,0]
[0,0,0]
[0,0,0]
[0,0,0]
[0,0,0]
[0,0,0]
[0,0,0]
[0,0,0]
[0,0,0]
[0,0,0]
[0,0,0]
[0,0,0]
[0,0,0]
[0,0,0]
[0,0,0]
[0,0,0]
[0,0,0]
[0,0,0]
[0,0,0]
[0,0,0]
[0,0,0]
[0,0,0]
[0,0,0]
[0,0,0]
[0,0,0]
[0,0,0]
[0,0,0]
[0,0,0]
[0,0,0]
[0,0,0]
[0,0,0]
[0,0,0]
[0,0,0]
[0,0,0]
[0,0,0]
[{"$f":"N1222","v":0},{"$f":"S1222","v":0},{"$f":"P1222","v":0}]
[0,0,0]
[0,0,0]
[0,0,0]
[0,0,0]
[0,0,0]
[0,0,0]
[0,0,0]
[0,0,0]
[0,0,0]
[0,0,0]
[0,0,0]
[0,0,0]
[0,0,0]
[0,0,0]
[0,0,0]
[0,0,0]
[0,0,0]
[0,0,0]
[0,0,0]
[0,0,0]
[0,0,0]
[0,0,0]
[0,0,0]
[0,0,0]
[0,0,0]
[0,0,0]
[0,0,0]
[0,0,0]
[0,0,0]
[0,0,0]
[0,0,0]
[0,0,0]
[0,0,0]
[0,0,0]
[0,0,0]
[0,0,0]
[0,0,0]
[0,0,0]
[0,0,0]
[0,0,0]
[0,0,0]
[0,0,0]
[0,0,0]
[0,0,0]
[0,0,0]
[0,0,0]
[0,0,0]
[0,0,0]
[0,0,0]
[0,0,0]
[0,0,0]
[0,0,0]
[0,0,0]
[0,0,0]
[0,0,0]
[0,0,0]
[0,0,0]
[0,0,0]
[0,0,0]
[0,0,0]
[0,0,0]
[0,0,0]
[0,0,0]
[{"$f":"N1286","v":0},{"$f":"S1286","v":0},{"$f":"P1286","v":0}]
[0,0,0]
[0,0,0]
[0,0,0]
[0,0,0]
[0,0,0]
[0,0,0]
[0,0,0]
[0,0,0]
[0,0,0]
[0,0,0]
[0,0,0]
[0,0,0]
[0,0,0]
[0,0,0]
[0,0,0]
[0,0,0]
[0,0,0]
[0,0,0]
[0,0,0]
[0,0,0]
[0,0,0]
[0,0,0]
[0,0,0]
[0,0,0]
[0,0,0]
[0,0,0]
[0,0,0]
[0,0,0]
[0,0,0]
[0,0,0]
[0,0,0]
[0,0,0]
[0,0,0]
[0,0,0]
[0,0,0]
[0,0,0]
[0,0,0]
[0,0,0]
[0,0,0]
[0,0,0]
[0,0,0]
[0,0,0]
[0,0,0]
[0,0,0]
[0,0,0]
[0,0,0]
[0,0,0]
[0,0,0]
[0,0,0]
[0,0,0]
[0,0,0]
[0,0,0]
[0,0,0]
[0,0,0]
[0,0,0]
[0,0,0]
[0,0,0]
[0,0,0]
[0,0,0]
[0,0,0]
[0,0,0]
[0,0,0]
[0,0,0]
[{"$f":"N1350","v":0},{"$f":"S1350","v":0},{"$f":"P1350","v":0}]
[0,0,0]
[0,0,0]
[0,0,0]
[0,0,0]
[0,0,0]
[0,0,0]
[0,0,0]
[0,0,0]
[0,0,0]
[0,0,0]
[0,0,0]
[0,0,0]
[0,0,0]
[0,0,0]
[0,0,0]
[0,0,0]
[0,0,0]
[0,0,0]
[0,0,0]
[0,0,0]
[0,0,0]
[0,0,0]
[0,0,0]
[0,0,0]
[0,0,0]
[0,0,0]
[0,0,0]
[0,0,0]
[0,0,0]
[0,0,0]
[0,0,0]
[0,0,0]
[0,0,0]
[0,0,0]
[0,0,0]
[0,0,0]
[0,0,0]
[0,0,0]
[0,0,0]
[0,0,0]
[0,0,0]
[0,0,0]
[0,0,0]
[0,0,0]
[0,0,0]
[0,0,0]
[0,0,0]
[0,0,0]
[0,0,0]
[0,0,0]
[0,0,0]
[0,0,0]
[0,0,0]
[0,0,0]
[0,0,0]
[0,0,0]
[0,0,0]
[0,0,0]
[0,0,0]
[0,0,0]
[0,0,0]
[0,0,0]
[0,0,0]
[{"$f":"N1414","v":0},{"$f":"S1414","v":0},{"$f":"P1414","v":0}]
[0,0,0]
[0,0,0]
[0,0,0]
[0,0,0]
[0,0,0]
[0,0,0]
[0,0,0]
[0,0,0]
[0,0,0]
[0,0,0]
[0,0,0]
[0,0,0]
[0,0,0]
[0,0,0]
[0,0,0]
[0,0,0]
[0,0,0]
[0,0,0]
[0,0,0]
[0,0,0]
[0,0,0]
[0,0,0]
[0,0,0]
[0,0,0]
[0,0,0]
[0,0,0]
[0,0,0]
[0,0,0]
[0,0,0]
[0,0,0]
[0,0,0]
[0,0,0]
[0,0,0]
[0,0,0]
[0,0,0]
[0,0,0]
[0,0,0]
[0,0,0]
[0,0,0]
[0,0,0]
[0,0,0]
[0,0,0]
[0,0,0]
[0,0,0]
[0,0,0]
[0,0,0]
[0,0,0]
[0,0,0]
[0,0,0]
[0,0,0]
[0,0,0]
[0,0,0]
[0,0,0]
[0,0,0]
[0,0,0]
[0,0,0]
[0,0,0]
[0,0,0]
[0,0,0]
[0,0,0]
[0,0,0]
[0,0,0]
[0,0,0]
[{"$f":"N1478","v":0},{"$f":"S1478","v":0},{"$f":"P1478","v":0}]
[0,0,0]
[0,0,0]
[0,0,0]
[0,0,0]
[0,0,0]
[0,0,0]
[0,0,0]
[0,0,0]
[0,0,0]
[0,0,0]
[0,0,0]
[0,0,0]
[0,0,0]
[0,0,0]
[0,0,0]
[0,0,0]
[0,0,0]
[0,0,0]
[0,0,0]
[0,0,0]
[0,0,0]
[0,0,0]
[0,0,0]
[0,0,0]
[0,0,0]
[0,0,0]
[0,0,0]
[0,0,0]
[0,0,0]
[0,0,0]
[0,0,0]
[0,0,0]
[0,0,0]
[0,0,0]
[0,0,0]
[0,0,0]
[0,0,0]
[0,0,0]
[0,0,0]
[0,0,0]
[0,0,0]
[0,0,0]
[0,0,0]
[0,0,0]
[0,0,0]
[0,0,0]
[0,0,0]
[0,0,0]
[0,0,0]
[0,0,0]
[0,0,0]
[0,0,0]
[0,0,0]
[0,0,0]
[0,0,0]
[0,0,0]
[0,0,0]
[0,0,0]
[0,0,0]
[0,0,0]
[0,0,0]
[0,0,0]
[0,0,0]
[{"$f":"N1542","v":0},{"$f":"S1542","v":0},{"$f":"P1542","v":0}]
[0,0,0]
[0,0,0]
[0,0,0]
[0,0,0]
[0,0,0]
[0,0,0]
[0,0,0]
[0,0,0]
[0,0,0]
[0,0,0]
[0,0,0]
[0,0,0]
[0,0,0]
[0,0,0]
[0,0,0]
[0,0,0]
[0,0,0]
[0,0,0]
[0,0,0]
[0,0,0]
[0,0,0]
[0,0,0]
[0,0,0]
[0,0,0]
[0,0,0]
[0,0,0]
[0,0,0]
[0,0,0]
[0,0,0]
[0,0,0]
[0,0,0]
[0,0,0]
[0,0,0]
[0,0,0]
[0,0,0]
[0,0,0]
[0,0,0]
[0,0,0]
[0,0,0]
[0,0,0]
[0,0,0]
[0,0,0]
[0,0,0]
[0,0,0]
[0,0,0]
[0,0,0]
[0,0,0]
[0,0,0]
[0,0,0]
[0,0,0]
[0,0,0]
[0,0,0]
[0,0,0]
[0,0,0]
[0,0,0]
[0,0,0]
[0,0,0]
[0,0,0]
[0,0,0]
[0,0,0]
[0,0,0]
[0,0,0]
[0,0,0]
[{"$f":"N1606","v":0},{"$f":"S1606","v":0},{"$f":"P1606","v":0}]
[0,0,0]
[0,0,0]
[0,0,0]
[0,0,0]
[0,0,0]
[0,0,0]
[0,0,0]
[0,0,0]
[0,0,0]
[0,0,0]
[0,0,0]
[0,0,0]
[0,0,0]
[0,0,0]
[0,0,0]
[0,0,0]
[0,0,0]
[0,0,0]
[0,0,0]
[0,0,0]
[0,0,0]
[0,0,0]
[0,0,0]
[0,0,0]
[0,0,0]
[0,0,0]
[0,0,0]
[0,0,0]
[0,0,0]
[0,0,0]
[0,0,0]
[0,0,0]
[0,0,0]
[0,0,0]
[0,0,0]
[0,0,0]
[0,0,0]
[0,0,0]
[0,0,0]
[0,0,0]
[0,0,0]
[0,0,0]
[0,0,0]
[0,0,0]
[0,0,0]
[0,0,0]
[0,0,0]
[0,0,0]
[0,0,0]
[0,0,0]
[0,0,0]
[0,0,0]
[0,0,0]
[0,0,0]
[0,0,0]
[0,0,0]
[0,0,0]
[0,0,0]
[0,0,0]
[0,0,0]
[0,0,0]
[0,0,0]
[0,0,0]
[{"$f":"N1670","v":0},{"$f":"S1670","v":0},{"$f":"P1670","v":0}]
[0,0,0]
[0,0,0]
[0,0,0]
[0,0,0]
[0,0,0]
[0,0,0]
[0,0,0]
[0,0,0]
[0,0,0]
[0,0,0]
[0,0,0]
[0,0,0]
[0,0,0]
[0,0,0]
[0,0,0]
[0,0,0]
[0,0,0]
[0,0,0]
[0,0,0]
[0,0,0]
[0,0,0]
[0,0,0]
[0,0,0]
[0,0,0]
[0,0,0]
[0,0,0]
[0,0,0]
[0,0,0]
[0,0,0]
[0,0,0]
[0,0,0]
[0,0,0]
[0,0,0]
[0,0,0]
[0,0,0]
[0,0,0]
[0,0,0]
[0,0,0]
[0,0,0]
[0,0,0]
[0,0,0]
[0,0,0]
[0,0,0]
[0,0,0]
[0,0,0]
[0,0,0]
[0,0,0]
[0,0,0]
[0,0,0]
[0,0,0]
[0,0,0]
[0,0,0]
[0,0,0]
[0,0,0]
[0,0,0]
[0,0,0]
[0,0,0]
[0,0,0]
[0,0,0]
[0,0,0]
[0,0,0]
[0,0,0]
[0,0,0]
[{"$f":"N1734","v":0},{"$f":"S1734","v":0},{"$f":"P1734","v":0}]
[0,0,0]
[0,0,0]
[0,0,0]
[0,0,0]
[0,0,0]
[0,0,0]
[0,0,0]
[0,0,0]
[0,0,0]
[0,0,0]
[0,0,0]
[0,0,0]
[0,0,0]
[0,0,0]
[0,0,0]
[0,0,0]
[0,0,0]
[0,0,0]
[0,0,0]
[0,0,0]
[0,0,0]
[0,0,0]
[0,0,0]
[0,0,0]
[0,0,0]
[0,0,0]
[0,0,0]
[0,0,0]
[0,0,0]
[0,0,0]
[0,0,0]
[0,0,0]
[0,0,0]
[0,0,0]
[0,0,0]
[0,0,0]
[0,0,0]
[0,0,0]
[0,0,0]
[0,0,0]
[0,0,0]
[0,0,0]
[0,0,0]
[0,0,0]
[0,0,0]
[0,0,0]
[0,0,0]
[0,0,0]
[0,0,0]
[0,0,0]
[0,0,0]
[0,0,0]
[0,0,0]
[0,0,0]
[0,0,0]
[0,0,0]
[0,0,0]
[0,0,0]
[0,0,0]
[0,0,0]
[0,0,0]
[0,0,0]
[0,0,0]
[{"$f":"N1798","v":0},{"$f":"S1798","v":0},{"$f":"P1798","v":0}]
[0,0,0]
[0,0,0]
[0,0,0]
[0,0,0]
[0,0,0]
[0,0,0]
[0,0,0]
[0,0,0]
[0,0,0]
[0,0,0]
[0,0,0]
[0,0,0]
[0,0,0]
[0,0,0]
[0,0,0]
[0,0,0]
[0,0,0]
[0,0,0]
[0,0,0]
[0,0,0]
[0,0,0]
[0,0,0]
[0,0,0]
[0,0,0]
[0,0,0]
[0,0,0]
[0,0,0]
[0,0,0]
[0,0,0]
[0,0,0]
[0,0,0]
[0,0,0]
[0,0,0]
[0,0,0]
[0,0,0]
[0,0,0]
[0,0,0]
[0,0,0]
[0,0,0]
[0,0,0]
[0,0,0]
[0,0,0]
[0,0,0]
[0,0,0]
[0,0,0]
[0,0,0]
[0,0,0]
[0,0,0]
[0,0,0]
[0,0,0]
[0,0,0]
[0,0,0]
[0,0,0]
[0,0,0]
[0,0,0]
[0,0,0]
[0,0,0]
[0,0,0]
[0,0,0]
[0,0,0]
[0,0,0]
[0,0,0]
[0,0,0]
[{"$f":"N1862","v":0},{"$f":"S1862","v":0},{"$f":"P1862","v":0}]
[0,0,0]
[0,0,0]
[0,0,0]
[0,0,0]
[0,0,0]
[0,0,0]
[0,0,0]
[0,0,0]
[0,0,0]
[0,0,0]
[0,0,0]
[0,0,0]
[0,0,0]
[0,0,0]
[0,0,0]
[0,0,0]
[0,0,0]
[0,0,0]
[0,0,0]
[0,0,0]
[0,0,0]
[0,0,0]
[0,0,0]
[0,0,0]
[0,0,0]
[0,0,0]
[0,0,0]
[0,0,0]
[0,0,0]
[0,0,0]
[0,0,0]
[0,0,0]
[0,0,0]
[0,0,0]
[0,0,0]
[0,0,0]
[0,0,0]
[0,0,0]
[0,0,0]
[0,0,0]
[0,0,0]
[0,0,0]
[0,0,0]
[0,0,0]
[0,0,0]
[0,0,0]
[0,0,0]
[0,0,0]
[0,0,0]
[0,0,0]
[0,0,0]
[0,0,0]
[0,0,0]
[0,0,0]
[0,0,0]
[0,0,0]
[0,0,0]
[0,0,0]
[0,0,0]
[0,0,0]
[0,0,0]
[0,0,0]
[0,0,0]
[{"$f":"N1926","v":0},{"$f":"S1926","v":0},{"$f":"P1926","v":0}]
[0,0,0]
[0,0,0]
[0,0,0]
[0,0,0]
[0,0,0]
[0,0,0]
[0,0,0]
[0,0,0]
[0,0,0]
[0,0,0]
[0,0,0]
[0,0,0]
[0,0,0]
[0,0,0]
[0,0,0]
[0,0,0]
[0,0,0]
[0,0,0]
[0,0,0]
[0,0,0]
[0,0,0]
[0,0,0]
[0,0,0]
[0,0,0]
[0,0,0]
[0,0,0]
[0,0,0]
[0,0,0]
[0,0,0]
[0,0,0]
[0,0,0]
[0,0,0]
[0,0,0]
[0,0,0]
[0,0,0]
[0,0,0]
[0,0,0]
[0,0,0]
[0,0,0]
[0,0,0]
[0,0,0]
[0,0,0]
[0,0,0]
[0,0,0]
[0,0,0]
[0,0,0]
[0,0,0]
[0,0,0]
[0,0,0]
[0,0,0]
[0,0,0]
[0,0,0]
[0,0,0]
[0,0,0]
[0,0,0]
[0,0,0]
[0,0,0]
[0,0,0]
[0,0,0]
[0,0,0]
[0,0,0]
[0,0,0]
[0,0,0]
[{"$f":"N1990","v":0},{"$f":"S1990","v":0},{"$f":"P1990","v":0}]
[0,0,0]
[0,0,0]
[0,0,0]
[0,0,0]
[0,0,0]
[0,0,0]
[0,0,0]
[0,0,0]
[0,0,0]
[0,0,0]

{"sheet":"REFERÊNCIA","index":4,"n_rows":13,"n_cols":2,"rows_kept":13,"cut":false,"hidden":true,"merged":[]}
[]
["JANEIRO","PAG."]
["FEVEREIRO","REST."]
["MARÇO"]
["ABRIL"]
["MAIO"]
["JUNHO"]
["JULHO"]
["AGOSTO"]
["SETEMBRO"]
["OUTUBRO"]
["NOVEMBRO"]
["DEZEMBRO"]

{"sheet":"temp","index":5,"n_rows":5,"n_cols":4,"rows_kept":5,"cut":false,"hidden":false,"merged":[]}
["matricula","data_inicio","data_fim","valor"]
["MT36094","2019-12-02","2019-12-06",1732.89]
["MT36104","2019-12-08","2019-12-10",1515]
["JU621","2019-12-09","2019-12-13",3150]
["MT36376","2019-11-26","2019-11-26",211.86]